Uber Exif Photo
Make : Leica Camera AG
Camera Model Name : M9 Digital Camera
Orientation : Horizontal (normal)
Software : ACD Systems Digital Imaging
Modify Date : 2011:07:10 22:05:00
Exposure Time : 1/125
F Number : 4.0
Exposure Program : Manual
ISO : 160
Date/Time Original : 2011:06:11 18:29:15
Create Date : 2011:06:11 18:29:15
Shutter Speed Value : 1/125
Aperture Value : 4.0
Exposure Compensation : 0
Max Aperture Value : 2.8
Metering Mode : Center-weighted average
Light Source : Unknown
Flash : No Flash
Focal Length : 50.0 mm
Contrast : Normal
Sharpening : Normal
Saturation : Normal
White Balance : Auto
JPEG Quality : Fine
WB RGB Levels : 0.4721749906 1 0.7302549474
User Profile : Profile 1
JPEG Size : 5216x3472
Serial Number : 3907096
Firmware Version : 1.138
Base ISO : 160
Sensor Width : 5270
Sensor Height : 3516
Sensor Bit Depth : 14
Camera Temperature : 30 C
Lens Type : Elmar-M 50mm f/2.8
Approximate F Number : 4.0
Measured LV : 2.64
External Sensor Brightness Value : 1.82
Exif Image Width : 1000
Exif Image Height : 702
Scene Type : Directly photographed
Exposure Mode : Manual
Digital Zoom Ratio : 0
Focal Length In 35mm Format : 50 mm
Scene Capture Type : Standard
Profile Description : sRGB IEC61966-2.1
Creator Tool : Adobe Photoshop Lightroom 3.4.1
Lens : Leica Elmar-M 50mm f/2.8
Date Created : 2011:06:11 18:29:15
Version : 6.4.1
Process Version : 5.7
Color Temperature : 4550
Tint : +5
Exposure : +1.17
Shadows : 4
Brightness : +79
Sharpness : 25
Luminance Smoothing : 0
Color Noise Reduction : 25
Chromatic Aberration R : 0
Chromatic Aberration B : 0
Vignette Amount : 0
Shadow Tint : 0
Red Hue : 0
Red Saturation : 0
Green Hue : 0
Green Saturation : 0
Blue Hue : 0
Blue Saturation : 0
Fill Light : 0
Vibrance : 0
Highlight Recovery : 53
Clarity : 0
Defringe : 0
Hue Adjustment Red : -3
Hue Adjustment Orange : -19
Hue Adjustment Yellow : -19
Hue Adjustment Green : 0
Hue Adjustment Aqua : 0
Hue Adjustment Blue : +18
Hue Adjustment Purple : 0
Hue Adjustment Magenta : 0
Saturation Adjustment Red : 0
Saturation Adjustment Orange : 0
Saturation Adjustment Yellow : 0
Saturation Adjustment Green : 0
Saturation Adjustment Aqua : 0
Saturation Adjustment Blue : 0
Saturation Adjustment Purple : 0
Saturation Adjustment Magenta : 0
Luminance Adjustment Red : 0
Luminance Adjustment Orange : -30
Luminance Adjustment Yellow : -53
Luminance Adjustment Green : 0
Luminance Adjustment Aqua : 0
Luminance Adjustment Blue : 0
Luminance Adjustment Purple : 0
Luminance Adjustment Magenta : 0
Split Toning Shadow Hue : 0
Split Toning Shadow Saturation : 0
Split Toning Highlight Hue : 0
Split Toning Highlight Saturation : 0
Split Toning Balance : 0
Parametric Shadows : 0
Parametric Darks : 0
Parametric Lights : 0
Parametric Highlights : 0
Parametric Shadow Split : 25
Parametric Midtone Split : 50
Parametric Highlight Split : 75
Sharpen Radius : +1.0
Sharpen Detail : 25
Sharpen Edge Masking : 0
Post Crop Vignette Amount : 0
Grain Amount : 0
Color Noise Reduction Detail : 50
Lens Profile Enable : 0
Lens Manual Distortion Amount : 0
Perspective Vertical : 0
Perspective Horizontal : 0
Perspective Rotate : 0.0
Perspective Scale : 100
Convert To Grayscale : False
Tone Curve Name : Medium Contrast
Camera Profile : Adobe Standard
Lens Profile Setup : LensDefaults
Has Settings : True
Crop Top : 0.142308
Crop Left : 0.102302
Crop Bottom : 1
Crop Right : 0.915601
Crop Angle : 0
Crop Constrain To Warp : 0
Crop Width : 4239
Crop Height : 2974
Crop Unit : pixels
Has Crop : True
Already Applied : True
Tone Curve : 0, 0, 32, 22, 64, 56, 128, 128, 192, 196, 255, 255
Image Width : 300
Image Height : 211
Bits Per Sample : 8
Color Components : 3
Aperture : 4.0
Blue Balance : 0.730255
Image Size : 300x211
Lens ID : Elmar-M 50mm f/2.8
Megapixels : 0.063
Red Balance : 0.472175
Scale Factor To 35 mm Equivalent : 1.0
Shutter Speed : 1/125
Modify Date : 2011:07:10 22:05:00.697
Circle Of Confusion : 0.030 mm
Field Of View : 39.6 deg
Focal Length : 50.0 mm (35 mm equivalent: 50.0 mm)
Hyperfocal Distance : 20.80 m
Light Value : 10.3