Uber Exif Photo
Make : Leica Camera AG
Camera Model Name : M9 Digital Camera
Software : 1.162
Modify Date : 2011:07:19 09:41:04
Exposure Time : 1/60
F Number : 2.0
Exposure Program : Aperture-priority AE
ISO : 1250
Date/Time Original : 2011:07:18 20:25:30
Create Date : 2011:07:18 20:25:30
Shutter Speed Value : 1/60
Aperture Value : 2.0
Exposure Compensation : 0
Max Aperture Value : 2.0
Metering Mode : Center-weighted average
Light Source : Unknown
Focal Length : 35.0 mm
Contrast : Normal
Sharpening : Normal
Saturation : Normal
White Balance : Auto
JPEG Quality : Fine
WB RGB Levels : 0.6535822563 1 0.5712890966
User Profile : Night 2
JPEG Size : 5216x3472
Serial Number : 3835786
Firmware Version : 1.162
Base ISO : 160
Sensor Width : 5270
Sensor Height : 3516
Sensor Bit Depth : 14
Camera Temperature : 20 C
Lens Type : Summicron-M 35mm f/2 (IV)
Approximate F Number : 2.0
Measured LV : 1.59
External Sensor Brightness Value : -0.72
Scene Type : Directly photographed
Exposure Mode : Manual
Digital Zoom Ratio : 0
Focal Length In 35mm Format : 35 mm
Scene Capture Type : Standard
Maker Note Safety : Safe
Date/Time Digitized : 2011:07:18 20:25:30-07:00
Exif Image Width : 2925
Exif Image Height : 4396
Creator Tool : 1.162
Rating : 3
Lens : Leica Summicron-M 35mm f/2 (IV)
Raw File Name : L1003749.DNG
Version : 6.0
Process Version : 5.7
Color Temperature : 2850
Tint : -32
Exposure : 0.00
Shadows : 0
Brightness : +99
Sharpness : 0
Luminance Smoothing : 0
Color Noise Reduction : 25
Chromatic Aberration R : 0
Chromatic Aberration B : 0
Vignette Amount : 0
Shadow Tint : 0
Red Hue : 0
Red Saturation : 0
Green Hue : 0
Green Saturation : 0
Blue Hue : 0
Blue Saturation : 0
Fill Light : 0
Highlight Recovery : 63
Clarity : -23
Defringe : 0
Gray Mixer Red : +17
Gray Mixer Orange : +12
Gray Mixer Yellow : 0
Gray Mixer Green : 0
Gray Mixer Aqua : 0
Gray Mixer Blue : 0
Gray Mixer Purple : 0
Gray Mixer Magenta : 0
Split Toning Shadow Hue : 0
Split Toning Shadow Saturation : 0
Split Toning Highlight Hue : 0
Split Toning Highlight Saturation : 0
Split Toning Balance : 0
Parametric Shadows : -20
Parametric Darks : +17
Parametric Lights : +13
Parametric Highlights : -23
Parametric Shadow Split : 25
Parametric Midtone Split : 50
Parametric Highlight Split : 75
Sharpen Radius : +1.0
Sharpen Detail : 25
Sharpen Edge Masking : 0
Post Crop Vignette Amount : -9
Post Crop Vignette Midpoint : 50
Post Crop Vignette Feather : 50
Post Crop Vignette Roundness : 0
Post Crop Vignette Style : Highlight Priority
Post Crop Vignette Highlight Contrast : 0
Grain Amount : 0
Color Noise Reduction Detail : 50
Convert To Grayscale : True
Tone Curve Name : Medium Contrast
Camera Profile : Adobe Standard
Has Settings : True
Crop Top : 0.129278
Crop Left : 0.07445
Crop Bottom : 0.938542
Crop Right : 0.932482
Crop Angle : -1.528171
Has Crop : True
Already Applied : True
Flash Fired : False
Flash Return : No return detection
Flash Mode : Unknown
Flash Function : False
Flash Red Eye Mode : False
Tone Curve : 0, 0, 32, 22, 64, 56, 128, 128, 192, 196, 255, 255
Image Width : 200
Image Height : 300
Bits Per Sample : 8
Color Components : 1
Aperture : 2.0
Blue Balance : 0.571289
Image Size : 200x300
Lens ID : Summicron-M 35mm f/2 (IV)
Megapixels : 0.060
Red Balance : 0.653582
Scale Factor To 35 mm Equivalent : 1.0
Shutter Speed : 1/60
Flash : No Flash
Circle Of Confusion : 0.030 mm
Field Of View : 54.4 deg
Focal Length : 35.0 mm (35 mm equivalent: 35.0 mm)
Hyperfocal Distance : 20.39 m
Light Value : 4.3