Uber Exif Photo
Make : Leica Camera AG
Camera Model Name : M9 Digital Camera
Software : Adobe Photoshop Lightroom 3.4.1
Modify Date : 2011:07:29 23:06:27
Exposure Time : 1/180
F Number : 5.7
Exposure Program : Aperture-priority AE
ISO : 400
Date/Time Original : 2011:07:29 19:38:22
Create Date : 2011:07:29 19:38:22
Shutter Speed Value : 1/180
Aperture Value : 5.7
Exposure Compensation : -0.332
Max Aperture Value : 4.0
Metering Mode : Center-weighted average
Light Source : Other
Flash : No Flash
Focal Length : 135.0 mm
Contrast : Normal
Sharpening : Normal
Saturation : Normal
White Balance : Manual
JPEG Quality : Fine
WB RGB Levels : 0.4492705934 1 0.8030585237
User Profile : Profile 1
JPEG Size : 5216x3472
Firmware Version : 1.162
Base ISO : 160
Sensor Width : 5270
Sensor Height : 3516
Sensor Bit Depth : 14
Camera Temperature : 25 C
Lens Type : Tele-Elmar-M 135mm f/4 (II)
Approximate F Number : 5.0
Measured LV : 3.29
External Sensor Brightness Value : 3.44
Scene Type : Directly photographed
Exposure Mode : Manual
Digital Zoom Ratio : 0
Focal Length In 35mm Format : 135 mm
Scene Capture Type : Standard
Serial Number : 3907096
Lens Model : Leica Macro-Elmar-M 90mm f/4
Maker Note Safety : Safe
Profile Description : sRGB IEC61966-2.1
Creator Tool : Adobe Photoshop Lightroom 3.4.1
Lens : Leica Macro-Elmar-M 90mm f/4
Date Created : 2011:07:29 19:38:22
Version : 6.4.1
Process Version : 5.7
Color Temperature : 5150
Tint : 0
Exposure : 0.00
Shadows : 5
Brightness : +50
Sharpness : 66
Luminance Smoothing : 44
Color Noise Reduction : 25
Chromatic Aberration R : 0
Chromatic Aberration B : 0
Vignette Amount : 0
Shadow Tint : 0
Red Hue : 0
Red Saturation : 0
Green Hue : 0
Green Saturation : 0
Blue Hue : 0
Blue Saturation : 0
Fill Light : 0
Vibrance : +41
Highlight Recovery : 0
Clarity : 0
Defringe : 0
Hue Adjustment Red : 0
Hue Adjustment Orange : -18
Hue Adjustment Yellow : -18
Hue Adjustment Green : 0
Hue Adjustment Aqua : 0
Hue Adjustment Blue : +18
Hue Adjustment Purple : 0
Hue Adjustment Magenta : 0
Saturation Adjustment Red : 0
Saturation Adjustment Orange : 0
Saturation Adjustment Yellow : 0
Saturation Adjustment Green : 0
Saturation Adjustment Aqua : 0
Saturation Adjustment Blue : 0
Saturation Adjustment Purple : 0
Saturation Adjustment Magenta : 0
Luminance Adjustment Red : 0
Luminance Adjustment Orange : 0
Luminance Adjustment Yellow : 0
Luminance Adjustment Green : 0
Luminance Adjustment Aqua : 0
Luminance Adjustment Blue : 0
Luminance Adjustment Purple : 0
Luminance Adjustment Magenta : 0
Split Toning Shadow Hue : 0
Split Toning Shadow Saturation : 0
Split Toning Highlight Hue : 0
Split Toning Highlight Saturation : 0
Split Toning Balance : 0
Parametric Shadows : 0
Parametric Darks : 0
Parametric Lights : 0
Parametric Highlights : 0
Parametric Shadow Split : 25
Parametric Midtone Split : 50
Parametric Highlight Split : 75
Sharpen Radius : +1.0
Sharpen Detail : 25
Sharpen Edge Masking : 0
Post Crop Vignette Amount : 0
Grain Amount : 0
Luminance Noise Reduction Detail : 50
Color Noise Reduction Detail : 50
Luminance Noise Reduction Contrast : 32
Lens Profile Enable : 0
Lens Manual Distortion Amount : 0
Perspective Vertical : 0
Perspective Horizontal : 0
Perspective Rotate : 0.0
Perspective Scale : 100
Convert To Grayscale : False
Tone Curve Name : Medium Contrast
Camera Profile : Adobe Standard
Lens Profile Setup : LensDefaults
Has Settings : True
Crop Top : 0.296495
Crop Left : 0.21176
Crop Bottom : 0.903505
Crop Right : 0.716628
Crop Angle : 0
Crop Constrain To Warp : 0
Crop Width : 2631
Crop Height : 2105
Crop Unit : pixels
Has Crop : True
Already Applied : True
Tone Curve : 0, 0, 32, 22, 64, 56, 128, 128, 192, 196, 255, 255
Image Width : 300
Image Height : 240
Bits Per Sample : 8
Color Components : 3
Aperture : 5.7
Blue Balance : 0.803059
Image Size : 300x240
Lens ID : Tele-Elmar-M 135mm f/4 (II)
Megapixels : 0.072
Red Balance : 0.449271
Scale Factor To 35 mm Equivalent : 1.0
Shutter Speed : 1/180
Circle Of Confusion : 0.030 mm
Field Of View : 15.2 deg
Focal Length : 135.0 mm (35 mm equivalent: 135.0 mm)
Hyperfocal Distance : 106.41 m
Light Value : 10.5