Uber Exif Photo
Caption-Abstract : EPSON DSC Picture
Image Description : EPSON DSC Picture
Make : SEIKO EPSON CORP.
Camera Model Name : R-D1
Software : Adobe Photoshop Lightroom 3.4.1
Modify Date : 2011:09:21 13:32:31
Exposure Time : 1/80
Exposure Program : Aperture-priority AE
ISO : 1600
Date/Time Original : 2011:09:17 19:56:35
Create Date : 2011:09:17 19:56:35
Shutter Speed Value : 1/80
Exposure Compensation : 0
Metering Mode : Center-weighted average
Light Source : Unknown
Flash : No flash function
Color Space : Uncalibrated
Scene Type : Directly photographed
Custom Rendered : Normal
Exposure Mode : Auto
White Balance : Auto
Scene Capture Type : Standard
Gain Control : High gain up
Description : EPSON DSC Picture
Contrast : High
Sharpness : Hard
Date Created : 2011:09:17 19:56:35
Creator Tool : Adobe Photoshop Lightroom 3.4.1
Already Applied : True
Blue Hue : 0
Blue Saturation : 0
Brightness : +50
Camera Profile : Adobe Standard
Chromatic Aberration B : 0
Chromatic Aberration R : 0
Clarity : +64
Color Noise Reduction : 40
Convert To Grayscale : True
Defringe : 0
Exposure : +0.75
Fill Light : 28
Gray Mixer Aqua : -18
Gray Mixer Blue : +8
Gray Mixer Green : -25
Gray Mixer Magenta : +3
Gray Mixer Orange : -17
Gray Mixer Purple : +14
Gray Mixer Red : -9
Gray Mixer Yellow : -21
Green Hue : 0
Green Saturation : 0
Has Crop : False
Has Settings : True
Highlight Recovery : 0
Luminance Smoothing : 25
Parametric Darks : 0
Parametric Highlight Split : 75
Parametric Highlights : 0
Parametric Lights : 0
Parametric Midtone Split : 50
Parametric Shadow Split : 25
Parametric Shadows : 0
Post Crop Vignette Amount : 0
Red Hue : 0
Red Saturation : 0
Shadow Tint : 0
Shadows : 18
Sharpen Detail : 25
Sharpen Edge Masking : 0
Sharpen Radius : +1.0
Split Toning Balance : 0
Split Toning Highlight Hue : 0
Split Toning Highlight Saturation : 0
Split Toning Shadow Hue : 0
Split Toning Shadow Saturation : 0
Color Temperature : 2700
Tint : +7
Tone Curve : 0, 0, 32, 22, 64, 56, 128, 128, 192, 196, 255, 255
Tone Curve Name : Medium Contrast
Version : 6.4.1
Vignette Amount : 0
Image Width : 300
Image Height : 203
Bits Per Sample : 8
Color Components : 1
Image Size : 300x203
Megapixels : 0.061
Shutter Speed : 1/80