Uber Exif Photo
Make : Leica Camera AG
Camera Model Name : M9 Digital Camera
Software : Adobe Photoshop Lightroom 3.4.1
Modify Date : 2011:09:19 09:09:58
Exposure Time : 1/750
F Number : 3.4
Exposure Program : Aperture-priority AE
ISO : 400
Date/Time Original : 2011:09:18 06:19:38
Create Date : 2011:09:18 06:19:38
Shutter Speed Value : 1/750
Aperture Value : 3.4
Exposure Compensation : -0.664
Max Aperture Value : 1.4
Metering Mode : Center-weighted average
Light Source : Unknown
Flash : No Flash
Focal Length : 35.0 mm
Contrast : Normal
Sharpening : Normal
Saturation : Normal
White Balance : Auto
JPEG Quality : Fine
WB RGB Levels : 0.4396972787 1 0.8064182704
User Profile : Profile 1
JPEG Size : 5216x3472
Serial Number : 3903955
Firmware Version : 1.138
Base ISO : 160
Sensor Width : 5270
Sensor Height : 3516
Sensor Bit Depth : 14
Camera Temperature : 22 C
Lens Type : Summilux-M 35mm f/1.4 ASPH.
Approximate F Number : 3.5
Measured LV : 4.46
External Sensor Brightness Value : 3.53
Color Space : Uncalibrated
Scene Type : Directly photographed
Exposure Mode : Manual
Digital Zoom Ratio : 0
Focal Length In 35mm Format : 35 mm
Scene Capture Type : Standard
Maker Note Safety : Safe
Profile Description : sRGB IEC61966-2.1
Lens : Leica Summilux-M 35mm f/1.4 ASPH.
Sharpness : Hard
Date Created : 2011:09:18 06:19:38
Creator Tool : Adobe Photoshop Lightroom 3.4.1
Already Applied : True
Blue Hue : 0
Blue Saturation : 0
Brightness : +50
Camera Profile : Adobe Standard
Chromatic Aberration B : 0
Chromatic Aberration R : 0
Clarity : +26
Color Noise Reduction : 25
Convert To Grayscale : False
Crop Angle : 0
Crop Bottom : 0.986473
Crop Height : 600
Crop Left : 0.076108
Crop Right : 1
Crop Top : 0.060805
Crop Unit : pixels
Crop Width : 900
Defringe : 0
Exposure : 0.00
Fill Light : 19
Green Hue : 0
Green Saturation : 0
Has Crop : True
Has Settings : True
Highlight Recovery : 0
Hue Adjustment Aqua : 0
Hue Adjustment Blue : 0
Hue Adjustment Green : 0
Hue Adjustment Magenta : 0
Hue Adjustment Orange : 0
Hue Adjustment Purple : 0
Hue Adjustment Red : 0
Hue Adjustment Yellow : 0
Luminance Adjustment Aqua : 0
Luminance Adjustment Blue : 0
Luminance Adjustment Green : 0
Luminance Adjustment Magenta : 0
Luminance Adjustment Orange : 0
Luminance Adjustment Purple : 0
Luminance Adjustment Red : 0
Luminance Adjustment Yellow : 0
Luminance Smoothing : 0
Parametric Darks : 0
Parametric Highlight Split : 75
Parametric Highlights : 0
Parametric Lights : 0
Parametric Midtone Split : 50
Parametric Shadow Split : 25
Parametric Shadows : 0
Post Crop Vignette Amount : 0
Red Hue : 0
Red Saturation : 0
Saturation Adjustment Aqua : 0
Saturation Adjustment Blue : 0
Saturation Adjustment Green : 0
Saturation Adjustment Magenta : 0
Saturation Adjustment Orange : 0
Saturation Adjustment Purple : 0
Saturation Adjustment Red : 0
Saturation Adjustment Yellow : 0
Shadow Tint : 0
Shadows : 5
Sharpen Detail : 25
Sharpen Edge Masking : 0
Sharpen Radius : +1.0
Split Toning Balance : 0
Split Toning Highlight Hue : 0
Split Toning Highlight Saturation : 0
Split Toning Shadow Hue : 0
Split Toning Shadow Saturation : 0
Color Temperature : 5300
Tint : +4
Tone Curve : 0, 0, 32, 22, 64, 56, 128, 128, 192, 196, 255, 255
Tone Curve Name : Medium Contrast
Version : 6.4.1
Vibrance : 0
Vignette Amount : 0
Image Width : 300
Image Height : 204
Bits Per Sample : 8
Color Components : 3
Aperture : 3.4
Blue Balance : 0.806418
Image Size : 300x204
Lens ID : Summilux-M 35mm f/1.4 ASPH.
Megapixels : 0.061
Red Balance : 0.439697
Scale Factor To 35 mm Equivalent : 1.0
Shutter Speed : 1/750
Circle Of Confusion : 0.030 mm
Field Of View : 54.4 deg
Focal Length : 35.0 mm (35 mm equivalent: 35.0 mm)
Hyperfocal Distance : 11.99 m
Light Value : 11.1