Uber Exif Photo
Caption-Abstract : EPSON DSC Picture
Image Description : EPSON DSC Picture
Make : SEIKO EPSON CORP.
Camera Model Name : R-D1
Software : Adobe Photoshop Lightroom 3.4.1
Modify Date : 2011:09:25 19:22:48
Exposure Time : 1/2000
Exposure Program : Aperture-priority AE
ISO : 800
Date/Time Original : 2011:09:25 09:16:34
Create Date : 2011:09:25 09:16:34
Shutter Speed Value : 1/2000
Exposure Compensation : 0
Metering Mode : Center-weighted average
Light Source : Unknown
Flash : No flash function
Color Space : Uncalibrated
Scene Type : Directly photographed
Custom Rendered : Normal
Exposure Mode : Auto
White Balance : Auto
Scene Capture Type : Standard
Gain Control : Low gain up
Profile Description : sRGB IEC61966-2.1
Description : EPSON DSC Picture
Contrast : High
Saturation : Normal
Sharpness : Hard
Date Created : 2011:09:25 09:16:34
Creator Tool : Adobe Photoshop Lightroom 3.4.1
Already Applied : True
Blue Hue : 0
Blue Saturation : 0
Brightness : +28
Camera Profile : Adobe Standard
Chromatic Aberration B : 0
Chromatic Aberration R : 0
Clarity : +40
Color Noise Reduction : 25
Convert To Grayscale : False
Crop Angle : 0
Crop Bottom : 0.898381
Crop Height : 600
Crop Left : 0.131192
Crop Right : 1
Crop Top : 0.027256
Crop Unit : pixels
Crop Width : 900
Defringe : 0
Exposure : -0.10
Fill Light : 16
Green Hue : 0
Green Saturation : 0
Has Crop : True
Has Settings : True
Highlight Recovery : 0
Hue Adjustment Aqua : 0
Hue Adjustment Blue : 0
Hue Adjustment Green : 0
Hue Adjustment Magenta : 0
Hue Adjustment Orange : 0
Hue Adjustment Purple : 0
Hue Adjustment Red : 0
Hue Adjustment Yellow : 0
Luminance Adjustment Aqua : 0
Luminance Adjustment Blue : 0
Luminance Adjustment Green : 0
Luminance Adjustment Magenta : 0
Luminance Adjustment Orange : 0
Luminance Adjustment Purple : 0
Luminance Adjustment Red : 0
Luminance Adjustment Yellow : 0
Luminance Smoothing : 0
Parametric Darks : 0
Parametric Highlight Split : 75
Parametric Highlights : 0
Parametric Lights : 0
Parametric Midtone Split : 50
Parametric Shadow Split : 25
Parametric Shadows : 0
Post Crop Vignette Amount : 0
Red Hue : 0
Red Saturation : 0
Saturation Adjustment Aqua : 0
Saturation Adjustment Blue : 0
Saturation Adjustment Green : 0
Saturation Adjustment Magenta : 0
Saturation Adjustment Orange : 0
Saturation Adjustment Purple : 0
Saturation Adjustment Red : 0
Saturation Adjustment Yellow : 0
Shadow Tint : 0
Shadows : 9
Sharpen Detail : 25
Sharpen Edge Masking : 0
Sharpen Radius : +1.0
Split Toning Balance : 0
Split Toning Highlight Hue : 0
Split Toning Highlight Saturation : 0
Split Toning Shadow Hue : 0
Split Toning Shadow Saturation : 0
Color Temperature : 4900
Tint : +1
Tone Curve : 0, 0, 32, 22, 64, 56, 128, 128, 192, 196, 255, 255
Tone Curve Name : Medium Contrast
Version : 6.4.1
Vibrance : 0
Vignette Amount : 0
Image Width : 300
Image Height : 204
Bits Per Sample : 8
Color Components : 3
Image Size : 300x204
Megapixels : 0.061
Shutter Speed : 1/2000