Uber Exif Photo
Keywords : London
Make : FUJIFILM
Camera Model Name : FinePix X100
Software : Adobe Photoshop Lightroom 3.4
Modify Date : 2011:07:19 11:29:04
Exposure Time : 1/15
F Number : 4.0
Exposure Program : Aperture-priority AE
ISO : 1250
Sensitivity Type : Standard Output Sensitivity
Date/Time Original : 2011:07:15 12:21:21
Create Date : 2011:07:15 12:21:21
Shutter Speed Value : 1/15
Aperture Value : 4.0
Brightness Value : -0.65
Exposure Compensation : 0
Max Aperture Value : 2.0
Metering Mode : Multi-segment
Light Source : Unknown
Flash : Off, Did not fire
Focal Length : 23.0 mm
Sensing Method : One-chip color area
Scene Type : Directly photographed
Custom Rendered : Normal
Exposure Mode : Auto
White Balance : Auto
Scene Capture Type : Standard
Sharpness : Normal
Subject Distance Range : Unknown
Creator Tool : Adobe Photoshop Lightroom 3.4
Date Created : 2011:07:15 12:21:21
Version : 6.4
Process Version : 5.7
Color Temperature : 3800
Tint : +30
Exposure : +0.51
Shadows : 7
Brightness : +60
Contrast : +95
Luminance Smoothing : 0
Color Noise Reduction : 25
Chromatic Aberration R : 0
Chromatic Aberration B : 0
Vignette Amount : 0
Shadow Tint : 0
Red Hue : 0
Red Saturation : 0
Green Hue : 0
Green Saturation : 0
Blue Hue : 0
Blue Saturation : 0
Fill Light : 15
Highlight Recovery : 0
Clarity : +72
Defringe : 0
Gray Mixer Red : -11
Gray Mixer Orange : -43
Gray Mixer Yellow : -25
Gray Mixer Green : +20
Gray Mixer Aqua : -17
Gray Mixer Blue : +16
Gray Mixer Purple : +21
Gray Mixer Magenta : +5
Split Toning Shadow Hue : 0
Split Toning Shadow Saturation : 0
Split Toning Highlight Hue : 0
Split Toning Highlight Saturation : 0
Split Toning Balance : 0
Parametric Shadows : -35
Parametric Darks : -26
Parametric Lights : +12
Parametric Highlights : -5
Parametric Shadow Split : 25
Parametric Midtone Split : 50
Parametric Highlight Split : 75
Sharpen Radius : +1.0
Sharpen Detail : 25
Sharpen Edge Masking : 0
Post Crop Vignette Amount : -15
Post Crop Vignette Midpoint : 50
Post Crop Vignette Feather : 50
Post Crop Vignette Roundness : 0
Post Crop Vignette Style : Highlight Priority
Post Crop Vignette Highlight Contrast : 0
Grain Amount : 0
Color Noise Reduction Detail : 50
Lens Profile Enable : 0
Lens Manual Distortion Amount : 0
Perspective Vertical : 0
Perspective Horizontal : 0
Perspective Rotate : 0.0
Perspective Scale : 100
Convert To Grayscale : True
Tone Curve Name : Medium Contrast
Camera Profile : Adobe Standard
Lens Profile Setup : LensDefaults
Has Settings : True
Crop Top : 0
Crop Left : 0.169776
Crop Bottom : 1
Crop Right : 1
Crop Angle : 0
Crop Constrain To Warp : 0
Crop Width : 1000
Crop Height : 800
Crop Unit : pixels
Has Crop : True
Already Applied : True
Subject : London
Tone Curve : 0, 0, 32, 22, 64, 56, 128, 128, 192, 196, 255, 255
Gradient Based Corr What : Correction
Gradient Based Corr Amount : 1.000000
Gradient Based Corr Active : true
Gradient Based Corr Exposure : -0.146000
Gradient Based Corr Saturation : 0.000000
Gradient Based Corr Contrast : 0.000000
Gradient Based Corr Clarity : 0.000000
Gradient Based Corr Sharpness : 0.000000
Gradient Based Corr Brightness : 0.000000
Gradient Based Corr Toning Hue : 0.000000
Gradient Based Corr Toning Saturation : 0.000000
Gradient Based Corr Mask What : Mask/Gradient
Gradient Based Corr Mask Value : 1.000000
Gradient Based Corr Mask Zero X : 0.981322
Gradient Based Corr Mask Zero Y : 0.989177
Gradient Based Corr Mask Full X : 0.998563
Gradient Based Corr Mask Full Y : 0.969697
Image Width : 240
Image Height : 300
Bits Per Sample : 8
Color Components : 1
Aperture : 4.0
Image Size : 240x300
Megapixels : 0.072
Scale Factor To 35 mm Equivalent : 10.4
Shutter Speed : 1/15
Circle Of Confusion : 0.003 mm
Field Of View : 8.6 deg
Focal Length : 23.0 mm (35 mm equivalent: 239.3 mm)
Hyperfocal Distance : 45.80 m
Light Value : 4.3