Uber Exif Photo
Make : FUJIFILM
Camera Model Name : FinePix X100
Software : Adobe Photoshop Lightroom 3.4
Modify Date : 2011:08:04 21:12:27
Exposure Time : 1/300
F Number : 5.0
Exposure Program : Program AE
ISO : 400
Sensitivity Type : Standard Output Sensitivity
Date/Time Original : 2011:08:04 12:42:56
Create Date : 2011:08:04 12:42:56
Shutter Speed Value : 1/300
Aperture Value : 5.0
Brightness Value : 6.27
Exposure Compensation : -0.33
Max Aperture Value : 2.0
Metering Mode : Multi-segment
Light Source : Unknown
Flash : Off, Did not fire
Focal Length : 23.0 mm
Sensing Method : One-chip color area
Scene Type : Directly photographed
Custom Rendered : Normal
Exposure Mode : Auto
White Balance : Auto
Scene Capture Type : Standard
Sharpness : Normal
Subject Distance Range : Unknown
Creator Tool : Adobe Photoshop Lightroom 3.4
Date Created : 2011:08:04 12:42:56
Version : 6.4
Process Version : 5.7
Color Temperature : 4900
Tint : +9
Exposure : +1.00
Shadows : 8
Brightness : +50
Contrast : +50
Luminance Smoothing : 0
Color Noise Reduction : 25
Chromatic Aberration R : 0
Chromatic Aberration B : 0
Vignette Amount : 0
Shadow Tint : 0
Red Hue : 0
Red Saturation : 0
Green Hue : 0
Green Saturation : 0
Blue Hue : 0
Blue Saturation : 0
Fill Light : 0
Highlight Recovery : 65
Clarity : +50
Defringe : 0
Gray Mixer Red : +59
Gray Mixer Orange : -5
Gray Mixer Yellow : -41
Gray Mixer Green : -59
Gray Mixer Aqua : -18
Gray Mixer Blue : -34
Gray Mixer Purple : -30
Gray Mixer Magenta : -14
Split Toning Shadow Hue : 0
Split Toning Shadow Saturation : 0
Split Toning Highlight Hue : 0
Split Toning Highlight Saturation : 0
Split Toning Balance : 0
Parametric Shadows : 0
Parametric Darks : 0
Parametric Lights : 0
Parametric Highlights : 0
Parametric Shadow Split : 25
Parametric Midtone Split : 50
Parametric Highlight Split : 75
Sharpen Radius : +1.0
Sharpen Detail : 25
Sharpen Edge Masking : 0
Post Crop Vignette Amount : -24
Post Crop Vignette Midpoint : 50
Post Crop Vignette Feather : 50
Post Crop Vignette Roundness : 0
Post Crop Vignette Style : Highlight Priority
Post Crop Vignette Highlight Contrast : 0
Grain Amount : 0
Color Noise Reduction Detail : 50
Lens Profile Enable : 0
Lens Manual Distortion Amount : 0
Perspective Vertical : 0
Perspective Horizontal : 0
Perspective Rotate : 0.0
Perspective Scale : 100
Convert To Grayscale : True
Tone Curve Name : Medium Contrast
Camera Profile : Adobe Standard
Lens Profile Setup : LensDefaults
Has Settings : True
Crop Top : 0.254297
Crop Left : 0.14333
Crop Bottom : 0.987083
Crop Right : 0.751708
Crop Angle : 0
Crop Constrain To Warp : 0
Crop Width : 1000
Crop Height : 800
Crop Unit : pixels
Has Crop : True
Already Applied : True
Tone Curve : 0, 0, 32, 22, 64, 56, 128, 128, 192, 196, 255, 255
Gradient Based Corr What : Correction
Gradient Based Corr Amount : 1.000000
Gradient Based Corr Active : true
Gradient Based Corr Exposure : -0.145000
Gradient Based Corr Saturation : 0.000000
Gradient Based Corr Contrast : 0.000000
Gradient Based Corr Clarity : 0.000000
Gradient Based Corr Sharpness : 0.000000
Gradient Based Corr Brightness : 0.000000
Gradient Based Corr Toning Hue : 107.000000
Gradient Based Corr Toning Saturation : 0.000000
Gradient Based Corr Mask What : Mask/Gradient
Gradient Based Corr Mask Value : 1.000000
Gradient Based Corr Mask Zero X : 0.613250
Gradient Based Corr Mask Zero Y : 0.544885
Gradient Based Corr Mask Full X : 0.753806
Gradient Based Corr Mask Full Y : 0.658593
Image Width : 300
Image Height : 240
Bits Per Sample : 8
Color Components : 1
Aperture : 5.0
Image Size : 300x240
Megapixels : 0.072
Scale Factor To 35 mm Equivalent : 10.4
Shutter Speed : 1/300
Circle Of Confusion : 0.003 mm
Field Of View : 8.6 deg
Focal Length : 23.0 mm (35 mm equivalent: 239.3 mm)
Hyperfocal Distance : 36.64 m
Light Value : 10.9