Uber Exif Photo
Keywords : New York
Make : Leica Camera AG
Camera Model Name : M9 Digital Camera
Software : Adobe Photoshop Lightroom 3.6 (Macintosh)
Modify Date : 2011:12:19 23:15:30
Exposure Time : 1/25
F Number : 2.0
Exposure Program : Aperture-priority AE
ISO : 400
Date/Time Original : 2011:12:03 21:41:16
Create Date : 2011:12:03 21:41:16
Shutter Speed Value : 1/25
Aperture Value : 2.0
Exposure Compensation : 0
Max Aperture Value : 2.0
Metering Mode : Center-weighted average
Light Source : Unknown
Flash : No Flash
Focal Length : 35.0 mm
Contrast : Normal
Sharpening : Normal
Saturation : Normal
White Balance : Auto
JPEG Quality : Fine
WB RGB Levels : 0.6635884974 1 0.479498961
User Profile : Haakon
JPEG Size : 5216x3472
Firmware Version : 1.162
Base ISO : 160
Sensor Width : 5270
Sensor Height : 3516
Sensor Bit Depth : 14
Camera Temperature : 18 C
Lens Type : Summicron-M 35mm f/2 ASPH.
Approximate F Number : 2.0
Measured LV : 1.71
External Sensor Brightness Value : 0.01
Scene Type : Directly photographed
Exposure Mode : Manual
Digital Zoom Ratio : 0
Focal Length In 35mm Format : 35 mm
Scene Capture Type : Standard
Serial Number : 3904514
Lens Model : Leica Summicron-M 35mm f/2 ASPH.
Maker Note Safety : Safe
Creator Tool : Adobe Photoshop Lightroom 3.6 (Macintosh)
Rating : 1
Lens : Leica Summicron-M 35mm f/2 ASPH.
Date Created : 2011:12:03 21:41:16
Format : image/jpeg
Version : 6.6
Process Version : 5.7
Color Temperature : 2750
Tint : +5
Exposure : 0.00
Shadows : 0
Brightness : +70
Sharpness : 25
Luminance Smoothing : 0
Color Noise Reduction : 25
Chromatic Aberration R : 0
Chromatic Aberration B : 0
Vignette Amount : 0
Shadow Tint : 0
Red Hue : 0
Red Saturation : 0
Green Hue : 0
Green Saturation : 0
Blue Hue : 0
Blue Saturation : 0
Fill Light : 12
Highlight Recovery : 25
Clarity : 0
Defringe : 0
Gray Mixer Red : -6
Gray Mixer Orange : -14
Gray Mixer Yellow : -17
Gray Mixer Green : -23
Gray Mixer Aqua : -19
Gray Mixer Blue : +5
Gray Mixer Purple : +12
Gray Mixer Magenta : +4
Split Toning Shadow Hue : 0
Split Toning Shadow Saturation : 0
Split Toning Highlight Hue : 0
Split Toning Highlight Saturation : 0
Split Toning Balance : 0
Parametric Shadows : 0
Parametric Darks : 0
Parametric Lights : 0
Parametric Highlights : 0
Parametric Shadow Split : 25
Parametric Midtone Split : 50
Parametric Highlight Split : 75
Sharpen Radius : +1.0
Sharpen Detail : 25
Sharpen Edge Masking : 0
Post Crop Vignette Amount : -10
Post Crop Vignette Midpoint : 50
Post Crop Vignette Feather : 50
Post Crop Vignette Roundness : 0
Post Crop Vignette Style : Highlight Priority
Post Crop Vignette Highlight Contrast : 0
Grain Amount : 0
Color Noise Reduction Detail : 50
Lens Profile Enable : 0
Lens Manual Distortion Amount : 0
Perspective Vertical : 0
Perspective Horizontal : 0
Perspective Rotate : 0.0
Perspective Scale : 100
Convert To Grayscale : True
Tone Curve Name : Medium Contrast
Camera Profile : Adobe Standard
Lens Profile Setup : LensDefaults
Has Settings : True
Crop Top : 0.191792
Crop Left : 0.105592
Crop Bottom : 0.88051
Crop Right : 0.79431
Crop Angle : 0
Crop Constrain To Warp : 0
Crop Width : 3590
Crop Height : 2388
Crop Unit : pixels
Has Crop : True
Already Applied : True
Subject : New York
Tone Curve : 0, 0, 32, 22, 64, 56, 128, 128, 192, 196, 255, 255
Derived From :
Image Width : 300
Image Height : 200
Bits Per Sample : 8
Color Components : 1
Aperture : 2.0
Blue Balance : 0.479499
Image Size : 300x200
Lens ID : Leica Summicron-M 35mm f/2 ASPH.
Megapixels : 0.060
Red Balance : 0.663588
Scale Factor To 35 mm Equivalent : 1.0
Shutter Speed : 1/25
Circle Of Confusion : 0.030 mm
Field Of View : 54.4 deg
Focal Length : 35.0 mm (35 mm equivalent: 35.0 mm)
Hyperfocal Distance : 20.39 m
Light Value : 4.6