Uber Exif Photo
Make : Leica Camera AG
Camera Model Name : M9 Digital Camera
Software : Adobe Photoshop Camera Raw 6.4.1
Modify Date : 2012:01:12 16:22:21
Exposure Time : 1/125
F Number : 4.0
Exposure Program : Aperture-priority AE
ISO : 200
Date/Time Original : 2012:01:12 13:06:42
Create Date : 2012:01:12 13:06:42
Shutter Speed Value : 1/125
Aperture Value : 4.0
Exposure Compensation : 0
Max Aperture Value : 2.0
Metering Mode : Center-weighted average
Light Source : Unknown
Flash : No Flash
Focal Length : 35.0 mm
Contrast : Normal
Sharpening : Normal
Saturation : Normal
White Balance : Auto
JPEG Quality : Fine
WB RGB Levels : 0.4455685187 1 0.7583078774
User Profile : Night 2
JPEG Size : 5216x3472
Firmware Version : 1.162
Base ISO : 160
Sensor Width : 5270
Sensor Height : 3516
Sensor Bit Depth : 14
Camera Temperature : 13 C
Lens Type : Summicron-M 35mm f/2 (IV)
Approximate F Number : 4.0
Measured LV : 4.00
External Sensor Brightness Value : 3.73
Scene Type : Directly photographed
Exposure Mode : Manual
Digital Zoom Ratio : 0
Focal Length In 35mm Format : 35 mm
Scene Capture Type : Standard
Serial Number : 3835786
Lens Model : Leica Summicron-M 35mm f/2 (IV)
Maker Note Safety : Safe
Profile Description : Adobe RGB (1998)
Creator Tool : Adobe Photoshop Camera Raw 6.4.1
Rating : 3
Lens : Leica Summicron-M 35mm f/2 (IV)
Date Created : 2012:01:12 13:06:42
Format : image/jpeg
Raw File Name : L1008371.DNG
Version : 6.4.1
Process Version : 5.7
Color Temperature : 5000
Tint : +11
Exposure : 0.00
Shadows : 0
Brightness : +11
Sharpness : 0
Luminance Smoothing : 0
Color Noise Reduction : 25
Chromatic Aberration R : 0
Chromatic Aberration B : 0
Vignette Amount : 0
Shadow Tint : 0
Red Hue : 0
Red Saturation : 0
Green Hue : 0
Green Saturation : 0
Blue Hue : 0
Blue Saturation : 0
Fill Light : 0
Vibrance : -18
Highlight Recovery : 24
Clarity : 0
Defringe : 0
Hue Adjustment Red : 0
Hue Adjustment Orange : 0
Hue Adjustment Yellow : 0
Hue Adjustment Green : 0
Hue Adjustment Aqua : 0
Hue Adjustment Blue : 0
Hue Adjustment Purple : 0
Hue Adjustment Magenta : 0
Saturation Adjustment Red : +13
Saturation Adjustment Orange : +17
Saturation Adjustment Yellow : -11
Saturation Adjustment Green : -31
Saturation Adjustment Aqua : -35
Saturation Adjustment Blue : -38
Saturation Adjustment Purple : -29
Saturation Adjustment Magenta : -37
Luminance Adjustment Red : +40
Luminance Adjustment Orange : +38
Luminance Adjustment Yellow : 0
Luminance Adjustment Green : 0
Luminance Adjustment Aqua : 0
Luminance Adjustment Blue : 0
Luminance Adjustment Purple : 0
Luminance Adjustment Magenta : 0
Split Toning Shadow Hue : 0
Split Toning Shadow Saturation : 0
Split Toning Highlight Hue : 0
Split Toning Highlight Saturation : 0
Split Toning Balance : 0
Parametric Shadows : -7
Parametric Darks : +30
Parametric Lights : +35
Parametric Highlights : 0
Parametric Shadow Split : 25
Parametric Midtone Split : 50
Parametric Highlight Split : 75
Sharpen Radius : +1.0
Sharpen Detail : 25
Sharpen Edge Masking : 0
Post Crop Vignette Amount : -43
Post Crop Vignette Midpoint : 29
Post Crop Vignette Feather : 68
Post Crop Vignette Roundness : 0
Post Crop Vignette Style : Highlight Priority
Post Crop Vignette Highlight Contrast : 15
Grain Amount : 0
Color Noise Reduction Detail : 50
Lens Profile Enable : 0
Lens Manual Distortion Amount : 0
Perspective Vertical : 0
Perspective Horizontal : 0
Perspective Rotate : 0.0
Perspective Scale : 100
Convert To Grayscale : False
Tone Curve Name : Medium Contrast
Camera Profile : Adobe Standard
Lens Profile Setup : LensDefaults
Has Settings : True
Crop Top : 0.086486
Crop Left : 0
Crop Bottom : 1
Crop Right : 0.913514
Crop Angle : 0
Crop Constrain To Warp : 1
Has Crop : True
Already Applied : True
Tone Curve : 0, 0, 32, 22, 64, 56, 128, 128, 192, 196, 255, 255
Paint Correction What : Correction
Paint Correction Amount : 1.000000
Paint Correction Active : true
Paint Correction Exposure : 0.000000
Paint Correction Saturation : -0.530000
Paint Correction Contrast : -0.590000
Paint Correction Clarity : 0.070000
Paint Correction Sharpness : -0.090000
Paint Correction Brightness : 0.030000
Paint Correction Toning Hue : 0.000000
Paint Correction Toning Saturation : 0.000000
Paint Correction Mask What : Mask/Paint
Paint Correction Mask Value : 1.000000
Paint Correction Mask Radius : 0.019872
Paint Correction Mask Flow : 0.923077
Paint Correction Mask Center Weight : 0.325049
Image Width : 300
Image Height : 200
Bits Per Sample : 8
Color Components : 3
Aperture : 4.0
Blue Balance : 0.758308
Image Size : 300x200
Lens ID : Leica Summicron-M 35mm f/2 (IV)
Megapixels : 0.060
Red Balance : 0.445569
Scale Factor To 35 mm Equivalent : 1.0
Shutter Speed : 1/125
Circle Of Confusion : 0.030 mm
Field Of View : 54.4 deg
Focal Length : 35.0 mm (35 mm equivalent: 35.0 mm)
Hyperfocal Distance : 10.19 m
Light Value : 10.0