Uber Exif Photo
Photometric Interpretation : RGB
Make : FUJIFILM
Camera Model Name : FinePix X100
Orientation : Horizontal (normal)
Samples Per Pixel : 3
Planar Configuration : Chunky
Software : Adobe Photoshop CS5 Windows
Modify Date : 2012:01:16 22:37:42
Exposure Time : 1/125
F Number : 3.6
Exposure Program : Shutter speed priority AE
ISO : 200
Sensitivity Type : Standard Output Sensitivity
Date/Time Original : 2011:12:15 10:45:28
Create Date : 2011:12:15 10:45:28
Shutter Speed Value : 1/125
Aperture Value : 3.6
Brightness Value : 4.59
Exposure Compensation : 0
Max Aperture Value : 2.0
Metering Mode : Average
Light Source : Unknown
Flash : Off, Did not fire
Focal Length : 23.0 mm
Color Space : sRGB
Exif Image Width : 858
Exif Image Height : 570
Sensing Method : One-chip color area
Scene Type : Directly photographed
Custom Rendered : Custom
Exposure Mode : Auto
White Balance : Auto
Scene Capture Type : Standard
Sharpness : Hard
Subject Distance Range : Unknown
Creator Tool : Adobe Photoshop CS5 Windows
Rating : 0
Date Created : 2011:12:15 10:45:28
Color Mode : RGB
ICC Profile Name : sRGB IEC61966-2.1
Format : image/jpeg
Raw File Name : untitled-23.DNG
Version : 6.6
Process Version : 5.7
Color Temperature : 5150
Tint : +10
Exposure : 0.00
Shadows : 5
Brightness : +50
Contrast : +25
Saturation : +25
Luminance Smoothing : 0
Color Noise Reduction : 25
Chromatic Aberration R : 0
Chromatic Aberration B : 0
Vignette Amount : 0
Shadow Tint : 0
Red Hue : 0
Red Saturation : 0
Green Hue : 0
Green Saturation : 0
Blue Hue : 0
Blue Saturation : 0
Fill Light : 0
Vibrance : 0
Highlight Recovery : 50
Clarity : 0
Defringe : 0
Hue Adjustment Red : 0
Hue Adjustment Orange : 0
Hue Adjustment Yellow : 0
Hue Adjustment Green : 0
Hue Adjustment Aqua : 0
Hue Adjustment Blue : 0
Hue Adjustment Purple : 0
Hue Adjustment Magenta : 0
Saturation Adjustment Red : 0
Saturation Adjustment Orange : 0
Saturation Adjustment Yellow : 0
Saturation Adjustment Green : 0
Saturation Adjustment Aqua : 0
Saturation Adjustment Blue : 0
Saturation Adjustment Purple : 0
Saturation Adjustment Magenta : 0
Luminance Adjustment Red : 0
Luminance Adjustment Orange : 0
Luminance Adjustment Yellow : 0
Luminance Adjustment Green : 0
Luminance Adjustment Aqua : 0
Luminance Adjustment Blue : 0
Luminance Adjustment Purple : 0
Luminance Adjustment Magenta : 0
Split Toning Shadow Hue : 0
Split Toning Shadow Saturation : 0
Split Toning Highlight Hue : 0
Split Toning Highlight Saturation : 0
Split Toning Balance : 0
Parametric Shadows : 0
Parametric Darks : 0
Parametric Lights : 0
Parametric Highlights : 0
Parametric Shadow Split : 25
Parametric Midtone Split : 50
Parametric Highlight Split : 75
Sharpen Radius : +1.0
Sharpen Detail : 0
Sharpen Edge Masking : 0
Post Crop Vignette Amount : 0
Grain Amount : 0
Color Noise Reduction Detail : 50
Lens Profile Enable : 1
Lens Manual Distortion Amount : 0
Perspective Vertical : 0
Perspective Horizontal : 0
Perspective Rotate : 0.0
Perspective Scale : 100
Convert To Grayscale : False
Tone Curve Name : Strong Contrast
Camera Profile : Adobe Standard
Lens Profile Setup : LensDefaults
Lens Profile Name : Adobe (Fujifilm FinePix X100)
Lens Profile Filename : Fujifilm FinePix X100.lcp
Lens Profile Distortion Scale : 100
Lens Profile Chromatic Aberration Scale : 100
Lens Profile Vignetting Scale : 100
Has Settings : True
Has Crop : False
Already Applied : True
Tone Curve : 0, 0, 32, 16, 64, 50, 128, 128, 192, 202, 255, 255
Image Width : 300
Image Height : 199
Bits Per Sample : 8
Color Components : 1
Aperture : 3.6
Image Size : 300x199
Megapixels : 0.060
Scale Factor To 35 mm Equivalent : 3.9
Shutter Speed : 1/125
Circle Of Confusion : 0.008 mm
Field Of View : 22.8 deg
Focal Length : 23.0 mm (35 mm equivalent: 89.3 mm)
Hyperfocal Distance : 18.98 m
Light Value : 9.7