Uber Exif Photo
Keywords : Fuji-x10
Make : FUJIFILM
Camera Model Name : X10
Software : Digital Camera X10 Ver1.02
Modify Date : 2012:09:27 06:42:41
Exposure Time : 1/480
F Number : 2.0
Exposure Program : Program AE
ISO : 100
Date/Time Original : 2012:09:15 16:45:17
Create Date : 2012:09:15 16:45:17
Shutter Speed Value : 1/480
Aperture Value : 2.0
Brightness Value : 5.8
Exposure Compensation : 0
Max Aperture Value : 2.0
Metering Mode : Multi-segment
Light Source : Unknown
Focal Length : 7.1 mm
Sensing Method : One-chip color area
Scene Type : Directly photographed
Custom Rendered : Normal
Exposure Mode : Auto
White Balance : Auto
Scene Capture Type : Standard
Subject Distance Range : Unknown
Date/Time Digitized : 2012:09:15 16:45:17+02:00
Creator Tool : Adobe Photoshop Lightroom
Version : 4.4.1
Incremental Temperature : 0
Incremental Tint : 0
Exposure : 0.00
Shadows : 1
Brightness : +15
Contrast : -13
Sharpness : 0
Luminance Smoothing : 100
Color Noise Reduction : 0
Chromatic Aberration R : 0
Chromatic Aberration B : 0
Vignette Amount : 0
Shadow Tint : 0
Red Hue : 0
Red Saturation : 0
Green Hue : 0
Green Saturation : 0
Blue Hue : 0
Blue Saturation : 0
Fill Light : 0
Highlight Recovery : 0
Clarity : 0
Defringe : 0
Gray Mixer Red : -23
Gray Mixer Orange : -49
Gray Mixer Yellow : -57
Gray Mixer Green : -17
Gray Mixer Aqua : +7
Gray Mixer Blue : +27
Gray Mixer Purple : +34
Gray Mixer Magenta : -6
Split Toning Shadow Hue : 0
Split Toning Shadow Saturation : 0
Split Toning Highlight Hue : 0
Split Toning Highlight Saturation : 0
Split Toning Balance : 0
Parametric Shadows : 0
Parametric Darks : -19
Parametric Lights : 0
Parametric Highlights : 0
Parametric Shadow Split : 25
Parametric Midtone Split : 50
Parametric Highlight Split : 75
Sharpen Radius : +1.0
Sharpen Detail : 25
Sharpen Edge Masking : 0
Convert To Grayscale : True
Tone Curve Name : Linear
Camera Profile : Embedded
Has Settings : True
Crop Top : 0
Crop Left : 0.137383
Crop Bottom : 1
Crop Right : 0.767173
Crop Angle : 0
Crop Width : 1773
Crop Height : 2112
Crop Unit : pixels
Has Crop : True
Already Applied : True
Flash Fired : False
Flash Return : No return detection
Flash Mode : Off
Flash Function : False
Flash Red Eye Mode : False
Hierarchical Subject : Fuji-x10
Subject : Fuji-x10
Tone Curve : 0, 0, 255, 255
Image Width : 252
Image Height : 300
Bits Per Sample : 8
Color Components : 1
Aperture : 2.0
Image Size : 252x300
Megapixels : 0.076
Scale Factor To 35 mm Equivalent : 35.4
Shutter Speed : 1/480
Flash : Off, Did not fire
Circle Of Confusion : 0.001 mm
Field Of View : 8.2 deg
Focal Length : 7.1 mm (35 mm equivalent: 251.3 mm)
Hyperfocal Distance : 29.69 m
Light Value : 10.9