Uber Exif Photo
By-line : H.E. de Pagter
Copyright Notice : blue eye photography | H. de Pagter
Copyright Flag : True
Make : NIKON CORPORATION
Camera Model Name : NIKON D3X
Software : Adobe Photoshop Lightroom 4.4 (Macintosh)
Modify Date : 2013:04:05 21:55:00
Artist : H.E. de Pagter
Copyright : blue eye photography | H. de Pagter
Exposure Time : 1/4000
F Number : 1.4
Exposure Program : Aperture-priority AE
ISO : 100
Date/Time Original : 2010:10:19 21:09:33
Create Date : 2010:10:19 21:09:33
Shutter Speed Value : 1/4000
Aperture Value : 1.4
Exposure Compensation : 0
Max Aperture Value : 1.4
Subject Distance : 2.99 m
Metering Mode : Center-weighted average
Light Source : Unknown
Flash : No Flash
Focal Length : 50.0 mm
Sensing Method : One-chip color area
Scene Type : Directly photographed
Exposure Mode : Auto
White Balance : Auto
Digital Zoom Ratio : 1.13
Focal Length In 35mm Format : 55 mm
Scene Capture Type : Standard
Gain Control : None
Contrast : Normal
Saturation : Normal
Sharpness : Hard
Subject Distance Range : Unknown
Serial Number : 5003146
Lens Info : 50mm f/1.4
Lens Model : 50.0 mm f/1.4
Rating Percent : 0
Approximate Focus Distance : 2.99
Image Number : 5412
Lens : 50.0 mm f/1.4
Format : image/jpeg
Creator Tool : Adobe Photoshop Lightroom 4.4 (Macintosh)
Label : Groen
Date Created : 2010:10:19 21:09:33.003
Marked : True
Version : 7.4
Process Version : 6.7
Incremental Temperature : 0
Incremental Tint : 0
Luminance Smoothing : 0
Color Noise Reduction : 0
Vignette Amount : 0
Shadow Tint : 0
Red Hue : 0
Red Saturation : 0
Green Hue : 0
Green Saturation : 0
Blue Hue : 0
Blue Saturation : 0
Vibrance : 0
Hue Adjustment Red : 0
Hue Adjustment Orange : 0
Hue Adjustment Yellow : 0
Hue Adjustment Green : 0
Hue Adjustment Aqua : 0
Hue Adjustment Blue : 0
Hue Adjustment Purple : 0
Hue Adjustment Magenta : 0
Saturation Adjustment Red : 0
Saturation Adjustment Orange : 0
Saturation Adjustment Yellow : 0
Saturation Adjustment Green : 0
Saturation Adjustment Aqua : 0
Saturation Adjustment Blue : 0
Saturation Adjustment Purple : 0
Saturation Adjustment Magenta : 0
Luminance Adjustment Red : 0
Luminance Adjustment Orange : 0
Luminance Adjustment Yellow : 0
Luminance Adjustment Green : 0
Luminance Adjustment Aqua : 0
Luminance Adjustment Blue : 0
Luminance Adjustment Purple : 0
Luminance Adjustment Magenta : 0
Split Toning Shadow Hue : 0
Split Toning Shadow Saturation : 0
Split Toning Highlight Hue : 0
Split Toning Highlight Saturation : 0
Split Toning Balance : 0
Parametric Shadows : 0
Parametric Darks : 0
Parametric Lights : 0
Parametric Highlights : 0
Parametric Shadow Split : 25
Parametric Midtone Split : 50
Parametric Highlight Split : 75
Sharpen Radius : +1.0
Sharpen Detail : 25
Sharpen Edge Masking : 0
Post Crop Vignette Amount : 0
Grain Amount : 0
Lens Profile Enable : 0
Lens Manual Distortion Amount : 0
Perspective Vertical : 0
Perspective Horizontal : 0
Perspective Rotate : 0.0
Perspective Scale : 100
Auto Lateral CA : 0
Exposure 2012 : 0.00
Contrast 2012 : 0
Highlights 2012 : -13
Shadows 2012 : 0
Whites 2012 : 0
Blacks 2012 : 0
Clarity 2012 : +17
Defringe Purple Amount : 0
Defringe Purple Hue Lo : 30
Defringe Purple Hue Hi : 70
Defringe Green Amount : 0
Defringe Green Hue Lo : 40
Defringe Green Hue Hi : 60
Convert To Grayscale : False
Tone Curve Name 2012 : Linear
Camera Profile : Embedded
Lens Profile Setup : LensDefaults
Has Settings : True
Has Crop : False
Already Applied : True
Creator : H.E. de Pagter
Rights : blue eye photography | H. de Pagter
Tone Curve PV2012 : 0, 0, 255, 255
Tone Curve PV2012 Red : 0, 0, 255, 255
Tone Curve PV2012 Green : 0, 0, 255, 255
Tone Curve PV2012 Blue : 0, 0, 255, 255
Image Width : 300
Image Height : 239
Bits Per Sample : 8
Color Components : 1
Aperture : 1.4
Image Size : 300x239
Megapixels : 0.072
Scale Factor To 35 mm Equivalent : 1.1
Shutter Speed : 1/4000
Create Date : 2010:10:19 21:09:33.30
Date/Time Original : 2010:10:19 21:09:33.3
Circle Of Confusion : 0.027 mm
Depth Of Field : 0.27 m (2.86 - 3.13 m)
Field Of View : 36.2 deg
Focal Length : 50.0 mm (35 mm equivalent: 55.0 mm)
Hyperfocal Distance : 65.38 m
Light Value : 12.9
Lens ID : AF-S Nikkor 50mm f/1.4G