Uber Exif Photo
By-line : Jim Craig
Copyright Notice : www.messenjah.ws
Make : Canon
Camera Model Name : Canon EOS 7D
Software : Adobe Photoshop Lightroom 4.3 (Windows)
Modify Date : 2013:04:06 08:54:38
Artist : Jim Craig
Copyright : www.messenjah.ws
Exposure Time : 1/200
F Number : 11.0
Exposure Program : Aperture-priority AE
ISO : 320
Date/Time Original : 2011:04:18 08:35:38
Create Date : 2011:04:18 08:35:38
Shutter Speed Value : 1/200
Aperture Value : 11.0
Exposure Compensation : 0
Max Aperture Value : 5.7
Subject Distance : 59.3 m
Metering Mode : Center-weighted average
Flash : Off, Did not fire
Focal Length : 106.0 mm
Custom Rendered : Normal
Exposure Mode : Auto
White Balance : Manual
Scene Capture Type : Standard
Serial Number : 1780908873
Lens Info : 18-135mm f/?
Lens Model : EF-S18-135mm f/3.5-5.6 IS
Profile Description : sRGB IEC61966-2.1
Creator Tool : Adobe Photoshop Lightroom 4.3 (Windows)
Lens : EF-S18-135mm f/3.5-5.6 IS
Image Number : 0
Approximate Focus Distance : 59.3
Flash Compensation : 0
Firmware : 1.2.3
Format : image/jpeg
Version : 7.3
Process Version : 6.7
Color Temperature : 5500
Tint : +10
Saturation : 0
Sharpness : 34
Luminance Smoothing : 14
Color Noise Reduction : 25
Vignette Amount : 0
Shadow Tint : 0
Red Hue : 0
Red Saturation : 0
Green Hue : 0
Green Saturation : 0
Blue Hue : 0
Blue Saturation : 0
Vibrance : 0
Hue Adjustment Red : 0
Hue Adjustment Orange : 0
Hue Adjustment Yellow : 0
Hue Adjustment Green : 0
Hue Adjustment Aqua : 0
Hue Adjustment Blue : 0
Hue Adjustment Purple : 0
Hue Adjustment Magenta : 0
Saturation Adjustment Red : 0
Saturation Adjustment Orange : 0
Saturation Adjustment Yellow : 0
Saturation Adjustment Green : 0
Saturation Adjustment Aqua : 0
Saturation Adjustment Blue : 0
Saturation Adjustment Purple : 0
Saturation Adjustment Magenta : 0
Luminance Adjustment Red : 0
Luminance Adjustment Orange : 0
Luminance Adjustment Yellow : 0
Luminance Adjustment Green : 0
Luminance Adjustment Aqua : 0
Luminance Adjustment Blue : 0
Luminance Adjustment Purple : 0
Luminance Adjustment Magenta : 0
Split Toning Shadow Hue : 0
Split Toning Shadow Saturation : 0
Split Toning Highlight Hue : 0
Split Toning Highlight Saturation : 0
Split Toning Balance : 0
Parametric Shadows : 0
Parametric Darks : 0
Parametric Lights : 0
Parametric Highlights : 0
Parametric Shadow Split : 25
Parametric Midtone Split : 50
Parametric Highlight Split : 75
Sharpen Radius : +1.0
Sharpen Detail : 25
Sharpen Edge Masking : 0
Post Crop Vignette Amount : 0
Grain Amount : 0
Luminance Noise Reduction Detail : 50
Color Noise Reduction Detail : 50
Luminance Noise Reduction Contrast : 0
Lens Profile Enable : 0
Lens Manual Distortion Amount : 0
Perspective Vertical : 0
Perspective Horizontal : 0
Perspective Rotate : 0.0
Perspective Scale : 100
Auto Lateral CA : 0
Exposure 2012 : -0.50
Contrast 2012 : +6
Highlights 2012 : 0
Shadows 2012 : 0
Whites 2012 : +7
Blacks 2012 : -32
Clarity 2012 : 0
Defringe Purple Amount : 0
Defringe Purple Hue Lo : 30
Defringe Purple Hue Hi : 70
Defringe Green Amount : 0
Defringe Green Hue Lo : 40
Defringe Green Hue Hi : 60
Convert To Grayscale : False
Tone Curve Name 2012 : Linear
Camera Profile : Adobe Standard
Lens Profile Setup : LensDefaults
Has Settings : True
Crop Top : 0.067733
Crop Left : 0.149427
Crop Bottom : 0.852626
Crop Right : 0.93432
Crop Angle : 0
Crop Constrain To Warp : 0
Crop Width : 1500
Crop Height : 1000
Crop Unit : pixels
Has Crop : True
Already Applied : True
Date Created : 2011:04:18 08:35:38.00+08:00
Creator : Jim Craig
Rights : www.messenjah.ws
Tone Curve PV2012 : 0, 0, 255, 255
Tone Curve PV2012 Red : 0, 0, 255, 255
Tone Curve PV2012 Green : 0, 0, 255, 255
Tone Curve PV2012 Blue : 0, 0, 255, 255
Derived From :
Image Width : 300
Image Height : 200
Bits Per Sample : 8
Color Components : 3
Aperture : 11.0
Image Size : 300x200
Megapixels : 0.060
Scale Factor To 35 mm Equivalent : 1.6
Shutter Speed : 1/200
Create Date : 2011:04:18 08:35:38.00
Date/Time Original : 2011:04:18 08:35:38.00
Circle Of Confusion : 0.019 mm
Depth Of Field : inf (28.12 m - inf)
Field Of View : 12.3 deg
Focal Length : 106.0 mm (35 mm equivalent: 166.5 mm)
Hyperfocal Distance : 53.39 m
Light Value : 12.9
Lens ID : Canon EF-S 18-135mm f/3.5-5.6 IS