Uber Exif Photo
Caption-Abstract : OLYMPUS DIGITAL CAMERA
Copyright Flag : False
Image Description : OLYMPUS DIGITAL CAMERA
Make : OLYMPUS IMAGING CORP.
Camera Model Name : E-P1
Orientation : Horizontal (normal)
Software : Adobe Photoshop CS3 Windows
Modify Date : 2010:02:15 08:19:36
Exposure Time : 1/15
F Number : 3.5
Exposure Program : Aperture-priority AE
ISO : 100
Date/Time Original : 2009:08:14 14:18:57
Create Date : 2009:08:14 14:18:57
Shutter Speed Value : 1/15
Aperture Value : 3.5
Exposure Compensation : 0
Max Aperture Value : 3.5
Metering Mode : Center-weighted average
Light Source : Unknown
Focal Length : 14.0 mm
Color Space : Uncalibrated
Exif Image Width : 848
Exif Image Height : 648
CFA Pattern : [Red,Green][Green,Blue]
Custom Rendered : Normal
Exposure Mode : Auto
White Balance : Auto
Digital Zoom Ratio : 1
Scene Capture Type : Standard
Gain Control : None
Contrast : Normal
Saturation : Normal
Sharpness : Normal
Date/Time Digitized : 2009:08:14 14:18:57-07:00
Creator Tool : Adobe Photoshop CS3 Windows
Rating : 0
Format : image/jpeg
Serial Number : H45502535
Lens Info : 14-42mm f/3.5-5.6
Lens : 14.0-42.0 mm f/3.5-5.6
Lens Serial Number : AAB216146
Flash Compensation : 0
Raw File Name : _8140601.dng
Version : 4.6
Color Temperature : 5300
Tint : +5
Exposure : +0.05
Shadows : 0
Brightness : +59
Luminance Smoothing : 83
Color Noise Reduction : 84
Chromatic Aberration R : 0
Chromatic Aberration B : 0
Vignette Amount : 0
Shadow Tint : 0
Red Hue : 0
Red Saturation : 0
Green Hue : 0
Green Saturation : 0
Blue Hue : 0
Blue Saturation : 0
Fill Light : 4
Highlight Recovery : 46
Clarity : +43
Defringe : 0
Gray Mixer Red : -7
Gray Mixer Orange : -15
Gray Mixer Yellow : -19
Gray Mixer Green : -24
Gray Mixer Aqua : -19
Gray Mixer Blue : +6
Gray Mixer Purple : +13
Gray Mixer Magenta : +4
Split Toning Shadow Hue : 0
Split Toning Shadow Saturation : 0
Split Toning Highlight Hue : 0
Split Toning Highlight Saturation : 0
Split Toning Balance : 0
Parametric Shadows : 0
Parametric Darks : 0
Parametric Lights : 0
Parametric Highlights : 0
Parametric Shadow Split : 25
Parametric Midtone Split : 50
Parametric Highlight Split : 75
Sharpen Radius : +0.5
Sharpen Detail : 1
Sharpen Edge Masking : 0
Post Crop Vignette Amount : 0
Convert To Grayscale : True
Tone Curve Name : Custom
Camera Profile : Adobe Standard
Has Settings : True
Has Crop : False
Already Applied : True
Color Mode : Grayscale
ICC Profile Name : Gray Gamma 2.2
Flash Fired : False
Flash Return : No return detection
Flash Mode : Auto
Flash Function : False
Flash Red Eye Mode : False
Description : OLYMPUS DIGITAL CAMERA
Tone Curve : 0, 0, 62, 53, 172, 206, 255, 255
Image Width : 300
Image Height : 229
Bits Per Sample : 8
Color Components : 1
Aperture : 3.5
Image Size : 300x229
Megapixels : 0.069
Shutter Speed : 1/15
Flash : Auto, Did not fire
Light Value : 7.5
Lens ID : 14.0-42.0mm f/3.5-5.6