Uber Exif Photo
Make : NIKON CORPORATION
Camera Model Name : NIKON D7000
Orientation : Horizontal (normal)
Software : Adobe Photoshop CS6 (Macintosh)
Modify Date : 2013:03:16 17:28:59
Exposure Time : 1/100
F Number : 5.6
Exposure Program : Aperture-priority AE
ISO : 280
Sensitivity Type : Recommended Exposure Index
Date/Time Original : 2013:03:09 12:57:23
Create Date : 2013:03:09 12:57:23
Shutter Speed Value : 1/100
Aperture Value : 5.6
Exposure Compensation : +2/3
Max Aperture Value : 2.8
Metering Mode : Multi-segment
Light Source : Unknown
Flash : Off, Did not fire
Focal Length : 24.0 mm
Color Space : Uncalibrated
Exif Image Width : 1313
Exif Image Height : 1024
Sensing Method : One-chip color area
Scene Type : Directly photographed
CFA Pattern : [Red,Green][Green,Blue]
Custom Rendered : Normal
Exposure Mode : Auto
White Balance : Auto
Digital Zoom Ratio : 1
Focal Length In 35mm Format : 36 mm
Scene Capture Type : Standard
Gain Control : None
Contrast : Normal
Saturation : Normal
Sharpness : Normal
Subject Distance Range : Unknown
Serial Number : 6064886
Lens Info : 24mm f/2.8
Lens Model : 24.0 mm f/2.8
Rating : 0
Label :
Creator Tool : Ver.1.03
Lens : 24.0 mm f/2.8
Image Number : 20219
Approximate Focus Distance : 0.03
Date Created : 2013:03:09 12:57:23.002
Color Mode : RGB
ICC Profile Name : ProPhoto RGB
Format : image/jpeg
Raw File Name : _DSC9921-2.NEF
Version : 7.0
Process Version : 6.7
Color Temperature : 4700
Tint : +6
Exposure : 0.00
Shadows : 5
Brightness : +50
Luminance Smoothing : 10
Color Noise Reduction : 25
Vignette Amount : 0
Shadow Tint : 0
Red Hue : 0
Red Saturation : 0
Green Hue : 0
Green Saturation : 0
Blue Hue : 0
Blue Saturation : 0
Fill Light : 0
Highlight Recovery : 0
Clarity : 0
Defringe : 0
Gray Mixer Red : -61
Gray Mixer Orange : +14
Gray Mixer Yellow : -25
Gray Mixer Green : -46
Gray Mixer Aqua : -74
Gray Mixer Blue : +8
Gray Mixer Purple : -33
Gray Mixer Magenta : -70
Split Toning Shadow Hue : 0
Split Toning Shadow Saturation : 0
Split Toning Highlight Hue : 0
Split Toning Highlight Saturation : 0
Split Toning Balance : 0
Parametric Shadows : 0
Parametric Darks : 0
Parametric Lights : 0
Parametric Highlights : 0
Parametric Shadow Split : 25
Parametric Midtone Split : 50
Parametric Highlight Split : 75
Sharpen Radius : +1.0
Sharpen Detail : 25
Sharpen Edge Masking : 0
Post Crop Vignette Amount : -15
Post Crop Vignette Midpoint : 50
Post Crop Vignette Feather : 50
Post Crop Vignette Roundness : 0
Post Crop Vignette Style : Highlight Priority
Post Crop Vignette Highlight Contrast : 0
Grain Amount : 0
Luminance Noise Reduction Detail : 50
Color Noise Reduction Detail : 50
Luminance Noise Reduction Contrast : 0
Lens Profile Enable : 0
Lens Manual Distortion Amount : 0
Perspective Vertical : 0
Perspective Horizontal : 0
Perspective Rotate : 0.0
Perspective Scale : 100
Auto Lateral CA : 0
Exposure 2012 : 0.00
Contrast 2012 : +70
Highlights 2012 : 0
Shadows 2012 : +33
Whites 2012 : -31
Blacks 2012 : -40
Clarity 2012 : +47
Convert To Grayscale : True
Tone Curve Name : Medium Contrast
Tone Curve Name 2012 : Linear
Camera Profile : Adobe Standard
Lens Profile Setup : LensDefaults
Has Settings : True
Crop Top : 0.150142
Crop Left : 0.050657
Crop Bottom : 1
Crop Right : 0.724203
Crop Angle : 0
Crop Constrain To Warp : 0
Has Crop : True
Already Applied : True
Tone Curve : 0, 0, 32, 22, 64, 56, 128, 128, 192, 196, 255, 255
Tone Curve Red : 0, 0, 255, 255
Tone Curve Green : 0, 0, 255, 255
Tone Curve Blue : 0, 0, 255, 255
Tone Curve PV2012 : 0, 0, 255, 255
Tone Curve PV2012 Red : 0, 0, 255, 255
Tone Curve PV2012 Green : 0, 0, 255, 255
Tone Curve PV2012 Blue : 0, 0, 255, 255
Image Width : 300
Image Height : 234
Bits Per Sample : 8
Color Components : 1
Aperture : 5.6
Image Size : 300x234
Megapixels : 0.070
Scale Factor To 35 mm Equivalent : 1.5
Shutter Speed : 1/100
Create Date : 2013:03:09 12:57:23.20
Date/Time Original : 2013:03:09 12:57:23.20
Modify Date : 2013:03:16 17:28:59.20
Circle Of Confusion : 0.020 mm
Depth Of Field : 0.000 m (0.030 - 0.030 m)
Field Of View : 53.1 deg
Focal Length : 24.0 mm (35 mm equivalent: 36.0 mm)
Hyperfocal Distance : 5.13 m
Light Value : 10.1
Lens ID : AF Nikkor 24mm f/2.8