Uber Exif Photo
Make : FUJIFILM
Camera Model Name : X20
Software : Adobe Photoshop Lightroom 4.4 (Windows)
Modify Date : 2013:04:06 14:01:40
Exposure Time : 1/250
F Number : 5.6
Exposure Program : Landscape
ISO : 200
Sensitivity Type : Standard Output Sensitivity
Date/Time Original : 2013:04:06 12:27:01
Create Date : 2013:04:06 12:27:01
Shutter Speed Value : 1/250
Aperture Value : 5.6
Brightness Value : 7.03
Exposure Compensation : 0
Max Aperture Value : 2.0
Metering Mode : Multi-segment
Light Source : Unknown
Flash : On, Fired
Focal Length : 11.3 mm
Sensing Method : One-chip color area
Scene Type : Directly photographed
Custom Rendered : Normal
Exposure Mode : Auto
White Balance : Auto
Scene Capture Type : Landscape
Sharpness : Normal
Subject Distance Range : Unknown
Creator Tool : Adobe Photoshop Lightroom 4.4 (Windows)
Date Created : 2013:04:06 12:27:01
Format : image/jpeg
Version : 7.4
Process Version : 6.7
Incremental Temperature : -14
Incremental Tint : -12
Saturation : +12
Luminance Smoothing : 0
Color Noise Reduction : 0
Vignette Amount : 0
Shadow Tint : 0
Red Hue : 0
Red Saturation : 0
Green Hue : 0
Green Saturation : 0
Blue Hue : 0
Blue Saturation : 0
Vibrance : 0
Hue Adjustment Red : 0
Hue Adjustment Orange : 0
Hue Adjustment Yellow : 0
Hue Adjustment Green : 0
Hue Adjustment Aqua : 0
Hue Adjustment Blue : 0
Hue Adjustment Purple : 0
Hue Adjustment Magenta : 0
Saturation Adjustment Red : 0
Saturation Adjustment Orange : 0
Saturation Adjustment Yellow : 0
Saturation Adjustment Green : 0
Saturation Adjustment Aqua : 0
Saturation Adjustment Blue : 0
Saturation Adjustment Purple : 0
Saturation Adjustment Magenta : 0
Luminance Adjustment Red : 0
Luminance Adjustment Orange : 0
Luminance Adjustment Yellow : 0
Luminance Adjustment Green : 0
Luminance Adjustment Aqua : 0
Luminance Adjustment Blue : 0
Luminance Adjustment Purple : 0
Luminance Adjustment Magenta : 0
Split Toning Shadow Hue : 0
Split Toning Shadow Saturation : 0
Split Toning Highlight Hue : 0
Split Toning Highlight Saturation : 0
Split Toning Balance : 0
Parametric Shadows : 0
Parametric Darks : 0
Parametric Lights : 0
Parametric Highlights : 0
Parametric Shadow Split : 25
Parametric Midtone Split : 50
Parametric Highlight Split : 75
Sharpen Radius : +1.0
Sharpen Detail : 25
Sharpen Edge Masking : 0
Post Crop Vignette Amount : 0
Grain Amount : 0
Lens Profile Enable : 0
Lens Manual Distortion Amount : 0
Perspective Vertical : 0
Perspective Horizontal : 0
Perspective Rotate : 0.0
Perspective Scale : 100
Auto Lateral CA : 0
Exposure 2012 : 0.00
Contrast 2012 : +7
Highlights 2012 : -7
Shadows 2012 : -14
Whites 2012 : 0
Blacks 2012 : +12
Clarity 2012 : 0
Defringe Purple Amount : 0
Defringe Purple Hue Lo : 30
Defringe Purple Hue Hi : 70
Defringe Green Amount : 0
Defringe Green Hue Lo : 40
Defringe Green Hue Hi : 60
Convert To Grayscale : False
Tone Curve Name 2012 : Linear
Camera Profile : Embedded
Lens Profile Setup : LensDefaults
Has Settings : True
Crop Top : 0.073811
Crop Left : 0
Crop Bottom : 0.926189
Crop Right : 0.852376
Crop Angle : 0
Crop Constrain To Warp : 0
Crop Width : 3410
Crop Height : 2557
Crop Unit : pixels
Has Crop : True
Already Applied : True
Tone Curve PV2012 : 0, 0, 255, 255
Tone Curve PV2012 Red : 0, 0, 255, 255
Tone Curve PV2012 Green : 0, 0, 255, 255
Tone Curve PV2012 Blue : 0, 0, 255, 255
Image Width : 300
Image Height : 225
Bits Per Sample : 8
Color Components : 3
Aperture : 5.6
Image Size : 300x225
Megapixels : 0.068
Shutter Speed : 1/250
Light Value : 11.9