Uber Exif Photo
By-line : Charlee Gumbiner
Make : Canon
Camera Model Name : Canon EOS REBEL T2i
Orientation : Horizontal (normal)
Software : Adobe Photoshop Elements 9.0 Macintosh
Modify Date : 2012:07:29 11:54:59
Artist : Charlee Gumbiner
Exposure Time : 1/1250
F Number : 13.0
Exposure Program : Program AE
ISO : 800
Date/Time Original : 2012:07:01 23:21:56
Create Date : 2012:07:01 23:21:56
Shutter Speed Value : 1/1250
Aperture Value : 13.0
Exposure Compensation : -2/3
Max Aperture Value : 5.7
Subject Distance : 26.5 m
Metering Mode : Multi-segment
Focal Length : 200.0 mm
Color Space : Uncalibrated
Exif Image Width : 1000
Exif Image Height : 1273
Custom Rendered : Normal
Exposure Mode : Auto
White Balance : Auto
Scene Capture Type : Standard
Serial Number : 422223923
Lens Info : 18-200mm f/?
Lens Model : EF-S18-200mm f/3.5-5.6 IS
Profile Description : Adobe RGB (1998)
Date/Time Digitized : 2012:07:01 23:21:56-07:00
Format : image/jpeg
Lens : EF-S18-200mm f/3.5-5.6 IS
Image Number : 0
Approximate Focus Distance : 26.5
Flash Compensation : 0
Firmware : 1.0.6
Rating : 0
Date Created : 2012:07:01
Color Mode : RGB
ICC Profile Name : Adobe RGB (1998)
Raw File Name : _MG_6251.CR2
Version : 6.6
Process Version : 5.7
Color Temperature : 4900
Tint : +13
Exposure : +0.15
Shadows : 5
Brightness : +71
Contrast : +50
Saturation : 0
Sharpness : 0
Luminance Smoothing : 0
Color Noise Reduction : 25
Chromatic Aberration R : 0
Chromatic Aberration B : 0
Vignette Amount : 0
Shadow Tint : 0
Red Hue : 0
Red Saturation : 0
Green Hue : 0
Green Saturation : 0
Blue Hue : 0
Blue Saturation : 0
Fill Light : 8
Vibrance : +14
Highlight Recovery : 13
Clarity : +28
Defringe : 0
Hue Adjustment Red : 0
Hue Adjustment Orange : 0
Hue Adjustment Yellow : 0
Hue Adjustment Green : 0
Hue Adjustment Aqua : 0
Hue Adjustment Blue : 0
Hue Adjustment Purple : 0
Hue Adjustment Magenta : 0
Saturation Adjustment Red : 0
Saturation Adjustment Orange : 0
Saturation Adjustment Yellow : 0
Saturation Adjustment Green : 0
Saturation Adjustment Aqua : 0
Saturation Adjustment Blue : 0
Saturation Adjustment Purple : 0
Saturation Adjustment Magenta : 0
Luminance Adjustment Red : 0
Luminance Adjustment Orange : 0
Luminance Adjustment Yellow : 0
Luminance Adjustment Green : 0
Luminance Adjustment Aqua : 0
Luminance Adjustment Blue : 0
Luminance Adjustment Purple : 0
Luminance Adjustment Magenta : 0
Split Toning Shadow Hue : 0
Split Toning Shadow Saturation : 0
Split Toning Highlight Hue : 0
Split Toning Highlight Saturation : 0
Split Toning Balance : 0
Parametric Shadows : 0
Parametric Darks : 0
Parametric Lights : 0
Parametric Highlights : 0
Parametric Shadow Split : 25
Parametric Midtone Split : 50
Parametric Highlight Split : 75
Sharpen Radius : +1.0
Sharpen Detail : 25
Sharpen Edge Masking : 0
Post Crop Vignette Amount : 0
Grain Amount : 0
Color Noise Reduction Detail : 50
Lens Profile Enable : 0
Lens Manual Distortion Amount : 0
Perspective Vertical : 0
Perspective Horizontal : 0
Perspective Rotate : 0.0
Perspective Scale : 100
Convert To Grayscale : False
Tone Curve Name : Medium Contrast
Camera Profile : Adobe Standard
Lens Profile Setup : LensDefaults
Has Settings : True
Has Crop : False
Already Applied : True
Flash Fired : False
Flash Return : No return detection
Flash Mode : Off
Flash Function : False
Flash Red Eye Mode : False
Creator : Charlee Gumbiner
Tone Curve : 0, 0, 32, 22, 64, 56, 128, 128, 192, 196, 255, 255
Image Width : 236
Image Height : 300
Bits Per Sample : 8
Color Components : 3
Aperture : 13.0
Image Size : 236x300
Megapixels : 0.071
Scale Factor To 35 mm Equivalent : 1.6
Shutter Speed : 1/1250
Create Date : 2012:07:01 23:21:56.20
Date/Time Original : 2012:07:01 23:21:56.20
Modify Date : 2012:07:29 11:54:59.20
Flash : Off, Did not fire
Circle Of Confusion : 0.019 mm
Depth Of Field : 8.89 m (22.78 - 31.67 m)
Field Of View : 6.6 deg
Focal Length : 200.0 mm (35 mm equivalent: 314.6 mm)
Hyperfocal Distance : 161.06 m
Light Value : 14.7
Lens ID : Canon EF-S 18-200mm f/3.5-5.6 IS