Uber Exif Photo
Make : Panasonic
Camera Model Name : DMC-GX1
Software : Adobe Photoshop Lightroom 4.3 (Windows)
Modify Date : 2013:04:12 09:03:40
Exposure Time : 1/80
F Number : 3.5
Exposure Program : Program AE
ISO : 160
Sensitivity Type : Standard Output Sensitivity
Date/Time Original : 2012:12:29 01:43:15
Create Date : 2012:12:29 01:43:15
Shutter Speed Value : 1/80
Aperture Value : 3.5
Exposure Compensation : 0
Max Aperture Value : 3.5
Metering Mode : Multi-segment
Light Source : Flash
Flash : Auto, Fired
Focal Length : 14.0 mm
Sensing Method : One-chip color area
Scene Type : Directly photographed
Custom Rendered : Normal
Exposure Mode : Auto
White Balance : Auto
Digital Zoom Ratio : 0
Focal Length In 35mm Format : 29 mm
Scene Capture Type : Standard
Gain Control : Low gain up
Contrast : Normal
Saturation : Normal
Sharpness : Normal
Lens Model : LUMIX G VARIO PZ 14-42/F3.5-5.6
Lens Serial Number : 01KI9182126H
Profile Description : sRGB IEC61966-2.1
Creator Tool : Adobe Photoshop Lightroom 4.3 (Windows)
Lens : LUMIX G VARIO PZ 14-42/F3.5-5.6
Date Created : 2012:12:29 01:43:15
Format : image/jpeg
Version : 7.3
Process Version : 6.7
Incremental Temperature : +12
Incremental Tint : -100
Luminance Smoothing : 8
Color Noise Reduction : 5
Vignette Amount : +30
Vignette Midpoint : 30
Shadow Tint : -100
Red Hue : +100
Red Saturation : +48
Green Hue : -55
Green Saturation : 0
Blue Hue : -100
Blue Saturation : -100
Vibrance : -50
Hue Adjustment Red : 0
Hue Adjustment Orange : -50
Hue Adjustment Yellow : -71
Hue Adjustment Green : 0
Hue Adjustment Aqua : 0
Hue Adjustment Blue : 0
Hue Adjustment Purple : 0
Hue Adjustment Magenta : 0
Saturation Adjustment Red : 0
Saturation Adjustment Orange : +79
Saturation Adjustment Yellow : -2
Saturation Adjustment Green : -45
Saturation Adjustment Aqua : -12
Saturation Adjustment Blue : -100
Saturation Adjustment Purple : 0
Saturation Adjustment Magenta : 0
Luminance Adjustment Red : -5
Luminance Adjustment Orange : +57
Luminance Adjustment Yellow : -24
Luminance Adjustment Green : 0
Luminance Adjustment Aqua : 0
Luminance Adjustment Blue : 0
Luminance Adjustment Purple : 0
Luminance Adjustment Magenta : 0
Split Toning Shadow Hue : 10
Split Toning Shadow Saturation : 7
Split Toning Highlight Hue : 40
Split Toning Highlight Saturation : 35
Split Toning Balance : 0
Parametric Shadows : +7
Parametric Darks : +30
Parametric Lights : +20
Parametric Highlights : -18
Parametric Shadow Split : 25
Parametric Midtone Split : 50
Parametric Highlight Split : 75
Sharpen Radius : +1.0
Sharpen Detail : 25
Sharpen Edge Masking : 0
Post Crop Vignette Amount : -48
Post Crop Vignette Midpoint : 50
Post Crop Vignette Feather : 40
Post Crop Vignette Roundness : 0
Post Crop Vignette Style : Highlight Priority
Post Crop Vignette Highlight Contrast : 0
Grain Amount : 0
Luminance Noise Reduction Detail : 50
Color Noise Reduction Detail : 50
Luminance Noise Reduction Contrast : 0
Lens Profile Enable : 0
Lens Manual Distortion Amount : 0
Perspective Vertical : 0
Perspective Horizontal : 0
Perspective Rotate : 0.0
Perspective Scale : 100
Auto Lateral CA : 0
Exposure 2012 : 0.00
Contrast 2012 : +12
Highlights 2012 : 0
Shadows 2012 : 0
Whites 2012 : 0
Blacks 2012 : 0
Clarity 2012 : 0
Defringe Purple Amount : 0
Defringe Purple Hue Lo : 30
Defringe Purple Hue Hi : 70
Defringe Green Amount : 0
Defringe Green Hue Lo : 40
Defringe Green Hue Hi : 60
Convert To Grayscale : False
Tone Curve Name 2012 : Strong Contrast
Camera Profile : ACR 2.4
Lens Profile Setup : LensDefaults
Has Settings : True
Has Crop : False
Already Applied : True
Tone Curve PV2012 : 0, 0, 32, 16, 64, 50, 128, 128, 192, 202, 255, 255
Tone Curve PV2012 Red : 0, 0, 255, 255
Tone Curve PV2012 Green : 0, 0, 255, 255
Tone Curve PV2012 Blue : 0, 0, 255, 255
Image Width : 300
Image Height : 200
Bits Per Sample : 8
Color Components : 3
Aperture : 3.5
Image Size : 300x200
Megapixels : 0.060
Scale Factor To 35 mm Equivalent : 2.1
Shutter Speed : 1/80
Circle Of Confusion : 0.015 mm
Field Of View : 63.7 deg
Focal Length : 14.0 mm (35 mm equivalent: 29.0 mm)
Hyperfocal Distance : 3.86 m
Light Value : 9.3
Lens ID : LUMIX G VARIO PZ 14-42mm F3.5-5.6