Uber Exif Photo
Caption-Abstract : SONY DSC
Image Description : SONY DSC
Make : SONY
Camera Model Name : DSLR-A850
Orientation : Horizontal (normal)
Software : Adobe Photoshop Elements 10.0 Macintosh
Modify Date : 2013:04:13 10:44:43
Profile Description : sRGB IEC61966-2.1
Exposure Time : 1/500
F Number : 9.0
Exposure Program : Aperture-priority AE
ISO : 125
Sensitivity Type : Unknown
Date/Time Original : 2012:04:26 15:22:28
Create Date : 2012:04:26 15:22:28
Shutter Speed Value : 1/500
Aperture Value : 9.0
Brightness Value : 9.75
Exposure Compensation : -0.3
Max Aperture Value : 5.0
Metering Mode : Multi-segment
Light Source : Unknown
Focal Length : 110.0 mm
Color Space : sRGB
Exif Image Width : 6058
Exif Image Height : 4042
Scene Type : Directly photographed
Custom Rendered : Normal
Exposure Mode : Auto
White Balance : Auto
Focal Length In 35mm Format : 110 mm
Scene Capture Type : Standard
Contrast : High
Saturation : Normal
Sharpness : Hard
Lens Model : 75-300mm F4.5-5.6
Creator Tool : PaintShop Pro 14,00
Lens Info : 75-300mm f/4.5-5.6
Lens : 75-300mm F4.5-5.6
Version : 6.2
Process Version : 5.7
Color Temperature : 5000
Tint : +10
Exposure : -0.97
Shadows : 5
Brightness : +50
Luminance Smoothing : 0
Color Noise Reduction : 25
Chromatic Aberration R : 0
Chromatic Aberration B : 0
Vignette Amount : 0
Shadow Tint : 0
Red Hue : 0
Red Saturation : 0
Green Hue : 0
Green Saturation : 0
Blue Hue : 0
Blue Saturation : 0
Fill Light : 15
Highlight Recovery : 0
Clarity : 0
Defringe : 0
Gray Mixer Red : -5
Gray Mixer Orange : +34
Gray Mixer Yellow : +16
Gray Mixer Green : -26
Gray Mixer Aqua : -19
Gray Mixer Blue : +34
Gray Mixer Purple : +15
Gray Mixer Magenta : +4
Split Toning Shadow Hue : 0
Split Toning Shadow Saturation : 0
Split Toning Highlight Hue : 0
Split Toning Highlight Saturation : 0
Split Toning Balance : 0
Parametric Shadows : 0
Parametric Darks : 0
Parametric Lights : 0
Parametric Highlights : 0
Parametric Shadow Split : 25
Parametric Midtone Split : 50
Parametric Highlight Split : 75
Sharpen Radius : +1.0
Sharpen Detail : 25
Sharpen Edge Masking : 0
Post Crop Vignette Amount : 0
Grain Amount : 0
Color Noise Reduction Detail : 50
Lens Profile Enable : 0
Lens Manual Distortion Amount : 0
Perspective Vertical : 0
Perspective Horizontal : 0
Perspective Rotate : 0.0
Perspective Scale : 100
Convert To Grayscale : True
Tone Curve Name : Medium Contrast
Camera Profile : Adobe Standard
Lens Profile Setup : LensDefaults
Has Settings : True
Has Crop : False
Already Applied : True
Color Mode : RGB
ICC Profile Name : sRGB IEC61966-2.1
Format : image/jpeg
Flash Fired : False
Flash Return : No return detection
Flash Mode : Off
Flash Function : False
Flash Red Eye Mode : False
Tone Curve : 0, 0, 32, 22, 64, 56, 128, 128, 192, 196, 255, 255
Description : SONY DSC
Image Width : 300
Image Height : 200
Bits Per Sample : 8
Color Components : 1
Aperture : 9.0
Image Size : 300x200
Megapixels : 0.060
Scale Factor To 35 mm Equivalent : 1.0
Shutter Speed : 1/500
Flash : Off, Did not fire
Circle Of Confusion : 0.030 mm
Field Of View : 18.6 deg
Focal Length : 110.0 mm (35 mm equivalent: 110.0 mm)
Hyperfocal Distance : 44.75 m
Light Value : 15.0
Lens ID : Minolta/Sony AF 75-300mm F4.5-5.6 (D)