Uber Exif Photo
By-line : ruggeroranzani
Copyright Notice : Copyright 2012
Copyright Flag : True
Make : Plustek
Camera Model Name : OpticFilm 7400
Software : Adobe Photoshop Lightroom 4.0 (Windows)
Modify Date : 2013:02:07 17:53:09
Artist : ruggeroranzani
Copyright : Copyright 2012
Create Date : 2013:01:31 19:49:39
Creator Tool : Adobe Photoshop Lightroom 4.0 (Windows)
Format : image/jpeg
Category : people
Marked : True
Version : 7.0
Process Version : 6.7
Exposure : 0.00
Shadows : 0
Brightness : 0
Contrast : 0
Sharpness : 0
Luminance Smoothing : 0
Vignette Amount : 0
Fill Light : 0
Highlight Recovery : 0
Clarity : 0
Split Toning Shadow Hue : 0
Split Toning Shadow Saturation : 0
Split Toning Highlight Hue : 0
Split Toning Highlight Saturation : 0
Split Toning Balance : 0
Parametric Shadows : 0
Parametric Darks : 0
Parametric Lights : 0
Parametric Highlights : 0
Parametric Shadow Split : 25
Parametric Midtone Split : 50
Parametric Highlight Split : 75
Sharpen Radius : +1.0
Sharpen Detail : 25
Sharpen Edge Masking : 0
Post Crop Vignette Amount : 0
Grain Amount : 0
Lens Profile Enable : 0
Lens Manual Distortion Amount : 0
Perspective Vertical : 0
Perspective Horizontal : 0
Perspective Rotate : 0.0
Perspective Scale : 100
Exposure 2012 : 0.00
Contrast 2012 : 0
Highlights 2012 : 0
Shadows 2012 : +26
Whites 2012 : 0
Blacks 2012 : 0
Clarity 2012 : +28
Tone Curve Name : Linear
Tone Curve Name 2012 : Medium Contrast
Lens Profile Setup : LensDefaults
Has Settings : True
Crop Top : 0.01278
Crop Left : 0.053476
Crop Bottom : 0.98722
Crop Right : 0.997861
Crop Angle : 0
Crop Constrain To Warp : 0
Crop Width : 1500
Crop Height : 1037
Crop Unit : pixels
Has Crop : True
Already Applied : True
Creator : ruggeroranzani
Rights : Copyright 2012
Tone Curve : 0, 0, 255, 255
Tone Curve Red : 0, 0, 255, 255
Tone Curve Green : 0, 0, 255, 255
Tone Curve Blue : 0, 0, 255, 255
Tone Curve PV2012 : 0, 0, 32, 22, 64, 56, 128, 128, 192, 196, 255, 255
Tone Curve PV2012 Red : 0, 0, 255, 255
Tone Curve PV2012 Green : 0, 0, 255, 255
Tone Curve PV2012 Blue : 0, 0, 255, 255
Image Width : 300
Image Height : 207
Bits Per Sample : 8
Color Components : 1
Image Size : 300x207
Megapixels : 0.062