Uber Exif Photo
By-line : unknown
Make : Canon
Camera Model Name : Canon EOS 20D
Software : Adobe Photoshop Lightroom 4.3 (Windows)
Modify Date : 2013:02:21 20:27:00
Artist : unknown
Exposure Time : 1/250
F Number : 7.1
Exposure Program : Program AE
ISO : 200
Date/Time Original : 2013:02:21 12:12:05
Create Date : 2013:02:21 12:12:05
Shutter Speed Value : 1/250
Aperture Value : 7.1
Exposure Compensation : 0
Metering Mode : Multi-segment
Flash : Off, Did not fire
Focal Length : 40.0 mm
Custom Rendered : Normal
Exposure Mode : Auto
White Balance : Auto
Scene Capture Type : Standard
Owner Name : unknown
Serial Number : 1731004089
Lens Info : 40mm f/?
Lens Model : 40.0 mm
Profile Description : sRGB IEC61966-2.1
Format : image/jpeg
Lens : 40.0 mm
Image Number : 78
Flash Compensation : 0
Firmware : 2.0.3
Creator Tool : Adobe Photoshop Lightroom 4.3 (Windows)
Date Created : 2013:02:21 12:12:05
Version : 7.3
Process Version : 6.7
Color Temperature : 5650
Tint : -3
Saturation : +20
Sharpness : 41
Luminance Smoothing : 19
Color Noise Reduction : 25
Vignette Amount : -100
Vignette Midpoint : 37
Shadow Tint : 0
Red Hue : 0
Red Saturation : 0
Green Hue : 0
Green Saturation : 0
Blue Hue : 0
Blue Saturation : 0
Vibrance : +40
Hue Adjustment Red : 0
Hue Adjustment Orange : 0
Hue Adjustment Yellow : 0
Hue Adjustment Green : 0
Hue Adjustment Aqua : 0
Hue Adjustment Blue : 0
Hue Adjustment Purple : 0
Hue Adjustment Magenta : 0
Saturation Adjustment Red : +30
Saturation Adjustment Orange : +25
Saturation Adjustment Yellow : +38
Saturation Adjustment Green : +22
Saturation Adjustment Aqua : +10
Saturation Adjustment Blue : +5
Saturation Adjustment Purple : +10
Saturation Adjustment Magenta : +10
Luminance Adjustment Red : -15
Luminance Adjustment Orange : +15
Luminance Adjustment Yellow : +16
Luminance Adjustment Green : +5
Luminance Adjustment Aqua : +4
Luminance Adjustment Blue : +8
Luminance Adjustment Purple : 0
Luminance Adjustment Magenta : -1
Split Toning Shadow Hue : 0
Split Toning Shadow Saturation : 0
Split Toning Highlight Hue : 0
Split Toning Highlight Saturation : 0
Split Toning Balance : 0
Parametric Shadows : 0
Parametric Darks : 0
Parametric Lights : +10
Parametric Highlights : -20
Parametric Shadow Split : 25
Parametric Midtone Split : 50
Parametric Highlight Split : 75
Sharpen Radius : +1.0
Sharpen Detail : 25
Sharpen Edge Masking : 0
Post Crop Vignette Amount : 0
Grain Amount : 0
Luminance Noise Reduction Detail : 50
Color Noise Reduction Detail : 50
Luminance Noise Reduction Contrast : 0
Lens Profile Enable : 0
Lens Manual Distortion Amount : 0
Perspective Vertical : 0
Perspective Horizontal : 0
Perspective Rotate : 0.0
Perspective Scale : 100
Auto Lateral CA : 0
Exposure 2012 : 0.00
Contrast 2012 : 0
Highlights 2012 : 0
Shadows 2012 : 0
Whites 2012 : 0
Blacks 2012 : 0
Clarity 2012 : 0
Defringe Purple Amount : 0
Defringe Purple Hue Lo : 30
Defringe Purple Hue Hi : 70
Defringe Green Amount : 0
Defringe Green Hue Lo : 40
Defringe Green Hue Hi : 60
Convert To Grayscale : False
Tone Curve Name 2012 : Linear
Camera Profile : Adobe Standard
Lens Profile Setup : LensDefaults
Has Settings : True
Has Crop : False
Already Applied : True
Creator : unknown
Tone Curve PV2012 : 0, 0, 255, 255
Tone Curve PV2012 Red : 0, 0, 255, 255
Tone Curve PV2012 Green : 0, 0, 255, 255
Tone Curve PV2012 Blue : 0, 0, 255, 255
Image Width : 300
Image Height : 200
Bits Per Sample : 8
Color Components : 3
Aperture : 7.1
Image Size : 300x200
Megapixels : 0.060
Scale Factor To 35 mm Equivalent : 1.6
Shutter Speed : 1/250
Circle Of Confusion : 0.019 mm
Field Of View : 31.4 deg
Focal Length : 40.0 mm (35 mm equivalent: 64.1 mm)
Hyperfocal Distance : 12.01 m
Light Value : 12.6
Lens ID : 40.0mm