Uber Exif Photo
Make : Panasonic
Camera Model Name : DMC-GF3
Software : Adobe Photoshop Lightroom 4.3 (Windows)
Modify Date : 2013:03:30 15:07:11
Exposure Time : 1/160
F Number : 2.5
Exposure Program : Program AE
ISO : 160
Date/Time Original : 2013:03:27 19:41:55
Create Date : 2013:03:27 19:41:55
Shutter Speed Value : 1/160
Aperture Value : 2.5
Exposure Compensation : 0
Max Aperture Value : 2.5
Metering Mode : Multi-segment
Light Source : Unknown
Flash : Off, Did not fire
Focal Length : 14.0 mm
Sensing Method : One-chip color area
Scene Type : Directly photographed
Custom Rendered : Normal
Exposure Mode : Auto
White Balance : Auto
Digital Zoom Ratio : 0
Focal Length In 35mm Format : 29 mm
Scene Capture Type : Standard
Gain Control : Low gain up
Contrast : Normal
Saturation : Normal
Sharpness : Normal
Lens Model : LUMIX G 14/F2.5
Lens Serial Number : 01GG6151593R
Profile Description : sRGB IEC61966-2.1
Lens : LUMIX G 14/F2.5
Creator Tool : Adobe Photoshop Lightroom 4.3 (Windows)
Date Created : 2013:03:27 19:41:55
Format : image/jpeg
Version : 7.3
Process Version : 6.7
Color Temperature : 6900
Tint : +25
Luminance Smoothing : 14
Color Noise Reduction : 25
Vignette Amount : -76
Vignette Midpoint : 19
Shadow Tint : 0
Red Hue : 0
Red Saturation : 0
Green Hue : 0
Green Saturation : 0
Blue Hue : 0
Blue Saturation : 0
Gray Mixer Red : -9
Gray Mixer Orange : -18
Gray Mixer Yellow : -22
Gray Mixer Green : -27
Gray Mixer Aqua : -18
Gray Mixer Blue : +9
Gray Mixer Purple : +15
Gray Mixer Magenta : +4
Split Toning Shadow Hue : 0
Split Toning Shadow Saturation : 0
Split Toning Highlight Hue : 55
Split Toning Highlight Saturation : 22
Split Toning Balance : 0
Parametric Shadows : -10
Parametric Darks : -44
Parametric Lights : +39
Parametric Highlights : +41
Parametric Shadow Split : 19
Parametric Midtone Split : 50
Parametric Highlight Split : 75
Sharpen Radius : +1.0
Sharpen Detail : 25
Sharpen Edge Masking : 30
Post Crop Vignette Amount : 0
Grain Amount : 0
Luminance Noise Reduction Detail : 50
Color Noise Reduction Detail : 50
Luminance Noise Reduction Contrast : 0
Lens Profile Enable : 0
Lens Manual Distortion Amount : 0
Perspective Vertical : 0
Perspective Horizontal : 0
Perspective Rotate : 0.0
Perspective Scale : 100
Auto Lateral CA : 0
Exposure 2012 : +1.50
Contrast 2012 : -12
Highlights 2012 : -50
Shadows 2012 : +50
Whites 2012 : +15
Blacks 2012 : 0
Clarity 2012 : 0
Convert To Grayscale : True
Tone Curve Name 2012 : Linear
Camera Profile : ACR 4.4
Lens Profile Setup : LensDefaults
Has Settings : True
Crop Top : 0
Crop Left : 0.066208
Crop Bottom : 1
Crop Right : 0.933792
Crop Angle : 3.85168
Crop Constrain To Warp : 0
Crop Width : 1500
Crop Height : 1002
Crop Unit : pixels
Has Crop : True
Already Applied : True
Tone Curve PV2012 : 0, 0, 255, 255
Tone Curve PV2012 Red : 0, 0, 255, 255
Tone Curve PV2012 Green : 0, 0, 255, 255
Tone Curve PV2012 Blue : 0, 0, 255, 255
Image Width : 300
Image Height : 200
Bits Per Sample : 8
Color Components : 3
Aperture : 2.5
Image Size : 300x200
Megapixels : 0.060
Scale Factor To 35 mm Equivalent : 2.1
Shutter Speed : 1/160
Circle Of Confusion : 0.015 mm
Field Of View : 63.7 deg
Focal Length : 14.0 mm (35 mm equivalent: 29.0 mm)
Hyperfocal Distance : 5.40 m
Light Value : 9.3
Lens ID : LUMIX G 14mm F2.5