Uber Exif Photo
Copyright Flag : False
Photometric Interpretation : RGB
Make : Canon
Camera Model Name : Canon EOS 5D
Orientation : Horizontal (normal)
Samples Per Pixel : 3
Planar Configuration : Chunky
Software : Adobe Photoshop CS3 Windows
Modify Date : 2008:08:04 15:01:30
Exposure Time : 1/200
F Number : 8.0
Exposure Program : Aperture-priority AE
ISO : 400
Date/Time Original : 2008:07:08 08:29:12
Create Date : 2008:07:08 08:29:12
Shutter Speed Value : 1/200
Aperture Value : 8.0
Exposure Compensation : -2/3
Max Aperture Value : 4.0
Metering Mode : Multi-segment
Focal Length : 24.0 mm
Color Space : Uncalibrated
Exif Image Width : 860
Exif Image Height : 607
Custom Rendered : Normal
Exposure Mode : Auto
White Balance : Auto
Scene Capture Type : Standard
Profile Description : Adobe RGB (1998)
Date/Time Digitized : 2008:07:08 08:29:12-07:00
Rating : 0
Creator Tool : Adobe Photoshop CS3 Windows
Serial Number : 1611000008
Lens Info : 24-105mm f/?
Lens : EF24-105mm f/4L IS USM
Image Number : 2
Flash Compensation : 0
Firmware : 1.1.0
Raw File Name : _MG_9250.CR2
Version : 4.4.1
Color Temperature : 4600
Tint : +1
Exposure : +0.35
Shadows : 7
Brightness : +50
Contrast : +48
Saturation : +19
Sharpness : 25
Luminance Smoothing : 0
Color Noise Reduction : 25
Chromatic Aberration R : 0
Chromatic Aberration B : 0
Vignette Amount : 0
Shadow Tint : 0
Red Hue : 0
Red Saturation : 0
Green Hue : 0
Green Saturation : 0
Blue Hue : 0
Blue Saturation : 0
Fill Light : 14
Vibrance : +15
Highlight Recovery : 0
Clarity : 0
Defringe : 0
Hue Adjustment Red : 0
Hue Adjustment Orange : 0
Hue Adjustment Yellow : 0
Hue Adjustment Green : 0
Hue Adjustment Aqua : 0
Hue Adjustment Blue : 0
Hue Adjustment Purple : 0
Hue Adjustment Magenta : 0
Saturation Adjustment Red : 0
Saturation Adjustment Orange : 0
Saturation Adjustment Yellow : 0
Saturation Adjustment Green : 0
Saturation Adjustment Aqua : 0
Saturation Adjustment Blue : 0
Saturation Adjustment Purple : 0
Saturation Adjustment Magenta : 0
Luminance Adjustment Red : 0
Luminance Adjustment Orange : 0
Luminance Adjustment Yellow : 0
Luminance Adjustment Green : 0
Luminance Adjustment Aqua : 0
Luminance Adjustment Blue : 0
Luminance Adjustment Purple : 0
Luminance Adjustment Magenta : 0
Split Toning Shadow Hue : 0
Split Toning Shadow Saturation : 0
Split Toning Highlight Hue : 0
Split Toning Highlight Saturation : 0
Split Toning Balance : 0
Parametric Shadows : 0
Parametric Darks : 0
Parametric Lights : 0
Parametric Highlights : 0
Parametric Shadow Split : 25
Parametric Midtone Split : 50
Parametric Highlight Split : 75
Sharpen Radius : +1.0
Sharpen Detail : 25
Sharpen Edge Masking : 0
Convert To Grayscale : False
Tone Curve Name : Medium Contrast
Camera Profile : ACR 4.4
Has Settings : True
Crop Top : 0.166144
Crop Left : 0.195402
Crop Bottom : 0.702194
Crop Right : 0.69488
Crop Angle : 0
Has Crop : True
Already Applied : True
Sidecar For Extension : CR2
Color Mode : RGB
ICC Profile Name : Adobe RGB (1998)
Format : image/jpeg
Flash Fired : False
Flash Return : No return detection
Flash Mode : Off
Flash Function : False
Flash Red Eye Mode : False
Tone Curve : 0, 0, 32, 22, 64, 56, 128, 128, 192, 196, 255, 255
Image Width : 300
Image Height : 212
Bits Per Sample : 8
Color Components : 3
Aperture : 8.0
Image Size : 300x212
Megapixels : 0.064
Scale Factor To 35 mm Equivalent : 1.0
Shutter Speed : 1/200
Flash : Off, Did not fire
Circle Of Confusion : 0.030 mm
Field Of View : 73.6 deg
Focal Length : 24.0 mm (35 mm equivalent: 24.0 mm)
Hyperfocal Distance : 2.40 m
Light Value : 11.6
Lens ID : EF24-105mm f/4L IS USM