Uber Exif Photo
Copyright Flag : False
Photometric Interpretation : BlackIsZero
Make : Canon
Camera Model Name : Canon EOS 5D
Orientation : Horizontal (normal)
Samples Per Pixel : 1
Software : Adobe Photoshop CS3 Windows
Modify Date : 2009:03:19 18:00:35
Exposure Time : 1/15
F Number : 4.0
Exposure Program : Aperture-priority AE
ISO : 400
Date/Time Original : 2009:03:11 12:04:03
Create Date : 2009:03:11 12:04:03
Shutter Speed Value : 1/15
Aperture Value : 4.0
Exposure Compensation : -1
Max Aperture Value : 4.0
Metering Mode : Unknown
Focal Length : 24.0 mm
Color Space : Uncalibrated
Exif Image Width : 689
Exif Image Height : 860
Custom Rendered : Normal
Exposure Mode : Auto
White Balance : Auto
Scene Capture Type : Standard
Date/Time Digitized : 2009:03:11 12:04:03-07:00
Rating : 0
Creator Tool : Adobe Photoshop CS3 Windows
Serial Number : 1611000008
Lens Info : 24-105mm f/?
Lens : EF24-105mm f/4L IS USM
Image Number : 1
Flash Compensation : 0
Firmware : 1.1.1
Raw File Name : _MG_1468.CR2
Version : 4.6
Color Temperature : 5300
Tint : +1
Exposure : +0.85
Shadows : 6
Brightness : +61
Contrast : +36
Sharpness : 60
Luminance Smoothing : 25
Color Noise Reduction : 25
Chromatic Aberration R : 0
Chromatic Aberration B : 0
Vignette Amount : 0
Shadow Tint : 0
Red Hue : 0
Red Saturation : 0
Green Hue : 0
Green Saturation : 0
Blue Hue : 0
Blue Saturation : 0
Fill Light : 31
Highlight Recovery : 26
Clarity : +100
Defringe : 0
Gray Mixer Red : -3
Gray Mixer Orange : -12
Gray Mixer Yellow : -15
Gray Mixer Green : -22
Gray Mixer Aqua : -20
Gray Mixer Blue : +4
Gray Mixer Purple : +12
Gray Mixer Magenta : +6
Split Toning Shadow Hue : 0
Split Toning Shadow Saturation : 0
Split Toning Highlight Hue : 0
Split Toning Highlight Saturation : 0
Split Toning Balance : 0
Parametric Shadows : 0
Parametric Darks : 0
Parametric Lights : 0
Parametric Highlights : 0
Parametric Shadow Split : 25
Parametric Midtone Split : 50
Parametric Highlight Split : 75
Sharpen Radius : +1.0
Sharpen Detail : 40
Sharpen Edge Masking : 0
Post Crop Vignette Amount : 0
Convert To Grayscale : True
Tone Curve Name : Medium Contrast
Camera Profile : ACR 4.4
Has Settings : True
Crop Top : 0.034705
Crop Left : 0.328427
Crop Bottom : 0.992163
Crop Right : 0.799073
Crop Angle : 1.888188
Has Crop : True
Already Applied : True
Format : image/jpeg
Color Mode : Grayscale
ICC Profile Name : Gray Gamma 2.2
Flash Fired : False
Flash Return : No return detection
Flash Mode : Off
Flash Function : False
Flash Red Eye Mode : False
Tone Curve : 0, 0, 32, 22, 64, 56, 128, 128, 192, 196, 255, 255
Image Width : 240
Image Height : 300
Bits Per Sample : 8
Color Components : 1
Aperture : 4.0
Image Size : 240x300
Megapixels : 0.072
Scale Factor To 35 mm Equivalent : 1.0
Shutter Speed : 1/15
Flash : Off, Did not fire
Circle Of Confusion : 0.030 mm
Field Of View : 73.6 deg
Focal Length : 24.0 mm (35 mm equivalent: 24.0 mm)
Hyperfocal Distance : 4.80 m
Light Value : 5.9
Lens ID : EF24-105mm f/4L IS USM