Uber Exif Photo
Make : Canon
Camera Model Name : Canon PowerShot SD950 IS
Software : Adobe Photoshop Lightroom 4.3 (Windows)
Modify Date : 2013:04:19 23:02:25
Exposure Time : 1/60
F Number : 2.8
ISO : 80
Date/Time Original : 2011:05:07 16:31:45
Create Date : 2011:05:07 16:31:45
Shutter Speed Value : 1/60
Aperture Value : 2.8
Exposure Compensation : 0
Max Aperture Value : 2.8
Metering Mode : Multi-segment
Flash : Auto, Did not fire
Focal Length : 7.7 mm
Sensing Method : One-chip color area
Custom Rendered : Normal
Exposure Mode : Auto
White Balance : Auto
Digital Zoom Ratio : 1
Scene Capture Type : Standard
Lens Info : 7.7-28.5mm f/?
Lens Model : 7.7-28.5 mm
Lens : 7.7-28.5 mm
Approximate Focus Distance : 1.38
Flash Compensation : 0
Firmware : 1.00
Creator Tool : Adobe Photoshop Lightroom 4.3 (Windows)
Date Created : 2011:05:07 16:31:45
Format : image/jpeg
Version : 7.3
Process Version : 6.7
Incremental Temperature : +59
Incremental Tint : +27
Saturation : -100
Sharpness : 57
Luminance Smoothing : 0
Color Noise Reduction : 25
Vignette Amount : 0
Shadow Tint : +8
Red Hue : 0
Red Saturation : 0
Green Hue : 0
Green Saturation : 0
Blue Hue : 0
Blue Saturation : 0
Vibrance : 0
Hue Adjustment Red : +96
Hue Adjustment Orange : 0
Hue Adjustment Yellow : 0
Hue Adjustment Green : +11
Hue Adjustment Aqua : 0
Hue Adjustment Blue : +11
Hue Adjustment Purple : 0
Hue Adjustment Magenta : 0
Saturation Adjustment Red : +3
Saturation Adjustment Orange : 0
Saturation Adjustment Yellow : 0
Saturation Adjustment Green : +25
Saturation Adjustment Aqua : 0
Saturation Adjustment Blue : -70
Saturation Adjustment Purple : 0
Saturation Adjustment Magenta : 0
Luminance Adjustment Red : 0
Luminance Adjustment Orange : 0
Luminance Adjustment Yellow : 0
Luminance Adjustment Green : 0
Luminance Adjustment Aqua : 0
Luminance Adjustment Blue : 0
Luminance Adjustment Purple : 0
Luminance Adjustment Magenta : 0
Split Toning Shadow Hue : 0
Split Toning Shadow Saturation : 0
Split Toning Highlight Hue : 0
Split Toning Highlight Saturation : 0
Split Toning Balance : 0
Parametric Shadows : -14
Parametric Darks : -3
Parametric Lights : 0
Parametric Highlights : 0
Parametric Shadow Split : 25
Parametric Midtone Split : 50
Parametric Highlight Split : 75
Sharpen Radius : +1.0
Sharpen Detail : 25
Sharpen Edge Masking : 0
Post Crop Vignette Amount : 0
Grain Amount : 0
Color Noise Reduction Detail : 50
Lens Profile Enable : 0
Lens Manual Distortion Amount : 0
Perspective Vertical : 0
Perspective Horizontal : 0
Perspective Rotate : 0.0
Perspective Scale : 100
Auto Lateral CA : 0
Exposure 2012 : 0.00
Contrast 2012 : +25
Highlights 2012 : -100
Shadows 2012 : 0
Whites 2012 : -46
Blacks 2012 : +29
Clarity 2012 : +25
Defringe Purple Amount : 0
Defringe Purple Hue Lo : 30
Defringe Purple Hue Hi : 70
Defringe Green Amount : 0
Defringe Green Hue Lo : 40
Defringe Green Hue Hi : 60
Convert To Grayscale : False
Tone Curve Name 2012 : Linear
Camera Profile : Adobe Standard
Lens Profile Setup : LensDefaults
Has Settings : True
Has Crop : False
Already Applied : True
Tone Curve PV2012 : 0, 0, 255, 255
Tone Curve PV2012 Red : 0, 0, 255, 255
Tone Curve PV2012 Green : 0, 0, 255, 255
Tone Curve PV2012 Blue : 0, 0, 255, 255
Image Width : 300
Image Height : 223
Bits Per Sample : 8
Color Components : 1
Aperture : 2.8
Image Size : 300x223
Megapixels : 0.067
Scale Factor To 35 mm Equivalent : 4.7
Shutter Speed : 1/60
Circle Of Confusion : 0.006 mm
Depth Of Field : 1.39 m (0.97 - 2.36 m)
Field Of View : 53.1 deg
Focal Length : 7.7 mm (35 mm equivalent: 36.0 mm)
Hyperfocal Distance : 3.30 m
Light Value : 9.2
Lens ID : 7.7-28.5mm