Uber Exif Photo
Caption-Abstract : SONY DSC
Image Description : SONY DSC
Make : SONY
Camera Model Name : DSLR-A850
Orientation : Horizontal (normal)
Software : Adobe Photoshop Elements 10.0 Macintosh
Modify Date : 2013:04:22 22:49:39
Exposure Time : 1/80
F Number : 3.5
Exposure Program : Aperture-priority AE
ISO : 125
Sensitivity Type : Unknown
Date/Time Original : 2011:10:15 12:57:08
Create Date : 2011:10:15 12:57:08
Shutter Speed Value : 1/80
Aperture Value : 3.5
Brightness Value : 4.25
Exposure Compensation : -0.3
Max Aperture Value : 2.8
Metering Mode : Multi-segment
Light Source : Unknown
Focal Length : 75.0 mm
Color Space : sRGB
Exif Image Width : 4758
Exif Image Height : 3796
Scene Type : Directly photographed
Custom Rendered : Normal
Exposure Mode : Auto
White Balance : Auto
Focal Length In 35mm Format : 75 mm
Scene Capture Type : Standard
Contrast : Normal
Saturation : Normal
Sharpness : Normal
Lens Info : 28-75mm f/2.8
Lens Model : 28-75mm F2.8 SAM
Profile Description : sRGB IEC61966-2.1
Creator Tool : Adobe Photoshop Lightroom
Format : image/jpeg
Lens : 28-75mm F2.8 SAM
Date Created : 2011:10:15
Color Mode : RGB
ICC Profile Name : sRGB IEC61966-2.1
Version : 6.2
Process Version : 5.7
Color Temperature : 7000
Tint : +17
Exposure : 0.00
Shadows : 9
Brightness : +50
Luminance Smoothing : 24
Color Noise Reduction : 25
Chromatic Aberration R : 0
Chromatic Aberration B : 0
Vignette Amount : 0
Shadow Tint : 0
Red Hue : 0
Red Saturation : 0
Green Hue : 0
Green Saturation : 0
Blue Hue : 0
Blue Saturation : 0
Fill Light : 14
Vibrance : 0
Highlight Recovery : 0
Clarity : 0
Defringe : 0
Hue Adjustment Red : 0
Hue Adjustment Orange : 0
Hue Adjustment Yellow : 0
Hue Adjustment Green : 0
Hue Adjustment Aqua : 0
Hue Adjustment Blue : 0
Hue Adjustment Purple : 0
Hue Adjustment Magenta : 0
Saturation Adjustment Red : 0
Saturation Adjustment Orange : +48
Saturation Adjustment Yellow : +25
Saturation Adjustment Green : 0
Saturation Adjustment Aqua : 0
Saturation Adjustment Blue : 0
Saturation Adjustment Purple : 0
Saturation Adjustment Magenta : 0
Luminance Adjustment Red : 0
Luminance Adjustment Orange : +77
Luminance Adjustment Yellow : +39
Luminance Adjustment Green : 0
Luminance Adjustment Aqua : 0
Luminance Adjustment Blue : 0
Luminance Adjustment Purple : 0
Luminance Adjustment Magenta : 0
Split Toning Shadow Hue : 0
Split Toning Shadow Saturation : 0
Split Toning Highlight Hue : 0
Split Toning Highlight Saturation : 0
Split Toning Balance : 0
Parametric Shadows : 0
Parametric Darks : 0
Parametric Lights : 0
Parametric Highlights : 0
Parametric Shadow Split : 25
Parametric Midtone Split : 50
Parametric Highlight Split : 75
Sharpen Radius : +1.0
Sharpen Detail : 25
Sharpen Edge Masking : 0
Post Crop Vignette Amount : -100
Post Crop Vignette Midpoint : 29
Post Crop Vignette Feather : 100
Post Crop Vignette Roundness : 0
Post Crop Vignette Style : Highlight Priority
Post Crop Vignette Highlight Contrast : 0
Grain Amount : 0
Luminance Noise Reduction Detail : 50
Color Noise Reduction Detail : 50
Luminance Noise Reduction Contrast : 0
Lens Profile Enable : 1
Lens Manual Distortion Amount : 0
Perspective Vertical : 0
Perspective Horizontal : 0
Perspective Rotate : 0.0
Perspective Scale : 100
Convert To Grayscale : False
Tone Curve Name : Medium Contrast
Camera Profile : Adobe Standard
Lens Profile Setup : Custom
Lens Profile Name : Adobe (Sony 50mm f/1.4)
Lens Profile Filename : DSLR-A900 (Sony 50mm f1.4) - RAW.lcp
Lens Profile Distortion Scale : 100
Lens Profile Chromatic Aberration Scale : 100
Lens Profile Vignetting Scale : 100
Has Settings : True
Crop Top : 0.063127
Crop Left : 0
Crop Bottom : 1
Crop Right : 0.782696
Crop Angle : 0
Crop Constrain To Warp : 0
Crop Width : 4734
Crop Height : 3777
Crop Unit : pixels
Has Crop : True
Already Applied : True
Description : SONY DSC
Flash Fired : False
Flash Return : No return detection
Flash Mode : Off
Flash Function : False
Flash Red Eye Mode : False
Tone Curve : 0, 0, 32, 22, 64, 56, 128, 128, 192, 196, 255, 255
Image Width : 300
Image Height : 239
Bits Per Sample : 8
Color Components : 3
Aperture : 3.5
Image Size : 300x239
Megapixels : 0.072
Scale Factor To 35 mm Equivalent : 1.0
Shutter Speed : 1/80
Flash : Off, Did not fire
Circle Of Confusion : 0.030 mm
Field Of View : 27.0 deg
Focal Length : 75.0 mm (35 mm equivalent: 75.0 mm)
Hyperfocal Distance : 53.49 m
Light Value : 9.6
Lens ID : Sony 28-75mm F2.8 SAM (SAL2875)