Uber Exif Photo
Keywords : China, Safety, Suzhou, Travel
Copyright Notice : Carlos Causillas - 2010
Copyright Flag : True
Make : Canon
Camera Model Name : Canon EOS 5D Mark II
Software : Adobe Photoshop Lightroom 4.0 (Macintosh)
Modify Date : 2012:03:18 07:54:49
Copyright : Carlos Causillas - 2010
Exposure Time : 1/500
F Number : 6.3
Exposure Program : Aperture-priority AE
ISO : 400
Date/Time Original : 2011:07:17 15:10:25
Create Date : 2011:07:17 15:10:25
Shutter Speed Value : 1/500
Aperture Value : 6.3
Exposure Compensation : +1/3
Max Aperture Value : 4.0
Subject Distance : 11.9 m
Metering Mode : Partial
Flash : On, Did not fire
Focal Length : 67.0 mm
Exposure Mode : Auto
White Balance : Auto
Scene Capture Type : Standard
Serial Number : 320104823
Lens Info : 24-105mm f/?
Lens Model : EF24-105mm f/4L IS USM
Approximate Focus Distance : 11.9
Firmware : 2.0.4
Flash Compensation : 0
Image Number : 0
Lens : EF24-105mm f/4L IS USM
Format : image/jpeg
Creator Tool : Adobe Photoshop Lightroom 4.0 (Macintosh)
Label : Green
Date Created : 2011:07:17 15:10:25
Marked : True
Version : 7.0
Process Version : 6.7
Incremental Temperature : 0
Incremental Tint : 0
Exposure : 0.00
Shadows : 0
Brightness : 0
Contrast : 0
Saturation : 0
Sharpness : 0
Luminance Smoothing : 0
Color Noise Reduction : 0
Vignette Amount : 0
Shadow Tint : 0
Red Hue : 0
Red Saturation : 0
Green Hue : 0
Green Saturation : 0
Blue Hue : 0
Blue Saturation : 0
Fill Light : 0
Vibrance : 0
Highlight Recovery : 0
Clarity : 0
Defringe : 0
Hue Adjustment Red : 0
Hue Adjustment Orange : 0
Hue Adjustment Yellow : 0
Hue Adjustment Green : 0
Hue Adjustment Aqua : 0
Hue Adjustment Blue : 0
Hue Adjustment Purple : 0
Hue Adjustment Magenta : 0
Saturation Adjustment Red : 0
Saturation Adjustment Orange : 0
Saturation Adjustment Yellow : 0
Saturation Adjustment Green : 0
Saturation Adjustment Aqua : 0
Saturation Adjustment Blue : 0
Saturation Adjustment Purple : 0
Saturation Adjustment Magenta : 0
Luminance Adjustment Red : 0
Luminance Adjustment Orange : 0
Luminance Adjustment Yellow : 0
Luminance Adjustment Green : 0
Luminance Adjustment Aqua : 0
Luminance Adjustment Blue : 0
Luminance Adjustment Purple : 0
Luminance Adjustment Magenta : 0
Split Toning Shadow Hue : 0
Split Toning Shadow Saturation : 0
Split Toning Highlight Hue : 0
Split Toning Highlight Saturation : 0
Split Toning Balance : 0
Parametric Shadows : 0
Parametric Darks : 0
Parametric Lights : 0
Parametric Highlights : 0
Parametric Shadow Split : 25
Parametric Midtone Split : 50
Parametric Highlight Split : 75
Sharpen Radius : +1.0
Sharpen Detail : 25
Sharpen Edge Masking : 0
Post Crop Vignette Amount : 0
Grain Amount : 0
Lens Profile Enable : 0
Lens Manual Distortion Amount : 0
Perspective Vertical : 0
Perspective Horizontal : 0
Perspective Rotate : 0.0
Perspective Scale : 100
Auto Lateral CA : 0
Exposure 2012 : 0.00
Contrast 2012 : 0
Highlights 2012 : 0
Shadows 2012 : 0
Whites 2012 : -44
Blacks 2012 : 0
Clarity 2012 : +24
Convert To Grayscale : False
Tone Curve Name : Linear
Tone Curve Name 2012 : Linear
Camera Profile : Embedded
Lens Profile Setup : LensDefaults
Has Settings : True
Crop Top : 0.115044
Crop Left : 0.101415
Crop Bottom : 0.930973
Crop Right : 0.917344
Crop Angle : 0
Crop Constrain To Warp : 0
Crop Width : 950
Crop Height : 633
Crop Unit : pixels
Has Crop : True
Already Applied : True
Rights : Carlos Causillas - 2010
Subject : China, Safety, Suzhou, Travel
Tone Curve : 0, 0, 255, 255
Tone Curve Red : 0, 0, 255, 255
Tone Curve Green : 0, 0, 255, 255
Tone Curve Blue : 0, 0, 255, 255
Tone Curve PV2012 : 0, 0, 255, 255
Tone Curve PV2012 Red : 0, 0, 255, 255
Tone Curve PV2012 Green : 0, 0, 255, 255
Tone Curve PV2012 Blue : 0, 0, 255, 255
Image Width : 300
Image Height : 200
Bits Per Sample : 8
Color Components : 1
Aperture : 6.3
Image Size : 300x200
Megapixels : 0.060
Scale Factor To 35 mm Equivalent : 1.0
Shutter Speed : 1/500
Create Date : 2011:07:17 15:10:25.45
Circle Of Confusion : 0.031 mm
Depth Of Field : 16.47 m (7.87 - 24.35 m)
Field Of View : 30.8 deg
Focal Length : 67.0 mm (35 mm equivalent: 65.4 mm)
Hyperfocal Distance : 23.14 m
Light Value : 12.3
Lens ID : Canon EF 24-105mm f/4L IS USM