Uber Exif Photo
By-line : Jim Craig
Copyright Notice : www.messenjah.ws
Make : Canon
Camera Model Name : Canon EOS 7D
Software : Adobe Photoshop Lightroom 4.3 (Windows)
Modify Date : 2013:04:06 08:54:54
Artist : Jim Craig
Copyright : www.messenjah.ws
Exposure Time : 1/40
F Number : 7.1
Exposure Program : Aperture-priority AE
ISO : 100
Date/Time Original : 2011:05:27 11:31:09
Create Date : 2011:05:27 11:31:09
Shutter Speed Value : 1/40
Aperture Value : 7.1
Exposure Compensation : 0
Max Aperture Value : 3.5
Subject Distance : 4.86 m
Metering Mode : Multi-segment
Flash : Off, Did not fire
Focal Length : 21.0 mm
Custom Rendered : Normal
Exposure Mode : Auto
White Balance : Manual
Scene Capture Type : Standard
Serial Number : 1780908873
Lens Info : 18-135mm f/?
Lens Model : EF-S18-135mm f/3.5-5.6 IS
Profile Description : sRGB IEC61966-2.1
Lens : EF-S18-135mm f/3.5-5.6 IS
Image Number : 0
Approximate Focus Distance : 4.86
Flash Compensation : 0
Firmware : 1.2.3
Creator Tool : Adobe Photoshop Lightroom 4.3 (Windows)
Date Created : 2011:05:27 11:31:09.93
Format : image/jpeg
Version : 7.3
Process Version : 6.7
Color Temperature : 5250
Tint : +8
Saturation : 0
Sharpness : 57
Luminance Smoothing : 0
Color Noise Reduction : 25
Vignette Amount : 0
Shadow Tint : 0
Red Hue : 0
Red Saturation : 0
Green Hue : 0
Green Saturation : 0
Blue Hue : 0
Blue Saturation : 0
Vibrance : 0
Hue Adjustment Red : 0
Hue Adjustment Orange : 0
Hue Adjustment Yellow : 0
Hue Adjustment Green : 0
Hue Adjustment Aqua : 0
Hue Adjustment Blue : 0
Hue Adjustment Purple : 0
Hue Adjustment Magenta : 0
Saturation Adjustment Red : 0
Saturation Adjustment Orange : 0
Saturation Adjustment Yellow : 0
Saturation Adjustment Green : 0
Saturation Adjustment Aqua : 0
Saturation Adjustment Blue : 0
Saturation Adjustment Purple : 0
Saturation Adjustment Magenta : 0
Luminance Adjustment Red : 0
Luminance Adjustment Orange : 0
Luminance Adjustment Yellow : 0
Luminance Adjustment Green : 0
Luminance Adjustment Aqua : 0
Luminance Adjustment Blue : 0
Luminance Adjustment Purple : 0
Luminance Adjustment Magenta : 0
Split Toning Shadow Hue : 0
Split Toning Shadow Saturation : 0
Split Toning Highlight Hue : 0
Split Toning Highlight Saturation : 0
Split Toning Balance : 0
Parametric Shadows : 0
Parametric Darks : 0
Parametric Lights : 0
Parametric Highlights : 0
Parametric Shadow Split : 25
Parametric Midtone Split : 50
Parametric Highlight Split : 75
Sharpen Radius : +1.0
Sharpen Detail : 25
Sharpen Edge Masking : 0
Post Crop Vignette Amount : 0
Grain Amount : 0
Color Noise Reduction Detail : 50
Lens Profile Enable : 1
Lens Manual Distortion Amount : 0
Perspective Vertical : 0
Perspective Horizontal : 0
Perspective Rotate : 0.0
Perspective Scale : 100
Auto Lateral CA : 1
Exposure 2012 : -0.25
Contrast 2012 : -8
Highlights 2012 : -25
Shadows 2012 : +25
Whites 2012 : +22
Blacks 2012 : +26
Clarity 2012 : 0
Defringe Purple Amount : 0
Defringe Purple Hue Lo : 30
Defringe Purple Hue Hi : 70
Defringe Green Amount : 0
Defringe Green Hue Lo : 40
Defringe Green Hue Hi : 60
Convert To Grayscale : False
Tone Curve Name 2012 : Medium Contrast
Camera Profile : Adobe Standard
Lens Profile Setup : Custom
Lens Profile Name : Adobe (Canon EF-S 18-135mm f/3.5-5.6 IS)
Lens Profile Filename : Canon EOS 50D (Canon EF-S 18-135mm f3.5-5.6 IS) - RAW.lcp
Lens Profile Distortion Scale : 100
Lens Profile Chromatic Aberration Scale : 100
Lens Profile Vignetting Scale : 100
Has Settings : True
Has Crop : False
Already Applied : True
Creator : Jim Craig
Rights : www.messenjah.ws
Tone Curve PV2012 : 0, 0, 32, 22, 64, 56, 128, 128, 192, 196, 255, 255
Tone Curve PV2012 Red : 0, 0, 255, 255
Tone Curve PV2012 Green : 0, 0, 255, 255
Tone Curve PV2012 Blue : 0, 0, 255, 255
Derived From :
Image Width : 300
Image Height : 200
Bits Per Sample : 8
Color Components : 3
Aperture : 7.1
Image Size : 300x200
Megapixels : 0.060
Scale Factor To 35 mm Equivalent : 1.6
Shutter Speed : 1/40
Create Date : 2011:05:27 11:31:09.93
Date/Time Original : 2011:05:27 11:31:09.93
Circle Of Confusion : 0.019 mm
Depth Of Field : inf (1.95 m - inf)
Field Of View : 57.3 deg
Focal Length : 21.0 mm (35 mm equivalent: 33.0 mm)
Hyperfocal Distance : 3.25 m
Light Value : 11.0
Lens ID : Canon EF-S 18-135mm f/3.5-5.6 IS