Uber Exif Photo
Make : Canon
Camera Model Name : Canon EOS 5D Mark III
Software : Adobe Photoshop Lightroom 4.4 (Macintosh)
Modify Date : 2013:04:28 16:57:06
Exposure Time : 1/200
F Number : 7.1
Exposure Program : Aperture-priority AE
ISO : 400
Sensitivity Type : Recommended Exposure Index
Recommended Exposure Index : 400
Date/Time Original : 2013:04:26 16:16:48
Create Date : 2013:04:26 16:16:48
Shutter Speed Value : 1/200
Aperture Value : 7.1
Exposure Compensation : -1/3
Max Aperture Value : 4.0
Metering Mode : Multi-segment
Flash : Off, Did not fire
Focal Length : 105.0 mm
Custom Rendered : Normal
Exposure Mode : Auto
White Balance : Auto
Scene Capture Type : Standard
Serial Number : 062024012443
Lens Info : 24-105mm f/?
Lens Model : EF24-105mm f/4L IS USM
Lens Serial Number : 0000427133
Label : Green
Creator Tool : Adobe Photoshop Lightroom 4.4 (Macintosh)
Lens : EF24-105mm f/4L IS USM
Image Number : 0
Approximate Focus Distance : 11.9
Flash Compensation : 0
Firmware : 1.1.3
Date Created : 2013:04:26 16:16:48.00
Format : image/jpeg
Version : 7.4
Process Version : 6.7
Incremental Temperature : 0
Incremental Tint : 0
Sharpness : 37
Luminance Smoothing : 0
Color Noise Reduction : 0
Vignette Amount : 0
Shadow Tint : 0
Red Hue : 0
Red Saturation : 0
Green Hue : 0
Green Saturation : 0
Blue Hue : 0
Blue Saturation : 0
Gray Mixer Red : -43
Gray Mixer Orange : 0
Gray Mixer Yellow : -22
Gray Mixer Green : -15
Gray Mixer Aqua : -18
Gray Mixer Blue : +36
Gray Mixer Purple : +15
Gray Mixer Magenta : +4
Split Toning Shadow Hue : 0
Split Toning Shadow Saturation : 0
Split Toning Highlight Hue : 0
Split Toning Highlight Saturation : 0
Split Toning Balance : 0
Parametric Shadows : -1
Parametric Darks : -2
Parametric Lights : +30
Parametric Highlights : +34
Parametric Shadow Split : 25
Parametric Midtone Split : 50
Parametric Highlight Split : 75
Sharpen Radius : +1.0
Sharpen Detail : 25
Sharpen Edge Masking : 0
Post Crop Vignette Amount : 0
Grain Amount : 0
Lens Profile Enable : 0
Lens Manual Distortion Amount : 0
Perspective Vertical : 0
Perspective Horizontal : 0
Perspective Rotate : 0.0
Perspective Scale : 100
Auto Lateral CA : 0
Exposure 2012 : +0.15
Contrast 2012 : +15
Highlights 2012 : 0
Shadows 2012 : 0
Whites 2012 : +21
Blacks 2012 : 0
Clarity 2012 : +23
Convert To Grayscale : True
Tone Curve Name 2012 : Linear
Camera Profile : Embedded
Lens Profile Setup : LensDefaults
Has Settings : True
Crop Top : 0.19283
Crop Left : 0.266605
Crop Bottom : 0.702993
Crop Right : 0.776769
Crop Angle : 0
Crop Constrain To Warp : 0
Crop Width : 1200
Crop Height : 800
Crop Unit : pixels
Has Crop : True
Already Applied : True
Tone Curve PV2012 : 0, 0, 255, 255
Tone Curve PV2012 Red : 0, 0, 255, 255
Tone Curve PV2012 Green : 0, 0, 255, 255
Tone Curve PV2012 Blue : 0, 0, 255, 255
Image Width : 300
Image Height : 200
Bits Per Sample : 8
Color Components : 1
Aperture : 7.1
Image Size : 300x200
Megapixels : 0.060
Scale Factor To 35 mm Equivalent : 1.0
Shutter Speed : 1/200
Create Date : 2013:04:26 16:16:48.00
Date/Time Original : 2013:04:26 16:16:48.00
Circle Of Confusion : 0.031 mm
Depth Of Field : 5.92 m (9.63 - 15.56 m)
Field Of View : 20.0 deg
Focal Length : 105.0 mm (35 mm equivalent: 101.9 mm)
Hyperfocal Distance : 50.17 m
Light Value : 11.3
Lens ID : Canon EF 24-105mm f/4L IS USM