Uber Exif Photo
Caption-Abstract : SONY DSC
Image Description : SONY DSC
Make : SONY
Camera Model Name : DSLR-A850
Orientation : Horizontal (normal)
Software : Adobe Photoshop Elements 10.0 Macintosh
Modify Date : 2013:05:02 21:37:10
Exposure Time : 1/320
F Number : 5.6
Exposure Program : Aperture-priority AE
ISO : 200
Date/Time Original : 2013:05:01 12:35:32
Create Date : 2013:05:01 12:35:32
Shutter Speed Value : 1/320
Aperture Value : 5.6
Brightness Value : 7.12
Exposure Compensation : -0.3
Max Aperture Value : 5.0
Metering Mode : Spot
Light Source : Unknown
Focal Length : 150.0 mm
Color Space : sRGB
Exif Image Width : 4734
Exif Image Height : 2668
Scene Type : Directly photographed
Custom Rendered : Normal
Exposure Mode : Auto
White Balance : Auto
Focal Length In 35mm Format : 150 mm
Scene Capture Type : Standard
Contrast : Normal
Saturation : Normal
Sharpness : Normal
Lens Info : 150-500mm f/5-6.3
Lens Model : 150-500mm F5.0-6.3
Profile Description : sRGB IEC61966-2.1
Creator Tool : Adobe Photoshop Lightroom 4.4 (Macintosh)
Lens : 150-500mm F5.0-6.3
Date Created : 2013:05:01
Color Mode : RGB
ICC Profile Name : sRGB IEC61966-2.1
Format : image/jpeg
Version : 7.4
Process Version : 6.7
Color Temperature : 5000
Tint : +10
Luminance Smoothing : 0
Color Noise Reduction : 25
Vignette Amount : 0
Shadow Tint : 0
Red Hue : 0
Red Saturation : 0
Green Hue : 0
Green Saturation : 0
Blue Hue : 0
Blue Saturation : 0
Gray Mixer Red : -7
Gray Mixer Orange : -16
Gray Mixer Yellow : -20
Gray Mixer Green : -25
Gray Mixer Aqua : -19
Gray Mixer Blue : +7
Gray Mixer Purple : +15
Gray Mixer Magenta : +5
Split Toning Shadow Hue : 0
Split Toning Shadow Saturation : 0
Split Toning Highlight Hue : 0
Split Toning Highlight Saturation : 0
Split Toning Balance : 0
Parametric Shadows : 0
Parametric Darks : 0
Parametric Lights : 0
Parametric Highlights : 0
Parametric Shadow Split : 25
Parametric Midtone Split : 50
Parametric Highlight Split : 75
Sharpen Radius : +1.0
Sharpen Detail : 25
Sharpen Edge Masking : 0
Post Crop Vignette Amount : 0
Grain Amount : 0
Color Noise Reduction Detail : 50
Lens Profile Enable : 0
Lens Manual Distortion Amount : 0
Perspective Vertical : 0
Perspective Horizontal : 0
Perspective Rotate : 0.0
Perspective Scale : 100
Auto Lateral CA : 0
Exposure 2012 : +0.45
Contrast 2012 : 0
Highlights 2012 : -72
Shadows 2012 : 0
Whites 2012 : 0
Blacks 2012 : 0
Clarity 2012 : +45
Convert To Grayscale : True
Tone Curve Name 2012 : Linear
Camera Profile : Adobe Standard
Lens Profile Setup : LensDefaults
Has Settings : True
Crop Top : 0.258059
Crop Left : 0.06957
Crop Bottom : 0.917077
Crop Right : 0.849954
Crop Angle : 0
Crop Constrain To Warp : 0
Crop Width : 4720
Crop Height : 2657
Crop Unit : pixels
Has Crop : True
Already Applied : True
Description : SONY DSC
Tone Curve PV2012 : 0, 0, 255, 255
Tone Curve PV2012 Red : 0, 0, 255, 255
Tone Curve PV2012 Green : 0, 0, 255, 255
Tone Curve PV2012 Blue : 0, 0, 255, 255
Paint Correction What : Correction
Paint Correction Amount : 1.000000
Paint Correction Active : true
Paint Correction Saturation : 0.000000
Paint Correction Sharpness : 0.147610
Paint Correction Brightness : 0.000000
Paint Correction Toning Hue : 0.000000
Paint Correction Toning Saturation : 0.000000
Paint Correction Exposure 2012 : 0.470680
Paint Correction Contrast 2012 : 0.152114
Paint Correction Highlights 2012 : 0.174357
Paint Correction Shadows 2012 : 0.053860
Paint Correction Clarity 2012 : 0.263695
Paint Correction Luminance Noise : 0.000000
Paint Correction Moire : 0.000000
Paint Correction Defringe : 0.000000
Paint Correction Temperature : 0.330607
Paint Correction Tint : 0.144485
Paint Correction Mask What : Mask/Paint
Paint Correction Mask Value : 1.000000
Paint Correction Mask Radius : 0.064011
Paint Correction Mask Flow : 0.594434
Paint Correction Mask Center Weight : 0.135291
Flash Fired : False
Flash Return : No return detection
Flash Mode : Off
Flash Function : False
Flash Red Eye Mode : False
Image Width : 300
Image Height : 169
Bits Per Sample : 8
Color Components : 3
Aperture : 5.6
Image Size : 300x169
Megapixels : 0.051
Scale Factor To 35 mm Equivalent : 1.0
Shutter Speed : 1/320
Flash : Off, Did not fire
Circle Of Confusion : 0.030 mm
Field Of View : 13.7 deg
Focal Length : 150.0 mm (35 mm equivalent: 150.0 mm)
Hyperfocal Distance : 133.72 m
Light Value : 12.3
Lens ID : Sigma 150-500mm F5-6.3 APO DG OS HSM