Uber Exif Photo
Make : NIKON CORPORATION
Camera Model Name : NIKON D7000
Orientation : Horizontal (normal)
Software : Adobe Photoshop CS6 (Macintosh)
Modify Date : 2013:04:19 18:50:45
Exposure Time : 1/640
F Number : 5.6
Exposure Program : Aperture-priority AE
ISO : 200
Sensitivity Type : Recommended Exposure Index
Date/Time Original : 2013:03:03 17:44:57
Create Date : 2013:03:03 17:44:57
Shutter Speed Value : 1/640
Aperture Value : 5.6
Exposure Compensation : +1/3
Max Aperture Value : 2.8
Metering Mode : Multi-segment
Light Source : Unknown
Flash : Off, Did not fire
Focal Length : 24.0 mm
Color Space : Uncalibrated
Exif Image Width : 1024
Exif Image Height : 658
Sensing Method : One-chip color area
Scene Type : Directly photographed
CFA Pattern : [Red,Green][Green,Blue]
Custom Rendered : Normal
Exposure Mode : Auto
White Balance : Auto
Digital Zoom Ratio : 1
Focal Length In 35mm Format : 36 mm
Scene Capture Type : Standard
Gain Control : None
Contrast : Normal
Saturation : Normal
Sharpness : Normal
Subject Distance Range : Unknown
Serial Number : 6064886
Lens Info : 24mm f/2.8
Lens Model : 24.0 mm f/2.8
Rating : 0
Label :
Creator Tool : Ver.1.03
Lens : 24.0 mm f/2.8
Image Number : 19868
Approximate Focus Distance : 0.03
Date Created : 2013:03:03 17:44:57.001
Color Mode : RGB
ICC Profile Name : ProPhoto RGB
Format : image/jpeg
Raw File Name : _DSC9570.NEF
Version : 7.0
Process Version : 6.7
Color Temperature : 5250
Tint : +64
Exposure : 0.00
Shadows : 5
Brightness : +50
Luminance Smoothing : 0
Color Noise Reduction : 25
Vignette Amount : 0
Shadow Tint : 0
Red Hue : 0
Red Saturation : 0
Green Hue : 0
Green Saturation : 0
Blue Hue : 0
Blue Saturation : 0
Fill Light : 0
Highlight Recovery : 0
Clarity : 0
Defringe : 0
Gray Mixer Red : +14
Gray Mixer Orange : -68
Gray Mixer Yellow : +8
Gray Mixer Green : -12
Gray Mixer Aqua : +61
Gray Mixer Blue : +33
Gray Mixer Purple : -59
Gray Mixer Magenta : +40
Split Toning Shadow Hue : 0
Split Toning Shadow Saturation : 0
Split Toning Highlight Hue : 0
Split Toning Highlight Saturation : 0
Split Toning Balance : 0
Parametric Shadows : 0
Parametric Darks : 0
Parametric Lights : 0
Parametric Highlights : 0
Parametric Shadow Split : 25
Parametric Midtone Split : 50
Parametric Highlight Split : 75
Sharpen Radius : +1.0
Sharpen Detail : 25
Sharpen Edge Masking : 0
Post Crop Vignette Amount : 0
Grain Amount : 0
Color Noise Reduction Detail : 50
Lens Profile Enable : 0
Lens Manual Distortion Amount : 0
Perspective Vertical : 0
Perspective Horizontal : 0
Perspective Rotate : 0.0
Perspective Scale : 100
Auto Lateral CA : 0
Exposure 2012 : +0.75
Contrast 2012 : +79
Highlights 2012 : -43
Shadows 2012 : +20
Whites 2012 : -68
Blacks 2012 : +8
Clarity 2012 : +45
Convert To Grayscale : True
Tone Curve Name : Medium Contrast
Tone Curve Name 2012 : Linear
Camera Profile : Adobe Standard
Lens Profile Setup : LensDefaults
Has Settings : True
Crop Top : 0.100593
Crop Left : 0.066101
Crop Bottom : 0.972955
Crop Right : 0.999836
Crop Angle : -0.977217
Crop Constrain To Warp : 0
Has Crop : True
Already Applied : True
Tone Curve : 0, 0, 32, 22, 64, 56, 128, 128, 192, 196, 255, 255
Tone Curve Red : 0, 0, 255, 255
Tone Curve Green : 0, 0, 255, 255
Tone Curve Blue : 0, 0, 255, 255
Tone Curve PV2012 : 0, 0, 255, 255
Tone Curve PV2012 Red : 0, 0, 255, 255
Tone Curve PV2012 Green : 0, 0, 255, 255
Tone Curve PV2012 Blue : 0, 0, 255, 255
Image Width : 300
Image Height : 193
Bits Per Sample : 8
Color Components : 1
Aperture : 5.6
Image Size : 300x193
Megapixels : 0.058
Scale Factor To 35 mm Equivalent : 1.5
Shutter Speed : 1/640
Create Date : 2013:03:03 17:44:57.10
Date/Time Original : 2013:03:03 17:44:57.10
Modify Date : 2013:04:19 18:50:45.10
Circle Of Confusion : 0.020 mm
Depth Of Field : 0.000 m (0.030 - 0.030 m)
Field Of View : 53.1 deg
Focal Length : 24.0 mm (35 mm equivalent: 36.0 mm)
Hyperfocal Distance : 5.13 m
Light Value : 13.3
Lens ID : AF Nikkor 24mm f/2.8