Uber Exif Photo
Photometric Interpretation : RGB
Make : Olympus
Camera Model Name : OM2sp
Orientation : Horizontal (normal)
Samples Per Pixel : 3
Planar Configuration : Chunky
Software : Adobe Photoshop CS5 Macintosh
Modify Date : 2012:07:21 22:34:40
Artist : Eduardo Romero
Copyright : Eduardo Romero
F Number : 11.0
Exposure Program : Program AE
ISO : 160
Create Date : 2012:07:21 18:49:41
Metering Mode : Multi-segment
Focal Length : 28.0 mm
User Comment : Zuiko 28mm 2.8.Kodak Portra 160.CVS Processing.Epson Perfection V750 Prp
Color Space : sRGB
Exif Image Width : 3352
Exif Image Height : 2071
Focal Length In 35mm Format : 28 mm
Format : image/jpeg
Creator Tool : Adobe Photoshop CS5 Macintosh
Version : 7.1
Process Version : 6.7
White Balance : Custom
Incremental Temperature : -5
Incremental Tint : -36
Sharpness : 25
Luminance Smoothing : 0
Color Noise Reduction : 25
Vignette Amount : 0
Shadow Tint : 0
Red Hue : 0
Red Saturation : 0
Green Hue : 0
Green Saturation : 0
Blue Hue : 0
Blue Saturation : 0
Gray Mixer Red : -60
Gray Mixer Orange : -42
Gray Mixer Yellow : -74
Gray Mixer Green : -59
Gray Mixer Aqua : +63
Gray Mixer Blue : +54
Gray Mixer Purple : +44
Gray Mixer Magenta : +65
Split Toning Shadow Hue : 0
Split Toning Shadow Saturation : 0
Split Toning Highlight Hue : 0
Split Toning Highlight Saturation : 0
Split Toning Balance : 0
Parametric Shadows : 0
Parametric Darks : 0
Parametric Lights : 0
Parametric Highlights : 0
Parametric Shadow Split : 25
Parametric Midtone Split : 50
Parametric Highlight Split : 75
Sharpen Radius : +1.0
Sharpen Detail : 25
Sharpen Edge Masking : 0
Post Crop Vignette Amount : 0
Grain Amount : 0
Color Noise Reduction Detail : 50
Lens Profile Enable : 0
Lens Manual Distortion Amount : 0
Perspective Vertical : 0
Perspective Horizontal : 0
Perspective Rotate : 0.0
Perspective Scale : 100
Auto Lateral CA : 0
Exposure 2012 : +0.80
Contrast 2012 : +44
Highlights 2012 : -50
Shadows 2012 : 0
Whites 2012 : -50
Blacks 2012 : -12
Clarity 2012 : +35
Convert To Grayscale : True
Tone Curve Name 2012 : Linear
Camera Profile : Adobe Standard
Lens Profile Setup : LensDefaults
Has Settings : True
Has Crop : False
Already Applied : True
Color Mode : RGB
ICC Profile Name : sRGB IEC61966-2.1
Tone Curve PV2012 : 0, 0, 255, 255
Tone Curve PV2012 Red : 0, 0, 255, 255
Tone Curve PV2012 Green : 0, 0, 255, 255
Tone Curve PV2012 Blue : 0, 0, 255, 255
Image Width : 300
Image Height : 185
Bits Per Sample : 8
Color Components : 1
Aperture : 11.0
Image Size : 300x185
Megapixels : 0.056
Scale Factor To 35 mm Equivalent : 1.0
Circle Of Confusion : 0.030 mm
Field Of View : 65.5 deg
Focal Length : 28.0 mm (35 mm equivalent: 28.0 mm)
Hyperfocal Distance : 2.37 m