Uber Exif Photo
Sub-location : 青海
Province-State : 東京都
Country-Primary Location Name : 日本
Make : FUJIFILM
Camera Model Name : X-E1
Software : Adobe Photoshop Lightroom 4.4 (Macintosh)
Modify Date : 2013:05:20 20:45:38
Exposure Time : 1/50
F Number : 5.6
Exposure Program : Aperture-priority AE
ISO : 200
Sensitivity Type : Standard Output Sensitivity
Date/Time Original : 2013:05:19 15:24:27
Create Date : 2013:05:19 15:24:27
Shutter Speed Value : 1/50
Aperture Value : 5.6
Brightness Value : 5.24
Exposure Compensation : 0
Max Aperture Value : 2.8
Metering Mode : Multi-segment
Light Source : Unknown
Flash : Off, Did not fire
Focal Length : 55.0 mm
Sensing Method : One-chip color area
Scene Type : Directly photographed
Custom Rendered : Normal
Exposure Mode : Auto
White Balance : Auto
Focal Length In 35mm Format : 83 mm
Scene Capture Type : Standard
Sharpness : Hard
Subject Distance Range : Unknown
Lens Info : 18-55mm f/2.8-4
Lens Make : FUJIFILM
Lens Model : XF18-55mmF2.8-4 R LM OIS
Lens Serial Number : 24A73718
GPS Version ID : 2.2.0.0
GPS Latitude Ref : North
GPS Longitude Ref : East
GPS Altitude : 32.1932 m
Profile Description : sRGB IEC61966-2.1
Creator Tool : Adobe Photoshop Lightroom 4.4 (Macintosh)
Rating : 5
Lens : XF18-55mmF2.8-4 R LM OIS
Date Created : 2013:05:19 15:24:27
City : 江東区
State : 東京都
Country : 日本
Format : image/jpeg
Location : 青海
Version : 7.4
Process Version : 6.7
Incremental Temperature : +19
Incremental Tint : -51
Luminance Smoothing : 0
Color Noise Reduction : 0
Vignette Amount : -80
Vignette Midpoint : 0
Shadow Tint : +17
Red Hue : +48
Red Saturation : +45
Green Hue : -100
Green Saturation : +2
Blue Hue : -100
Blue Saturation : -81
Gray Mixer Red : +34
Gray Mixer Orange : +8
Gray Mixer Yellow : -17
Gray Mixer Green : -69
Gray Mixer Aqua : +2
Gray Mixer Blue : -100
Gray Mixer Purple : +25
Gray Mixer Magenta : 0
Split Toning Shadow Hue : 231
Split Toning Shadow Saturation : 5
Split Toning Highlight Hue : 240
Split Toning Highlight Saturation : 1
Split Toning Balance : 0
Parametric Shadows : -33
Parametric Darks : +62
Parametric Lights : +7
Parametric Highlights : +10
Parametric Shadow Split : 25
Parametric Midtone Split : 50
Parametric Highlight Split : 75
Sharpen Radius : +1.0
Sharpen Detail : 25
Sharpen Edge Masking : 0
Post Crop Vignette Amount : 0
Grain Amount : 0
Lens Profile Enable : 0
Lens Manual Distortion Amount : 0
Perspective Vertical : 0
Perspective Horizontal : 0
Perspective Rotate : 0.0
Perspective Scale : 100
Auto Lateral CA : 0
Exposure 2012 : 0.00
Contrast 2012 : +59
Highlights 2012 : 0
Shadows 2012 : 0
Whites 2012 : +53
Blacks 2012 : -26
Clarity 2012 : 0
Convert To Grayscale : True
Tone Curve Name 2012 : Linear
Camera Profile : Embedded
Lens Profile Setup : LensDefaults
Has Settings : True
Crop Top : 0.036768
Crop Left : 0
Crop Bottom : 1
Crop Right : 0.963232
Crop Angle : 0
Crop Constrain To Warp : 0
Crop Width : 2464
Crop Height : 1643
Crop Unit : pixels
Has Crop : True
Already Applied : True
Tone Curve PV2012 : 0, 0, 255, 255
Tone Curve PV2012 Red : 0, 0, 255, 255
Tone Curve PV2012 Green : 0, 0, 255, 255
Tone Curve PV2012 Blue : 0, 0, 255, 255
Gradient Based Corr What : Correction
Gradient Based Corr Amount : 1.000000
Gradient Based Corr Active : true
Gradient Based Corr Saturation : 0.000000
Gradient Based Corr Sharpness : 0.000000
Gradient Based Corr Brightness : 0.000000
Gradient Based Corr Toning Hue : 0.000000
Gradient Based Corr Toning Saturation : 0.000000
Gradient Based Corr Exposure 2012 : -0.746946
Gradient Based Corr Contrast 2012 : 0.000000
Gradient Based Corr Highlights 2012 : 0.000000
Gradient Based Corr Shadows 2012 : 0.000000
Gradient Based Corr Clarity 2012 : 0.000000
Gradient Based Corr Luminance Noise : 0.000000
Gradient Based Corr Moire : 0.000000
Gradient Based Corr Defringe : 0.000000
Gradient Based Corr Temperature : 0.000000
Gradient Based Corr Tint : 0.000000
Gradient Based Corr Mask What : Mask/Gradient
Gradient Based Corr Mask Value : 1.000000
Gradient Based Corr Mask Zero X : 0.284755
Gradient Based Corr Mask Zero Y : 0.554901
Gradient Based Corr Mask Full X : 0.030822
Gradient Based Corr Mask Full Y : 1.013970
Image Width : 300
Image Height : 200
Bits Per Sample : 8
Color Components : 3
Aperture : 5.6
Image Size : 300x200
Megapixels : 0.060
Scale Factor To 35 mm Equivalent : 1.5
Shutter Speed : 1/50
GPS Latitude : 35 deg 37' 31.91" N
GPS Longitude : 139 deg 46' 37.34" E
Circle Of Confusion : 0.020 mm
Field Of View : 24.5 deg
Focal Length : 55.0 mm (35 mm equivalent: 83.0 mm)
GPS Position : 35 deg 37' 31.91" N, 139 deg 46' 37.34" E
Hyperfocal Distance : 27.13 m
Light Value : 9.6
Lens ID : XF18-55mm F2.8-4 R LM OIS