Uber Exif Photo
Make : SONY
Camera Model Name : NEX-5N
Software : Adobe Photoshop Lightroom 3.6 (Windows)
Modify Date : 2013:05:28 15:09:14
Exposure Time : 1/80
F Number : 16.0
Exposure Program : Aperture-priority AE
ISO : 2500
Sensitivity Type : Recommended Exposure Index
Recommended Exposure Index : 2500
Date/Time Original : 2013:05:28 13:24:21
Create Date : 2013:05:28 13:24:21
Shutter Speed Value : 1/80
Aperture Value : 16.0
Brightness Value : 6.19296875
Exposure Compensation : 0
Max Aperture Value : 1.8
Metering Mode : Center-weighted average
Light Source : Unknown
Flash : Off, Did not fire
Focal Length : 50.0 mm
Scene Type : Directly photographed
Custom Rendered : Normal
Exposure Mode : Auto
White Balance : Auto
Focal Length In 35mm Format : 75 mm
Scene Capture Type : Standard
Contrast : Normal
Saturation : Normal
Sharpness : Normal
Lens Info : 50mm f/1.8
Lens Model : E 50mm F1.8 OSS
Creator Tool : Adobe Photoshop Lightroom 3.6 (Windows)
Lens : E 50mm F1.8 OSS
Date Created : 2013:05:28 13:24:21
Version : 6.6
Process Version : 5.7
Color Temperature : 5450
Tint : +46
Exposure : -0.95
Shadows : 18
Brightness : 0
Luminance Smoothing : 0
Color Noise Reduction : 25
Chromatic Aberration R : 0
Chromatic Aberration B : 0
Vignette Amount : 0
Shadow Tint : 0
Red Hue : 0
Red Saturation : 0
Green Hue : 0
Green Saturation : 0
Blue Hue : 0
Blue Saturation : 0
Fill Light : 36
Highlight Recovery : 10
Clarity : +25
Defringe : 0
Gray Mixer Red : +22
Gray Mixer Orange : 0
Gray Mixer Yellow : 0
Gray Mixer Green : +42
Gray Mixer Aqua : 0
Gray Mixer Blue : +36
Gray Mixer Purple : 0
Gray Mixer Magenta : 0
Split Toning Shadow Hue : 0
Split Toning Shadow Saturation : 0
Split Toning Highlight Hue : 0
Split Toning Highlight Saturation : 0
Split Toning Balance : 0
Parametric Shadows : 0
Parametric Darks : -16
Parametric Lights : 0
Parametric Highlights : +92
Parametric Shadow Split : 25
Parametric Midtone Split : 50
Parametric Highlight Split : 75
Sharpen Radius : +0.5
Sharpen Detail : 11
Sharpen Edge Masking : 0
Post Crop Vignette Amount : 0
Grain Amount : 0
Color Noise Reduction Detail : 50
Lens Profile Enable : 1
Lens Manual Distortion Amount : 0
Perspective Vertical : 0
Perspective Horizontal : 0
Perspective Rotate : 0.0
Perspective Scale : 100
Convert To Grayscale : True
Tone Curve Name : Strong Contrast
Camera Profile : Neutral
Lens Profile Setup : LensDefaults
Lens Profile Name : NEX-5N - E 50mm F1.8 OSS
Lens Profile Filename : NEX-5N (E 50mm F1.8 OSS) - RAW.lcp
Lens Profile Distortion Scale : 100
Lens Profile Chromatic Aberration Scale : 100
Lens Profile Vignetting Scale : 100
Has Settings : True
Has Crop : False
Already Applied : True
Format : image/jpeg
Tone Curve : 0, 0, 32, 16, 64, 50, 128, 128, 192, 202, 255, 255
Image Width : 199
Image Height : 300
Bits Per Sample : 8
Color Components : 1
Aperture : 16.0
Image Size : 199x300
Megapixels : 0.060
Scale Factor To 35 mm Equivalent : 1.5
Shutter Speed : 1/80
Circle Of Confusion : 0.020 mm
Field Of View : 27.0 deg
Focal Length : 50.0 mm (35 mm equivalent: 75.0 mm)
Hyperfocal Distance : 7.80 m
Light Value : 9.7
Lens ID : E 50mm F1.8 OSS