Uber Exif Photo
Caption-Abstract : SONY DSC
Photometric Interpretation : RGB
Image Description : SONY DSC
Make : SONY
Camera Model Name : DSLR-A700
Orientation : Horizontal (normal)
Samples Per Pixel : 3
Software : Adobe Photoshop CS6 (Windows)
Modify Date : 2013:06:11 03:19:21
Exposure Time : 1/30
F Number : 5.0
Exposure Program : Aperture-priority AE
ISO : 640
Date/Time Original : 2009:09:22 18:34:24
Create Date : 2009:09:22 18:34:24
Shutter Speed Value : 1/30
Aperture Value : 5.0
Brightness Value : 2
Exposure Compensation : 0
Max Aperture Value : 4.5
Metering Mode : Multi-segment
Light Source : Unknown
Flash : Off, Did not fire
Focal Length : 30.0 mm
Color Space : Uncalibrated
Exif Image Width : 3000
Exif Image Height : 2000
Scene Type : Directly photographed
Custom Rendered : Normal
Exposure Mode : Auto
White Balance : Auto
Digital Zoom Ratio : 0
Focal Length In 35mm Format : 45 mm
Scene Capture Type : Standard
Contrast : Normal
Saturation : Normal
Sharpness : Normal
Lens Info : 16-105mm f/3.5-5.6
Lens Model : DT 16-105mm F3.5-5.6
Creator Tool : Adobe Photoshop Lightroom 4.4 (Windows)
Lens : DT 16-105mm F3.5-5.6
Date Created : 2009:09:22 18:34:24
Color Mode : Grayscale
ICC Profile Name : Dot Gain 20%
Format : image/jpeg
Version : 7.4
Process Version : 6.7
Color Temperature : 4800
Tint : +2
Luminance Smoothing : 0
Color Noise Reduction : 25
Vignette Amount : 0
Shadow Tint : 0
Red Hue : 0
Red Saturation : 0
Green Hue : 0
Green Saturation : 0
Blue Hue : 0
Blue Saturation : 0
Gray Mixer Red : -8
Gray Mixer Orange : -17
Gray Mixer Yellow : -21
Gray Mixer Green : -25
Gray Mixer Aqua : -18
Gray Mixer Blue : +10
Gray Mixer Purple : +16
Gray Mixer Magenta : +4
Split Toning Shadow Hue : 0
Split Toning Shadow Saturation : 0
Split Toning Highlight Hue : 0
Split Toning Highlight Saturation : 0
Split Toning Balance : 0
Parametric Shadows : 0
Parametric Darks : 0
Parametric Lights : 0
Parametric Highlights : 0
Parametric Shadow Split : 25
Parametric Midtone Split : 50
Parametric Highlight Split : 75
Sharpen Radius : +1.0
Sharpen Detail : 25
Sharpen Edge Masking : 0
Post Crop Vignette Amount : 0
Grain Amount : 0
Color Noise Reduction Detail : 50
Lens Profile Enable : 0
Lens Manual Distortion Amount : 0
Perspective Vertical : 0
Perspective Horizontal : 0
Perspective Rotate : 0.0
Perspective Scale : 100
Auto Lateral CA : 1
Exposure 2012 : 0.00
Contrast 2012 : 0
Highlights 2012 : 0
Shadows 2012 : 0
Whites 2012 : 0
Blacks 2012 : 0
Clarity 2012 : +15
Convert To Grayscale : True
Tone Curve Name 2012 : Linear
Camera Profile : Adobe Standard
Lens Profile Setup : LensDefaults
Has Settings : True
Has Crop : False
Already Applied : True
Description : SONY DSC
Tone Curve PV2012 : 0, 0, 255, 255
Tone Curve PV2012 Red : 0, 0, 255, 255
Tone Curve PV2012 Green : 0, 0, 255, 255
Tone Curve PV2012 Blue : 0, 0, 255, 255
Image Width : 300
Image Height : 200
Bits Per Sample : 8
Color Components : 1
Aperture : 5.0
Image Size : 300x200
Megapixels : 0.060
Scale Factor To 35 mm Equivalent : 1.5
Shutter Speed : 1/30
Circle Of Confusion : 0.020 mm
Field Of View : 43.6 deg
Focal Length : 30.0 mm (35 mm equivalent: 45.0 mm)
Hyperfocal Distance : 8.99 m
Light Value : 6.9
Lens ID : Sony DT 16-105mm F3.5-5.6 (SAL16105)