Uber Exif Photo
By-line : unknown
Make : Canon
Camera Model Name : Canon EOS 20D
Software : Adobe Photoshop Lightroom 4.2 (Windows)
Modify Date : 2013:07:06 18:50:23
Artist : unknown
Exposure Time : 1/400
F Number : 4.5
Exposure Program : Aperture-priority AE
ISO : 100
Date/Time Original : 2013:07:06 11:37:16
Create Date : 2013:07:06 11:37:16
Shutter Speed Value : 1/400
Aperture Value : 4.5
Exposure Compensation : 0
Max Aperture Value : 3.5
Metering Mode : Average
Flash : Off, Did not fire
Focal Length : 55.0 mm
Custom Rendered : Normal
Exposure Mode : Auto
White Balance : Manual
Scene Capture Type : Standard
Owner Name : unknown
Serial Number : 520201155
Lens Info : 28-105mm f/?
Lens Model : 28.0-105.0 mm
Profile Description : sRGB IEC61966-2.1
Format : image/jpeg
Lens : 28.0-105.0 mm
Image Number : 132
Flash Compensation : 0
Firmware : 2.0.3
Creator Tool : Adobe Photoshop Lightroom 4.2 (Windows)
Date Created : 2013:07:06 11:37:16
Version : 7.2
Process Version : 6.7
Color Temperature : 5000
Tint : 0
Saturation : 0
Sharpness : 25
Luminance Smoothing : 0
Color Noise Reduction : 25
Vignette Amount : 0
Shadow Tint : 0
Red Hue : 0
Red Saturation : 0
Green Hue : 0
Green Saturation : 0
Blue Hue : 0
Blue Saturation : 0
Vibrance : 0
Hue Adjustment Red : 0
Hue Adjustment Orange : 0
Hue Adjustment Yellow : 0
Hue Adjustment Green : 0
Hue Adjustment Aqua : 0
Hue Adjustment Blue : 0
Hue Adjustment Purple : 0
Hue Adjustment Magenta : 0
Saturation Adjustment Red : 0
Saturation Adjustment Orange : 0
Saturation Adjustment Yellow : 0
Saturation Adjustment Green : 0
Saturation Adjustment Aqua : 0
Saturation Adjustment Blue : 0
Saturation Adjustment Purple : 0
Saturation Adjustment Magenta : 0
Luminance Adjustment Red : 0
Luminance Adjustment Orange : 0
Luminance Adjustment Yellow : 0
Luminance Adjustment Green : 0
Luminance Adjustment Aqua : 0
Luminance Adjustment Blue : 0
Luminance Adjustment Purple : 0
Luminance Adjustment Magenta : 0
Split Toning Shadow Hue : 0
Split Toning Shadow Saturation : 0
Split Toning Highlight Hue : 0
Split Toning Highlight Saturation : 0
Split Toning Balance : 0
Parametric Shadows : 0
Parametric Darks : 0
Parametric Lights : 0
Parametric Highlights : 0
Parametric Shadow Split : 25
Parametric Midtone Split : 50
Parametric Highlight Split : 75
Sharpen Radius : +1.0
Sharpen Detail : 25
Sharpen Edge Masking : 0
Post Crop Vignette Amount : 0
Grain Amount : 0
Color Noise Reduction Detail : 50
Lens Profile Enable : 0
Lens Manual Distortion Amount : 0
Perspective Vertical : 0
Perspective Horizontal : 0
Perspective Rotate : 0.0
Perspective Scale : 100
Auto Lateral CA : 0
Exposure 2012 : 0.00
Contrast 2012 : 0
Highlights 2012 : -57
Shadows 2012 : +88
Whites 2012 : 0
Blacks 2012 : 0
Clarity 2012 : +12
Defringe Purple Amount : 0
Defringe Purple Hue Lo : 30
Defringe Purple Hue Hi : 70
Defringe Green Amount : 0
Defringe Green Hue Lo : 40
Defringe Green Hue Hi : 60
Convert To Grayscale : False
Tone Curve Name 2012 : Linear
Camera Profile : Adobe Standard
Lens Profile Setup : LensDefaults
Has Settings : True
Has Crop : False
Already Applied : True
Creator : unknown
Tone Curve PV2012 : 0, 0, 255, 255
Tone Curve PV2012 Red : 0, 0, 255, 255
Tone Curve PV2012 Green : 0, 0, 255, 255
Tone Curve PV2012 Blue : 0, 0, 255, 255
Image Width : 200
Image Height : 300
Bits Per Sample : 8
Color Components : 3
Aperture : 4.5
Image Size : 200x300
Megapixels : 0.060
Scale Factor To 35 mm Equivalent : 1.6
Shutter Speed : 1/400
Circle Of Confusion : 0.019 mm
Field Of View : 23.1 deg
Focal Length : 55.0 mm (35 mm equivalent: 88.1 mm)
Hyperfocal Distance : 35.83 m
Light Value : 13.0
Lens ID : 28.0-105.0mm