Uber Exif Photo
By-line : Ron Christian
Copyright Notice : 2012 Ronald O Christian
Make : NIKON CORPORATION
Camera Model Name : NIKON D700
Software : Adobe Photoshop Lightroom 3.6 (Windows)
Modify Date : 2012:09:15 09:21:15
Artist : Ron Christian
Copyright : 2012 Ronald O Christian
Exposure Time : 1/320
F Number : 4.0
Exposure Program : Aperture-priority AE
ISO : 200
Date/Time Original : 2012:09:09 13:03:12
Create Date : 2012:09:09 13:03:12
Shutter Speed Value : 1/320
Aperture Value : 4.0
Exposure Compensation : 0
Max Aperture Value : 1.4
Subject Distance : 5.01 m
Metering Mode : Multi-segment
Light Source : Unknown
Flash : No Flash
Focal Length : 85.0 mm
User Comment : BlackRooster
Sensing Method : One-chip color area
Scene Type : Directly photographed
CFA Pattern : [Red,Green][Green,Blue]
Custom Rendered : Normal
Exposure Mode : Auto
White Balance : Auto
Digital Zoom Ratio : 1
Focal Length In 35mm Format : 85 mm
Scene Capture Type : Standard
Gain Control : None
Contrast : Normal
Saturation : Normal
Sharpness : Normal
Subject Distance Range : Unknown
Serial Number : 2060029
Lens Info : 85mm f/1.4
Lens Model : 85.0 mm f/1.4
Profile Description : sRGB IEC61966-2.1
Format : image/jpeg
Creator Tool : Adobe Photoshop Lightroom 3.6 (Windows)
Lens : 85.0 mm f/1.4
Image Number : 35320
Approximate Focus Distance : 5.01
Date Created : 2012:09:09 13:03:12.42
Version : 6.6
Process Version : 5.7
Color Temperature : 4350
Tint : -3
Exposure : -0.51
Shadows : 5
Brightness : +50
Luminance Smoothing : 0
Color Noise Reduction : 25
Chromatic Aberration R : 0
Chromatic Aberration B : 0
Vignette Amount : 0
Shadow Tint : 0
Red Hue : 0
Red Saturation : 0
Green Hue : 0
Green Saturation : 0
Blue Hue : 0
Blue Saturation : 0
Fill Light : 0
Vibrance : +15
Highlight Recovery : 0
Clarity : 0
Defringe : 0
Hue Adjustment Red : 0
Hue Adjustment Orange : 0
Hue Adjustment Yellow : 0
Hue Adjustment Green : 0
Hue Adjustment Aqua : 0
Hue Adjustment Blue : +32
Hue Adjustment Purple : 0
Hue Adjustment Magenta : 0
Saturation Adjustment Red : 0
Saturation Adjustment Orange : 0
Saturation Adjustment Yellow : 0
Saturation Adjustment Green : 0
Saturation Adjustment Aqua : 0
Saturation Adjustment Blue : 0
Saturation Adjustment Purple : 0
Saturation Adjustment Magenta : 0
Luminance Adjustment Red : 0
Luminance Adjustment Orange : 0
Luminance Adjustment Yellow : 0
Luminance Adjustment Green : 0
Luminance Adjustment Aqua : 0
Luminance Adjustment Blue : 0
Luminance Adjustment Purple : 0
Luminance Adjustment Magenta : 0
Split Toning Shadow Hue : 0
Split Toning Shadow Saturation : 0
Split Toning Highlight Hue : 0
Split Toning Highlight Saturation : 0
Split Toning Balance : 0
Parametric Shadows : 0
Parametric Darks : 0
Parametric Lights : 0
Parametric Highlights : 0
Parametric Shadow Split : 25
Parametric Midtone Split : 50
Parametric Highlight Split : 75
Sharpen Radius : +1.0
Sharpen Detail : 25
Sharpen Edge Masking : 0
Post Crop Vignette Amount : 0
Grain Amount : 0
Color Noise Reduction Detail : 50
Lens Profile Enable : 0
Lens Manual Distortion Amount : 0
Perspective Vertical : 0
Perspective Horizontal : 0
Perspective Rotate : 0.0
Perspective Scale : 100
Convert To Grayscale : False
Tone Curve Name : Medium Contrast
Camera Profile : Adobe Standard
Lens Profile Setup : LensDefaults
Has Settings : True
Crop Top : 0.121759
Crop Left : 0.117027
Crop Bottom : 0.915117
Crop Right : 0.968733
Crop Angle : -1.84855
Crop Constrain To Warp : 0
Crop Width : 3551
Crop Height : 2362
Crop Unit : pixels
Has Crop : True
Already Applied : True
Creator : Ron Christian
Rights : 2012 Ronald O Christian
Tone Curve : 0, 0, 32, 22, 64, 56, 128, 128, 192, 196, 255, 255
Image Width : 199
Image Height : 300
Bits Per Sample : 8
Color Components : 3
Aperture : 4.0
Image Size : 199x300
Megapixels : 0.060
Scale Factor To 35 mm Equivalent : 1.0
Shutter Speed : 1/320
Create Date : 2012:09:09 13:03:12.42
Date/Time Original : 2012:09:09 13:03:12.42
Circle Of Confusion : 0.030 mm
Depth Of Field : 0.83 m (4.63 - 5.46 m)
Field Of View : 23.9 deg
Focal Length : 85.0 mm (35 mm equivalent: 85.0 mm)
Hyperfocal Distance : 60.12 m
Light Value : 11.3
Lens ID : AF Nikkor 85mm f/1.4D IF or Samyang AE 85mm f/1.4 AS IF UMC