Uber Exif Photo
Photometric Interpretation : RGB
Make : FUJIFILM
Camera Model Name : FinePix X100
Orientation : Horizontal (normal)
Samples Per Pixel : 3
Software : Adobe Photoshop CS5 Windows
Modify Date : 2013:07:25 00:04:26
Exposure Time : 1/500
F Number : 2.0
Exposure Program : Manual
ISO : 400
Sensitivity Type : Standard Output Sensitivity
Date/Time Original : 2013:05:25 10:16:51
Create Date : 2013:05:25 10:16:51
Shutter Speed Value : 1/500
Aperture Value : 2.0
Brightness Value : 4.72
Exposure Compensation : 0
Max Aperture Value : 2.0
Metering Mode : Multi-segment
Light Source : Unknown
Flash : Off, Did not fire
Focal Length : 23.0 mm
Color Space : sRGB
Exif Image Width : 536
Exif Image Height : 800
Sensing Method : One-chip color area
Scene Type : Directly photographed
Custom Rendered : Normal
Exposure Mode : Manual
White Balance : Auto
Scene Capture Type : Standard
Sharpness : Normal
Subject Distance Range : Unknown
Creator Tool : Adobe Photoshop CS5 Windows
Rating : 5
Date Created : 2013:05:25 10:16:51
Color Mode : RGB
ICC Profile Name : sRGB IEC61966-2.1
Format : image/jpeg
Version : 7.4
Process Version : 6.7
Color Temperature : 3650
Tint : -47
Saturation : -75
Luminance Smoothing : 0
Color Noise Reduction : 25
Vignette Amount : 0
Shadow Tint : -4
Red Hue : +97
Red Saturation : -100
Green Hue : +100
Green Saturation : +100
Blue Hue : -23
Blue Saturation : +3
Vibrance : +38
Hue Adjustment Red : 0
Hue Adjustment Orange : 0
Hue Adjustment Yellow : 0
Hue Adjustment Green : 0
Hue Adjustment Aqua : 0
Hue Adjustment Blue : 0
Hue Adjustment Purple : 0
Hue Adjustment Magenta : 0
Saturation Adjustment Red : 0
Saturation Adjustment Orange : 0
Saturation Adjustment Yellow : 0
Saturation Adjustment Green : 0
Saturation Adjustment Aqua : 0
Saturation Adjustment Blue : -7
Saturation Adjustment Purple : +22
Saturation Adjustment Magenta : 0
Luminance Adjustment Red : 0
Luminance Adjustment Orange : 0
Luminance Adjustment Yellow : 0
Luminance Adjustment Green : 0
Luminance Adjustment Aqua : 0
Luminance Adjustment Blue : 0
Luminance Adjustment Purple : 0
Luminance Adjustment Magenta : 0
Split Toning Shadow Hue : 0
Split Toning Shadow Saturation : 0
Split Toning Highlight Hue : 0
Split Toning Highlight Saturation : 0
Split Toning Balance : 0
Parametric Shadows : +10
Parametric Darks : +40
Parametric Lights : +48
Parametric Highlights : +46
Parametric Shadow Split : 25
Parametric Midtone Split : 50
Parametric Highlight Split : 75
Sharpen Radius : +1.0
Sharpen Detail : 25
Sharpen Edge Masking : 0
Post Crop Vignette Amount : 0
Grain Amount : 0
Color Noise Reduction Detail : 50
Lens Profile Enable : 0
Lens Manual Distortion Amount : 0
Perspective Vertical : 0
Perspective Horizontal : 0
Perspective Rotate : 0.0
Perspective Scale : 100
Auto Lateral CA : 0
Exposure 2012 : 0.00
Contrast 2012 : 0
Highlights 2012 : -21
Shadows 2012 : 0
Whites 2012 : 0
Blacks 2012 : 0
Clarity 2012 : +35
Defringe Purple Amount : 0
Defringe Purple Hue Lo : 30
Defringe Purple Hue Hi : 70
Defringe Green Amount : 0
Defringe Green Hue Lo : 40
Defringe Green Hue Hi : 60
Convert To Grayscale : False
Tone Curve Name 2012 : Linear
Camera Profile : Adobe Standard
Lens Profile Setup : LensDefaults
Has Settings : True
Has Crop : False
Already Applied : True
Tone Curve PV2012 : 0, 0, 255, 255
Tone Curve PV2012 Red : 0, 0, 255, 255
Tone Curve PV2012 Green : 0, 0, 255, 255
Tone Curve PV2012 Blue : 0, 0, 255, 255
Image Width : 201
Image Height : 300
Bits Per Sample : 8
Color Components : 1
Aperture : 2.0
Image Size : 201x300
Megapixels : 0.060
Scale Factor To 35 mm Equivalent : 4.2
Shutter Speed : 1/500
Circle Of Confusion : 0.007 mm
Field Of View : 21.4 deg
Focal Length : 23.0 mm (35 mm equivalent: 95.5 mm)
Hyperfocal Distance : 36.55 m
Light Value : 9.0