Uber Exif Photo
Keywords : street
Make : Leica Camera AG
Camera Model Name : M8 Digital Camera
Software : 2.004
Modify Date : 2010:05:18 09:27:45
Exposure Time : 1/750
F Number : 4.8
Exposure Program : Manual
ISO : 160
Date/Time Original : 2010:04:11 12:43:30
Create Date : 2010:04:11 12:43:30
Shutter Speed Value : 1/750
Aperture Value : 4.8
Exposure Compensation : 0
Max Aperture Value : 3.5
Metering Mode : Center-weighted average
Light Source : Unknown
Focal Length : 35.0 mm
Scene Type : Directly photographed
White Balance : Auto
Digital Zoom Ratio : 0
Scene Capture Type : Standard
Lens : Carl Zeiss Planar 35mm f/3.5
Serial Number : 3107167
Date/Time Digitized : 2010:04:11 12:43:30+09:00
Exif Image Width : 800
Exif Image Height : 538
Creator Tool : Adobe Photoshop Lightroom
Version : 5.6
Color Temperature : 4700
Tint : -5
Exposure : -0.92
Shadows : 11
Brightness : +50
Contrast : +50
Saturation : 0
Sharpness : 25
Luminance Smoothing : 0
Color Noise Reduction : 25
Chromatic Aberration R : 0
Chromatic Aberration B : 0
Vignette Amount : 0
Shadow Tint : 0
Red Hue : 0
Red Saturation : 0
Green Hue : 0
Green Saturation : 0
Blue Hue : 0
Blue Saturation : 0
Fill Light : 0
Vibrance : 0
Highlight Recovery : 70
Clarity : +4
Defringe : 0
Hue Adjustment Red : 0
Hue Adjustment Orange : 0
Hue Adjustment Yellow : 0
Hue Adjustment Green : 0
Hue Adjustment Aqua : 0
Hue Adjustment Blue : 0
Hue Adjustment Purple : 0
Hue Adjustment Magenta : 0
Saturation Adjustment Red : -100
Saturation Adjustment Orange : -100
Saturation Adjustment Yellow : -100
Saturation Adjustment Green : -100
Saturation Adjustment Aqua : -100
Saturation Adjustment Blue : -100
Saturation Adjustment Purple : -100
Saturation Adjustment Magenta : -100
Luminance Adjustment Red : 0
Luminance Adjustment Orange : 0
Luminance Adjustment Yellow : 0
Luminance Adjustment Green : 0
Luminance Adjustment Aqua : 0
Luminance Adjustment Blue : 0
Luminance Adjustment Purple : 0
Luminance Adjustment Magenta : 0
Split Toning Shadow Hue : 0
Split Toning Shadow Saturation : 0
Split Toning Highlight Hue : 0
Split Toning Highlight Saturation : 0
Split Toning Balance : 0
Parametric Shadows : -33
Parametric Darks : -15
Parametric Lights : 0
Parametric Highlights : -38
Parametric Shadow Split : 25
Parametric Midtone Split : 50
Parametric Highlight Split : 75
Sharpen Radius : +1.0
Sharpen Detail : 25
Sharpen Edge Masking : 0
Post Crop Vignette Amount : 0
Convert To Grayscale : False
Tone Curve Name : Linear
Camera Profile : Adobe Standard
Has Settings : True
Has Crop : False
Already Applied : True
Flash Fired : False
Flash Return : No return detection
Flash Mode : Off
Flash Function : False
Flash Red Eye Mode : False
Subject : street
Tone Curve : 0, 0, 255, 255
Image Width : 300
Image Height : 202
Bits Per Sample : 8
Color Components : 1
Aperture : 4.8
Image Size : 300x202
Megapixels : 0.061
Scale Factor To 35 mm Equivalent : 6.6
Shutter Speed : 1/750
Flash : Off, Did not fire
Circle Of Confusion : 0.005 mm
Field Of View : 8.9 deg
Focal Length : 35.0 mm (35 mm equivalent: 231.3 mm)
Hyperfocal Distance : 56.13 m
Light Value : 13.4
Lens ID : Carl Zeiss Planar 35mm f/3.5