Uber Exif Photo
Make : FUJIFILM
Camera Model Name : X-E1
Software : Adobe Photoshop Lightroom 5.0 (Macintosh)
Modify Date : 2013:08:03 22:30:33
Exposure Time : 1/4
F Number : 3.2
Exposure Program : Program AE
ISO : 1600
Sensitivity Type : Standard Output Sensitivity
Date/Time Original : 2013:06:30 17:09:34
Create Date : 2013:06:30 17:09:34
Shutter Speed Value : 1/4
Aperture Value : 3.2
Brightness Value : -3.74
Exposure Compensation : 0
Max Aperture Value : 2.8
Metering Mode : Multi-segment
Light Source : Unknown
Flash : Off, Did not fire
Focal Length : 25.4 mm
Sensing Method : One-chip color area
Scene Type : Directly photographed
Custom Rendered : Normal
Exposure Mode : Auto
White Balance : Auto
Focal Length In 35mm Format : 38 mm
Scene Capture Type : Standard
Sharpness : Normal
Subject Distance Range : Unknown
Lens Info : 18-55mm f/2.8-4
Lens Make : FUJIFILM
Lens Model : XF18-55mmF2.8-4 R LM OIS
Lens Serial Number : 24A36621
Profile Description : sRGB IEC61966-2.1
Creator Tool : Adobe Photoshop Lightroom 5.0 (Macintosh)
Rating : 5
Lens : XF18-55mmF2.8-4 R LM OIS
Date Created : 2013:06:30 17:09:34
Format : image/jpeg
Version : 8.1
Process Version : 6.7
Incremental Temperature : 0
Incremental Tint : 0
Saturation : -6
Luminance Smoothing : 0
Color Noise Reduction : 0
Vignette Amount : 0
Shadow Tint : 0
Red Hue : 0
Red Saturation : 0
Green Hue : 0
Green Saturation : 0
Blue Hue : 0
Blue Saturation : 0
Vibrance : +61
Hue Adjustment Red : 0
Hue Adjustment Orange : 0
Hue Adjustment Yellow : 0
Hue Adjustment Green : 0
Hue Adjustment Aqua : 0
Hue Adjustment Blue : 0
Hue Adjustment Purple : +58
Hue Adjustment Magenta : +59
Saturation Adjustment Red : 0
Saturation Adjustment Orange : 0
Saturation Adjustment Yellow : 0
Saturation Adjustment Green : 0
Saturation Adjustment Aqua : 0
Saturation Adjustment Blue : 0
Saturation Adjustment Purple : 0
Saturation Adjustment Magenta : 0
Luminance Adjustment Red : 0
Luminance Adjustment Orange : 0
Luminance Adjustment Yellow : -28
Luminance Adjustment Green : -42
Luminance Adjustment Aqua : 0
Luminance Adjustment Blue : 0
Luminance Adjustment Purple : +52
Luminance Adjustment Magenta : +59
Split Toning Shadow Hue : 0
Split Toning Shadow Saturation : 0
Split Toning Highlight Hue : 0
Split Toning Highlight Saturation : 0
Split Toning Balance : 0
Parametric Shadows : 0
Parametric Darks : 0
Parametric Lights : 0
Parametric Highlights : 0
Parametric Shadow Split : 25
Parametric Midtone Split : 50
Parametric Highlight Split : 75
Sharpen Radius : +1.0
Sharpen Detail : 25
Sharpen Edge Masking : 0
Post Crop Vignette Amount : 0
Grain Amount : 0
Lens Profile Enable : 0
Lens Manual Distortion Amount : 0
Perspective Vertical : 0
Perspective Horizontal : 0
Perspective Rotate : 0.0
Perspective Scale : 100
Perspective Aspect : 0
Perspective Upright : Off
Auto Lateral CA : 0
Exposure 2012 : 0.00
Contrast 2012 : 0
Highlights 2012 : -50
Shadows 2012 : +63
Whites 2012 : +24
Blacks 2012 : -37
Clarity 2012 : +39
Defringe Purple Amount : 0
Defringe Purple Hue Lo : 30
Defringe Purple Hue Hi : 70
Defringe Green Amount : 0
Defringe Green Hue Lo : 40
Defringe Green Hue Hi : 60
Convert To Grayscale : False
Tone Curve Name 2012 : Linear
Camera Profile : Embedded
Lens Profile Setup : LensDefaults
Has Settings : True
Crop Top : 0.02167
Crop Left : 0.256123
Crop Bottom : 0.975388
Crop Right : 0.995172
Crop Angle : -0.700732
Crop Constrain To Warp : 0
Has Crop : True
Already Applied : True
Tone Curve PV2012 : 0, 0, 255, 255
Tone Curve PV2012 Red : 0, 0, 255, 255
Tone Curve PV2012 Green : 0, 0, 255, 255
Tone Curve PV2012 Blue : 0, 0, 255, 255
Image Width : 265
Image Height : 300
Bits Per Sample : 8
Color Components : 3
Aperture : 3.2
Image Size : 265x300
Megapixels : 0.080
Scale Factor To 35 mm Equivalent : 1.5
Shutter Speed : 1/4
Circle Of Confusion : 0.020 mm
Field Of View : 50.7 deg
Focal Length : 25.4 mm (35 mm equivalent: 38.0 mm)
Hyperfocal Distance : 10.04 m
Light Value : 1.4
Lens ID : XF18-55mm F2.8-4 R LM OIS