Uber Exif Photo
Make : SONY
Camera Model Name : DSC-RX100
Orientation : Horizontal (normal)
Software : Adobe Photoshop CS5 Windows
Modify Date : 2013:08:04 13:26:47
Exposure Time : 1/400
F Number : 5.6
Exposure Program : Program AE
ISO : 80
Sensitivity Type : Recommended Exposure Index
Recommended Exposure Index : 80
Date/Time Original : 2013:01:12 20:14:49
Create Date : 2013:01:12 20:14:49
Shutter Speed Value : 1/400
Aperture Value : 5.6
Brightness Value : 9.98203125
Exposure Compensation : -0.3
Max Aperture Value : 4.9
Metering Mode : Multi-segment
Light Source : Unknown
Flash : Off, Did not fire
Focal Length : 37.1 mm
Color Space : sRGB
Exif Image Width : 2592
Exif Image Height : 3888
Scene Type : Directly photographed
Custom Rendered : Normal
Exposure Mode : Auto
White Balance : Auto
Digital Zoom Ratio : 1.1875
Focal Length In 35mm Format : 100 mm
Scene Capture Type : Standard
Contrast : Low
Saturation : Low
Sharpness : Soft
Lens Info : 10.4-37.1mm f/1.8-4.9
Lens Model : 10.4-37.1 mm f/1.8-4.9
Profile Description : sRGB IEC61966-2.1
Creator Tool : Microsoft Windows Photo Viewer 6.1.7600.16385
Rating : 0
Lens : 10.4-37.1 mm f/1.8-4.9
Date Created : 2013:01:12 20:14:49
Color Mode : RGB
ICC Profile Name : sRGB IEC61966-2.1
Format : image/jpeg
Raw File Name : DSC00991.JPG
Version : 6.7
Process Version : 5.7
Incremental Temperature : 0
Incremental Tint : 0
Exposure : 0.00
Shadows : 0
Brightness : 0
Luminance Smoothing : 0
Color Noise Reduction : 0
Vignette Amount : 0
Shadow Tint : 0
Red Hue : 0
Red Saturation : 0
Green Hue : 0
Green Saturation : 0
Blue Hue : 0
Blue Saturation : 0
Fill Light : 0
Vibrance : 0
Highlight Recovery : 0
Clarity : +44
Defringe : 0
Hue Adjustment Red : 0
Hue Adjustment Orange : -12
Hue Adjustment Yellow : -12
Hue Adjustment Green : -12
Hue Adjustment Aqua : -13
Hue Adjustment Blue : +14
Hue Adjustment Purple : -13
Hue Adjustment Magenta : 0
Saturation Adjustment Red : 0
Saturation Adjustment Orange : +11
Saturation Adjustment Yellow : +11
Saturation Adjustment Green : +11
Saturation Adjustment Aqua : +12
Saturation Adjustment Blue : +13
Saturation Adjustment Purple : 0
Saturation Adjustment Magenta : 0
Luminance Adjustment Red : 0
Luminance Adjustment Orange : 0
Luminance Adjustment Yellow : 0
Luminance Adjustment Green : 0
Luminance Adjustment Aqua : 0
Luminance Adjustment Blue : 0
Luminance Adjustment Purple : 0
Luminance Adjustment Magenta : 0
Split Toning Shadow Hue : 0
Split Toning Shadow Saturation : 0
Split Toning Highlight Hue : 0
Split Toning Highlight Saturation : 0
Split Toning Balance : 0
Parametric Shadows : -16
Parametric Darks : -8
Parametric Lights : -18
Parametric Highlights : -35
Parametric Shadow Split : 25
Parametric Midtone Split : 50
Parametric Highlight Split : 75
Sharpen Radius : +1.0
Sharpen Detail : 25
Sharpen Edge Masking : 0
Post Crop Vignette Amount : 0
Grain Amount : 0
Lens Profile Enable : 0
Lens Manual Distortion Amount : 0
Perspective Vertical : 0
Perspective Horizontal : 0
Perspective Rotate : 0.0
Perspective Scale : 100
Auto Lateral CA : 0
Exposure 2012 : 0.00
Contrast 2012 : 0
Highlights 2012 : 0
Shadows 2012 : 0
Whites 2012 : 0
Blacks 2012 : 0
Clarity 2012 : 0
Convert To Grayscale : False
Tone Curve Name : Linear
Tone Curve Name 2012 : Linear
Camera Profile : Embedded
Lens Profile Setup : LensDefaults
Has Settings : True
Has Crop : False
Already Applied : True
Tone Curve : 0, 0, 255, 255
Tone Curve Red : 0, 0, 255, 255
Tone Curve Green : 0, 0, 255, 255
Tone Curve Blue : 0, 0, 255, 255
Tone Curve PV2012 : 0, 0, 255, 255
Tone Curve PV2012 Red : 0, 0, 255, 255
Tone Curve PV2012 Green : 0, 0, 255, 255
Tone Curve PV2012 Blue : 0, 0, 255, 255
Image Width : 200
Image Height : 300
Bits Per Sample : 8
Color Components : 3
Aperture : 5.6
Image Size : 200x300
Megapixels : 0.060
Scale Factor To 35 mm Equivalent : 2.7
Shutter Speed : 1/400
Circle Of Confusion : 0.011 mm
Field Of View : 20.4 deg
Focal Length : 37.1 mm (35 mm equivalent: 100.0 mm)
Hyperfocal Distance : 22.05 m
Light Value : 13.9
Lens ID : 10.4-37.1mm f/1.8-4.9