Uber Exif Photo
Sub-location : 高根町東井出
Province-State : 山梨県
Country-Primary Location Name : 日本
Make : FUJIFILM
Camera Model Name : X-E1
Software : Adobe Photoshop Lightroom 4.4 (Macintosh)
Modify Date : 2013:08:25 16:13:42
Exposure Time : 20
F Number : 13.0
Exposure Program : Manual
ISO : 200
Sensitivity Type : Standard Output Sensitivity
Date/Time Original : 2013:08:13 10:47:24
Create Date : 2013:08:13 10:47:24
Shutter Speed Value : 20
Aperture Value : 13.0
Brightness Value : -2.65
Exposure Compensation : 0
Max Aperture Value : 2.8
Metering Mode : Multi-segment
Light Source : Unknown
Flash : Off, Did not fire
Focal Length : 20.5 mm
Sensing Method : One-chip color area
Scene Type : Directly photographed
Custom Rendered : Normal
Exposure Mode : Manual
White Balance : Auto
Focal Length In 35mm Format : 31 mm
Scene Capture Type : Standard
Sharpness : Hard
Subject Distance Range : Unknown
Lens Info : 18-55mm f/2.8-4
Lens Make : FUJIFILM
Lens Model : XF18-55mmF2.8-4 R LM OIS
Lens Serial Number : 24A73718
GPS Version ID : 2.2.0.0
GPS Latitude Ref : North
GPS Longitude Ref : East
GPS Altitude : 1251 m
Creator Tool : Adobe Photoshop Lightroom 4.4 (Macintosh)
Lens : XF18-55mmF2.8-4 R LM OIS
Date Created : 2013:08:13 10:47:24
City : 北杜市
State : 山梨県
Country : 日本
Format : image/jpeg
Location : 高根町東井出
Version : 7.4
Process Version : 6.7
Color Temperature : 4950
Tint : +52
Luminance Smoothing : 0
Color Noise Reduction : 25
Vignette Amount : 0
Shadow Tint : 0
Red Hue : 0
Red Saturation : 0
Green Hue : 0
Green Saturation : 0
Blue Hue : 0
Blue Saturation : 0
Gray Mixer Red : -9
Gray Mixer Orange : -18
Gray Mixer Yellow : -22
Gray Mixer Green : -27
Gray Mixer Aqua : -19
Gray Mixer Blue : +10
Gray Mixer Purple : +16
Gray Mixer Magenta : +5
Split Toning Shadow Hue : 0
Split Toning Shadow Saturation : 0
Split Toning Highlight Hue : 0
Split Toning Highlight Saturation : 0
Split Toning Balance : 0
Parametric Shadows : 0
Parametric Darks : 0
Parametric Lights : 0
Parametric Highlights : 0
Parametric Shadow Split : 25
Parametric Midtone Split : 50
Parametric Highlight Split : 75
Sharpen Radius : +1.0
Sharpen Detail : 25
Sharpen Edge Masking : 0
Post Crop Vignette Amount : -9
Post Crop Vignette Midpoint : 50
Post Crop Vignette Feather : 50
Post Crop Vignette Roundness : 0
Post Crop Vignette Style : Highlight Priority
Post Crop Vignette Highlight Contrast : 0
Grain Amount : 60
Grain Size : 25
Grain Frequency : 50
Color Noise Reduction Detail : 50
Lens Profile Enable : 0
Lens Manual Distortion Amount : 0
Perspective Vertical : 0
Perspective Horizontal : 0
Perspective Rotate : 0.0
Perspective Scale : 100
Auto Lateral CA : 0
Exposure 2012 : 0.00
Contrast 2012 : +15
Highlights 2012 : -50
Shadows 2012 : -30
Whites 2012 : 0
Blacks 2012 : -20
Clarity 2012 : +30
Convert To Grayscale : True
Tone Curve Name 2012 : Strong Contrast
Camera Profile : Adobe Standard
Lens Profile Setup : LensDefaults
Has Settings : True
Has Crop : False
Already Applied : True
Tone Curve PV2012 : 0, 0, 32, 16, 64, 50, 128, 128, 192, 202, 255, 255
Tone Curve PV2012 Red : 0, 0, 255, 255
Tone Curve PV2012 Green : 0, 0, 255, 255
Tone Curve PV2012 Blue : 0, 0, 255, 255
Image Width : 300
Image Height : 200
Bits Per Sample : 8
Color Components : 1
Aperture : 13.0
Image Size : 300x200
Megapixels : 0.060
Scale Factor To 35 mm Equivalent : 1.5
Shutter Speed : 20
GPS Latitude : 35 deg 54' 53.50" N
GPS Longitude : 138 deg 25' 10.92" E
Circle Of Confusion : 0.020 mm
Field Of View : 60.3 deg
Focal Length : 20.5 mm (35 mm equivalent: 31.0 mm)
GPS Position : 35 deg 54' 53.50" N, 138 deg 25' 10.92" E
Hyperfocal Distance : 1.63 m
Light Value : 2.1
Lens ID : XF18-55mm F2.8-4 R LM OIS