Uber Exif Photo
Caption-Abstract : SONY DSC
Photometric Interpretation : RGB
Image Description : SONY DSC
Make : SONY
Camera Model Name : DSLR-A850
Orientation : Horizontal (normal)
Samples Per Pixel : 3
Software : Adobe Photoshop Elements 11.0 Windows
Modify Date : 2013:08:28 21:01:37
Exposure Time : 1/320
F Number : 13.0
Exposure Program : Program AE
ISO : 200
Date/Time Original : 2012:11:19 08:53:03
Create Date : 2012:11:19 08:53:03
Shutter Speed Value : 1/320
Aperture Value : 13.0
Brightness Value : 9.37
Exposure Compensation : -0.3
Max Aperture Value : 5.6
Metering Mode : Spot
Light Source : Unknown
Flash : Off, Did not fire
Focal Length : 160.0 mm
Color Space : sRGB
Exif Image Width : 5576
Exif Image Height : 3248
Scene Type : Directly photographed
Custom Rendered : Normal
Exposure Mode : Auto
White Balance : Auto
Focal Length In 35mm Format : 160 mm
Scene Capture Type : Standard
Contrast : Normal
Saturation : Normal
Sharpness : Normal
Lens Info : 75-300mm f/4.5-5.6
Lens Model : 75-300mm F4.5-5.6
Profile Description : sRGB IEC61966-2.1
Creator Tool : Adobe Photoshop Elements 11.0 Windows
Lens : 75-300mm F4.5-5.6
Date Created : 2012:11:19
Color Mode : RGB
ICC Profile Name : sRGB IEC61966-2.1
Format : image/jpeg
Version : 7.2
Process Version : 6.7
Color Temperature : 4381
Tint : +10
Luminance Smoothing : 12
Color Noise Reduction : 25
Vignette Amount : 0
Shadow Tint : 0
Red Hue : 0
Red Saturation : 0
Green Hue : 0
Green Saturation : 0
Blue Hue : 0
Blue Saturation : 0
Vibrance : -33
Hue Adjustment Red : 0
Hue Adjustment Orange : 0
Hue Adjustment Yellow : 0
Hue Adjustment Green : 0
Hue Adjustment Aqua : 0
Hue Adjustment Blue : 0
Hue Adjustment Purple : 0
Hue Adjustment Magenta : 0
Saturation Adjustment Red : 0
Saturation Adjustment Orange : 0
Saturation Adjustment Yellow : 0
Saturation Adjustment Green : 0
Saturation Adjustment Aqua : 0
Saturation Adjustment Blue : 0
Saturation Adjustment Purple : 0
Saturation Adjustment Magenta : 0
Luminance Adjustment Red : 0
Luminance Adjustment Orange : 0
Luminance Adjustment Yellow : 0
Luminance Adjustment Green : 0
Luminance Adjustment Aqua : 0
Luminance Adjustment Blue : 0
Luminance Adjustment Purple : 0
Luminance Adjustment Magenta : 0
Split Toning Shadow Hue : 0
Split Toning Shadow Saturation : 0
Split Toning Highlight Hue : 0
Split Toning Highlight Saturation : 0
Split Toning Balance : 0
Parametric Shadows : 0
Parametric Darks : 0
Parametric Lights : +24
Parametric Highlights : +38
Parametric Shadow Split : 25
Parametric Midtone Split : 50
Parametric Highlight Split : 75
Sharpen Radius : +1.0
Sharpen Detail : 25
Sharpen Edge Masking : 0
Post Crop Vignette Amount : 0
Grain Amount : 0
Luminance Noise Reduction Detail : 50
Color Noise Reduction Detail : 50
Luminance Noise Reduction Contrast : 0
Lens Profile Enable : 1
Lens Manual Distortion Amount : 0
Perspective Vertical : 0
Perspective Horizontal : 0
Perspective Rotate : 0.0
Perspective Scale : 100
Auto Lateral CA : 0
Exposure 2012 : -1.07
Contrast 2012 : 0
Highlights 2012 : 0
Shadows 2012 : +14
Whites 2012 : 0
Blacks 2012 : 0
Clarity 2012 : +55
Defringe Purple Amount : 0
Defringe Purple Hue Lo : 30
Defringe Purple Hue Hi : 70
Defringe Green Amount : 0
Defringe Green Hue Lo : 40
Defringe Green Hue Hi : 60
Convert To Grayscale : False
Tone Curve Name 2012 : Linear
Camera Profile : Adobe Standard
Lens Profile Setup : Custom
Lens Profile Name : Adobe (Sony 50mm f/1.4)
Lens Profile Filename : DSLR-A900 (Sony 50mm f1.4) - RAW.lcp
Lens Profile Distortion Scale : 100
Lens Profile Chromatic Aberration Scale : 100
Lens Profile Vignetting Scale : 100
Has Settings : True
Crop Top : 0.146696
Crop Left : 0.001102
Crop Bottom : 0.944672
Crop Right : 0.919914
Crop Angle : -0.155514
Crop Constrain To Warp : 0
Crop Width : 5548
Crop Height : 3232
Crop Unit : pixels
Has Crop : True
Already Applied : True
Description : SONY DSC
Tone Curve PV2012 : 0, 0, 255, 255
Tone Curve PV2012 Red : 0, 0, 255, 255
Tone Curve PV2012 Green : 0, 0, 255, 255
Tone Curve PV2012 Blue : 0, 0, 255, 255
Paint Correction What : Correction
Paint Correction Amount : 1.000000
Paint Correction Active : true
Paint Correction Saturation : 0.080460
Paint Correction Sharpness : 0.219510
Paint Correction Brightness : -0.244000
Paint Correction Toning Hue : 101.000000
Paint Correction Toning Saturation : 0.000000
Paint Correction Exposure 2012 : 0.310250
Paint Correction Contrast 2012 : 0.057470
Paint Correction Highlights 2012 : 0.035290
Paint Correction Shadows 2012 : 0.034480
Paint Correction Clarity 2012 : 0.034480
Paint Correction Luminance Noise : 0.317650
Paint Correction Moire : 0.494250
Paint Correction Defringe : -0.011490
Paint Correction Temperature : 0.024390
Paint Correction Tint : 0.000000
Paint Correction Mask What : Mask/Paint
Paint Correction Mask Value : 0.809000
Paint Correction Mask Radius : 0.019904
Paint Correction Mask Flow : 0.644000
Paint Correction Mask Center Weight : 0.000000
Gradient Based Corr What : Correction
Gradient Based Corr Amount : 1.000000
Gradient Based Corr Active : true
Gradient Based Corr Saturation : 0.080460
Gradient Based Corr Sharpness : 0.219510
Gradient Based Corr Brightness : -0.244000
Gradient Based Corr Toning Hue : 101.000000
Gradient Based Corr Toning Saturation : 0.000000
Gradient Based Corr Exposure 2012 : -0.057500
Gradient Based Corr Contrast 2012 : 0.517240
Gradient Based Corr Highlights 2012 : 0.035290
Gradient Based Corr Shadows 2012 : 0.034480
Gradient Based Corr Clarity 2012 : 0.034480
Gradient Based Corr Luminance Noise : 0.317650
Gradient Based Corr Moire : 0.494250
Gradient Based Corr Defringe : -0.011490
Gradient Based Corr Temperature : -0.402300
Gradient Based Corr Tint : 0.000000
Gradient Based Corr Mask What : Mask/Gradient
Gradient Based Corr Mask Value : 1.000000
Gradient Based Corr Mask Zero X : 0.425146
Gradient Based Corr Mask Zero Y : 0.473570
Gradient Based Corr Mask Full X : 0.427542
Gradient Based Corr Mask Full Y : 0.936452
Image Width : 300
Image Height : 175
Bits Per Sample : 8
Color Components : 3
Aperture : 13.0
Image Size : 300x175
Megapixels : 0.052
Scale Factor To 35 mm Equivalent : 1.0
Shutter Speed : 1/320
Circle Of Confusion : 0.030 mm
Field Of View : 12.8 deg
Focal Length : 160.0 mm (35 mm equivalent: 160.0 mm)
Hyperfocal Distance : 65.54 m
Light Value : 14.7
Lens ID : Minolta/Sony AF 75-300mm F4.5-5.6 (D)