Uber Exif Photo
By-line : Edgaras Vaicikevicius
Copyright Notice : EdgarasV
Photometric Interpretation : RGB
Make : Canon
Camera Model Name : Canon EOS 7D
Orientation : Horizontal (normal)
Samples Per Pixel : 3
Software : Adobe Photoshop CS6 (Windows)
Modify Date : 2013:06:25 21:35:41
Artist : Edgaras Vaicikevicius
Copyright : EdgarasV
Exposure Time : 1/400
F Number : 5.0
Exposure Program : Aperture-priority AE
ISO : 100
Sensitivity Type : Recommended Exposure Index
Recommended Exposure Index : 100
Date/Time Original : 2013:06:22 08:00:40
Create Date : 2013:06:22 08:00:40
Shutter Speed Value : 1/400
Aperture Value : 5.0
Exposure Compensation : 0
Max Aperture Value : 2.8
Metering Mode : Partial
Flash : Off, Did not fire
Focal Length : 46.0 mm
Color Space : Uncalibrated
Exif Image Width : 2048
Exif Image Height : 1448
Custom Rendered : Normal
Exposure Mode : Auto
White Balance : Auto
Scene Capture Type : Standard
Serial Number : 3881502858
Lens Info : 17-50mm f/?
Lens Model : 17-50mm
Rating : 0
Creator Tool : Adobe Photoshop CS6 (Windows)
Format : image/jpeg
Lens : 17-50mm
Image Number : 0
Flash Compensation : 0
Firmware : 2.0.3
Date Created : 2013:06:22 08:00:40.079
Color Mode : RGB
ICC Profile Name : Adobe RGB (1998)
Raw File Name : _MG_0874.CR2
Version : 8.1
Process Version : 6.7
Color Temperature : 4850
Tint : +14
Saturation : 0
Sharpness : 25
Luminance Smoothing : 0
Color Noise Reduction : 25
Vignette Amount : 0
Shadow Tint : 0
Red Hue : 0
Red Saturation : 0
Green Hue : 0
Green Saturation : 0
Blue Hue : 0
Blue Saturation : 0
Vibrance : 0
Hue Adjustment Red : 0
Hue Adjustment Orange : 0
Hue Adjustment Yellow : 0
Hue Adjustment Green : 0
Hue Adjustment Aqua : 0
Hue Adjustment Blue : 0
Hue Adjustment Purple : 0
Hue Adjustment Magenta : 0
Saturation Adjustment Red : 0
Saturation Adjustment Orange : 0
Saturation Adjustment Yellow : 0
Saturation Adjustment Green : 0
Saturation Adjustment Aqua : 0
Saturation Adjustment Blue : 0
Saturation Adjustment Purple : 0
Saturation Adjustment Magenta : 0
Luminance Adjustment Red : 0
Luminance Adjustment Orange : 0
Luminance Adjustment Yellow : 0
Luminance Adjustment Green : 0
Luminance Adjustment Aqua : 0
Luminance Adjustment Blue : 0
Luminance Adjustment Purple : 0
Luminance Adjustment Magenta : 0
Split Toning Shadow Hue : 0
Split Toning Shadow Saturation : 0
Split Toning Highlight Hue : 0
Split Toning Highlight Saturation : 0
Split Toning Balance : 0
Parametric Shadows : 0
Parametric Darks : 0
Parametric Lights : 0
Parametric Highlights : 0
Parametric Shadow Split : 25
Parametric Midtone Split : 50
Parametric Highlight Split : 75
Sharpen Radius : +1.0
Sharpen Detail : 25
Sharpen Edge Masking : 0
Post Crop Vignette Amount : 0
Grain Amount : 0
Color Noise Reduction Detail : 50
Lens Profile Enable : 0
Lens Manual Distortion Amount : 0
Perspective Vertical : 0
Perspective Horizontal : 0
Perspective Rotate : 0.0
Perspective Scale : 100
Perspective Aspect : 0
Perspective Upright : Auto
Auto Lateral CA : 0
Exposure 2012 : 0.00
Contrast 2012 : +8
Highlights 2012 : 0
Shadows 2012 : -13
Whites 2012 : +13
Blacks 2012 : +3
Clarity 2012 : +84
Defringe Purple Amount : 0
Defringe Purple Hue Lo : 30
Defringe Purple Hue Hi : 70
Defringe Green Amount : 0
Defringe Green Hue Lo : 40
Defringe Green Hue Hi : 60
Convert To Grayscale : False
Tone Curve Name 2012 : Linear
Camera Profile : Adobe Standard
Lens Profile Setup : LensDefaults
Has Settings : True
Has Crop : False
Already Applied : True
Creator : Edgaras Vaicikevicius
Rights : EdgarasV
Tone Curve PV2012 : 0, 0, 255, 255
Tone Curve PV2012 Red : 0, 0, 255, 255
Tone Curve PV2012 Green : 0, 0, 255, 255
Tone Curve PV2012 Blue : 0, 0, 255, 255
Image Width : 300
Image Height : 212
Bits Per Sample : 8
Color Components : 1
Aperture : 5.0
Image Size : 300x212
Megapixels : 0.064
Scale Factor To 35 mm Equivalent : 1.6
Shutter Speed : 1/400
Create Date : 2013:06:22 08:00:40.79
Date/Time Original : 2013:06:22 08:00:40.79
Modify Date : 2013:06:25 21:35:41.79
Circle Of Confusion : 0.019 mm
Field Of View : 28.0 deg
Focal Length : 46.0 mm (35 mm equivalent: 72.2 mm)
Hyperfocal Distance : 22.12 m
Light Value : 13.3
Lens ID : Tamron AF 17-50mm f/2.8 Di-II LD Aspherical