Uber Exif Photo
Sub-location : Innenstadt
Province-State : Hesse
Country-Primary Location Name : Germany
Photometric Interpretation : RGB
Make : SONY
Camera Model Name : SLT-A99V
Orientation : Horizontal (normal)
Samples Per Pixel : 3
Software : Adobe Photoshop CS6 (Windows)
Modify Date : 2013:09:16 15:39:19
Exposure Time : 1/13
F Number : 2.8
Exposure Program : Aperture-priority AE
ISO : 1600
Sensitivity Type : Recommended Exposure Index
Recommended Exposure Index : 1600
Date/Time Original : 2013:08:19 20:10:19
Create Date : 2013:08:19 20:10:19
Shutter Speed Value : 1/13
Aperture Value : 2.8
Brightness Value : -2.38125
Exposure Compensation : +0.3
Max Aperture Value : 2.8
Metering Mode : Multi-segment
Light Source : Unknown
Flash : Off, Did not fire
Focal Length : 75.0 mm
Color Space : Uncalibrated
Exif Image Width : 3000
Exif Image Height : 1812
Scene Type : Directly photographed
Custom Rendered : Normal
Exposure Mode : Auto
White Balance : Auto
Digital Zoom Ratio : 1
Focal Length In 35mm Format : 75 mm
Scene Capture Type : Standard
Contrast : Low
Saturation : Normal
Sharpness : Normal
Lens Info : 28-75mm f/2.8
Lens Model : 28-75mm F2.8 SAM
GPS Version ID : 2.3.0.0
GPS Latitude Ref : North
GPS Longitude Ref : East
GPS Altitude Ref : Above Sea Level
GPS Time Stamp : 19:10:20
GPS Status : Measurement Active
GPS Measure Mode : 3-Dimensional Measurement
GPS Dilution Of Precision : 2.146
GPS Speed Ref : km/h
GPS Speed : 0.09
GPS Track Ref : True North
GPS Track : 299.26
GPS Map Datum : WGS-84
GPS Date Stamp : 2013:08:19
GPS Differential : No Correction
Creator Tool : Adobe Photoshop Lightroom 5.0 (Windows)
Lens : 28-75mm F2.8 SAM
Date Created : 2013:08:19 20:10:19
City : Frankfurt
State : Hesse
Country : Germany
Color Mode : Grayscale
ICC Profile Name : Dot Gain 20%
Location : Innenstadt
Version : 8.1
Process Version : 6.7
Color Temperature : 5350
Tint : -20
Luminance Smoothing : 0
Color Noise Reduction : 25
Vignette Amount : 0
Shadow Tint : 0
Red Hue : 0
Red Saturation : 0
Green Hue : 0
Green Saturation : 0
Blue Hue : 0
Blue Saturation : 0
Vibrance : +15
Hue Adjustment Red : 0
Hue Adjustment Orange : 0
Hue Adjustment Yellow : 0
Hue Adjustment Green : 0
Hue Adjustment Aqua : 0
Hue Adjustment Blue : 0
Hue Adjustment Purple : 0
Hue Adjustment Magenta : 0
Saturation Adjustment Red : 0
Saturation Adjustment Orange : 0
Saturation Adjustment Yellow : 0
Saturation Adjustment Green : 0
Saturation Adjustment Aqua : 0
Saturation Adjustment Blue : 0
Saturation Adjustment Purple : 0
Saturation Adjustment Magenta : 0
Luminance Adjustment Red : 0
Luminance Adjustment Orange : 0
Luminance Adjustment Yellow : 0
Luminance Adjustment Green : 0
Luminance Adjustment Aqua : 0
Luminance Adjustment Blue : 0
Luminance Adjustment Purple : 0
Luminance Adjustment Magenta : 0
Split Toning Shadow Hue : 0
Split Toning Shadow Saturation : 0
Split Toning Highlight Hue : 0
Split Toning Highlight Saturation : 0
Split Toning Balance : 0
Parametric Shadows : 0
Parametric Darks : 0
Parametric Lights : 0
Parametric Highlights : 0
Parametric Shadow Split : 25
Parametric Midtone Split : 50
Parametric Highlight Split : 75
Sharpen Radius : +1.0
Sharpen Detail : 25
Sharpen Edge Masking : 0
Post Crop Vignette Amount : 0
Grain Amount : 0
Color Noise Reduction Detail : 50
Lens Profile Enable : 1
Lens Manual Distortion Amount : 0
Perspective Vertical : 0
Perspective Horizontal : 0
Perspective Rotate : 0.0
Perspective Scale : 100
Perspective Aspect : 0
Perspective Upright : Off
Auto Lateral CA : 1
Exposure 2012 : +0.80
Contrast 2012 : +25
Highlights 2012 : 0
Shadows 2012 : 0
Whites 2012 : 0
Blacks 2012 : -29
Clarity 2012 : +15
Defringe Purple Amount : 0
Defringe Purple Hue Lo : 30
Defringe Purple Hue Hi : 70
Defringe Green Amount : 0
Defringe Green Hue Lo : 40
Defringe Green Hue Hi : 60
Convert To Grayscale : False
Tone Curve Name 2012 : Linear
Camera Profile : Adobe Standard
Lens Profile Setup : Auto
Lens Profile Name : SLT-A99V - 28-75mm F2.8 SAM
Lens Profile Filename : SLT-A99V (28-75mm F2.8 SAM) - RAW.lcp
Lens Profile Distortion Scale : 100
Lens Profile Chromatic Aberration Scale : 100
Lens Profile Vignetting Scale : 100
Has Settings : True
Has Crop : False
Already Applied : True
Format : image/jpeg
Tone Curve PV2012 : 0, 0, 255, 255
Tone Curve PV2012 Red : 0, 0, 255, 255
Tone Curve PV2012 Green : 0, 0, 255, 255
Tone Curve PV2012 Blue : 0, 0, 255, 255
Image Width : 300
Image Height : 181
Bits Per Sample : 8
Color Components : 1
Aperture : 2.8
Image Size : 300x181
Megapixels : 0.054
Scale Factor To 35 mm Equivalent : 1.0
Shutter Speed : 1/13
GPS Altitude : 144.1 m Above Sea Level
GPS Date/Time : 2013:08:19 19:10:20Z
GPS Latitude : 50 deg 6' 35.45" N
GPS Longitude : 8 deg 40' 55.34" E
Circle Of Confusion : 0.030 mm
Field Of View : 27.0 deg
Focal Length : 75.0 mm (35 mm equivalent: 75.0 mm)
GPS Position : 50 deg 6' 35.45" N, 8 deg 40' 55.34" E
Hyperfocal Distance : 66.86 m
Light Value : 2.7
Lens ID : Sony 28-75mm F2.8 SAM (SAL2875)