Uber Exif Photo
Copyright Notice : dierk topp
Copyright Flag : True
Make : Leica Camera AG
Camera Model Name : M9 Digital Camera
Software : 1.116
Modify Date : 2010:10:20 15:07:29
Copyright : dierk topp
Exposure Time : 1/2000
F Number : 1.4
Exposure Program : Aperture-priority AE
ISO : 160
Date/Time Original : 2010:10:07 12:21:17
Create Date : 2010:10:07 12:21:17
Shutter Speed Value : 1/2000
Aperture Value : 1.4
Exposure Compensation : 0
Max Aperture Value : 1.0
Metering Mode : Center-weighted average
Light Source : Unknown
Focal Length : 50.0 mm
Contrast : Normal
Sharpening : Normal
Saturation : Normal
JPEG Quality : Fine
White Balance : Auto
WB RGB Levels : 0.4357910416 1 0.8020364206
User Profile : Z21
JPEG Size : 5216x3472
Serial Number : 3834236
Firmware Version : 1.116
Base ISO : 160
Sensor Width : 5270
Sensor Height : 3516
Sensor Bit Depth : 14
Camera Temperature : 21 C
Lens Type : Noctilux-M 50mm f/0.95 ASPH.
Approximate F Number : 1.0
Measured LV : 6.64
External Sensor Brightness Value : 3.89
Color Space : Uncalibrated
Scene Type : Directly photographed
Exposure Mode : Manual
Digital Zoom Ratio : 0
Focal Length In 35mm Format : 50 mm
Scene Capture Type : Standard
Maker Note Safety : Safe
Lens : Noctilux-M 50mm f/0.95 ASPH.
Rights : dierk topp
Date/Time Digitized : 2010:10:07 12:21:17+01:00
Flash Fired : False
Flash Function : False
Flash Mode : Unknown
Flash Red Eye Mode : False
Flash Return : No return detection
Exif Image Width : 1100
Exif Image Height : 740
Sharpness : Hard
Property Release Status : Unknown (nil)
PLUS Version : 1.2.0
Creator Tool : Adobe Photoshop Lightroom
Rating : 5
Marked : True
Already Applied : True
Blue Hue : 0
Blue Saturation : 0
Brightness : +32
Camera Profile : Adobe Standard
Chromatic Aberration B : 0
Chromatic Aberration R : 0
Clarity : +11
Color Noise Reduction : 25
Convert To Grayscale : True
Crop Angle : 0
Crop Bottom : 1
Crop Height : 740
Crop Left : 0.011148
Crop Right : 1
Crop Top : 0
Crop Unit : pixels
Crop Width : 1100
Defringe : 0
Exposure : +1.25
Fill Light : 6
Gray Mixer Aqua : -12
Gray Mixer Blue : +1
Gray Mixer Green : -25
Gray Mixer Magenta : +4
Gray Mixer Orange : -17
Gray Mixer Purple : +14
Gray Mixer Red : -9
Gray Mixer Yellow : -19
Green Hue : 0
Green Saturation : 0
Has Crop : True
Has Settings : True
Highlight Recovery : 0
Luminance Smoothing : 0
Parametric Darks : 0
Parametric Highlight Split : 75
Parametric Highlights : 0
Parametric Lights : 0
Parametric Midtone Split : 50
Parametric Shadow Split : 25
Parametric Shadows : 0
Post Crop Vignette Amount : -19
Post Crop Vignette Feather : 50
Post Crop Vignette Midpoint : 50
Post Crop Vignette Roundness : 0
Red Hue : 0
Red Saturation : 0
Shadow Tint : 0
Shadows : 17
Sharpen Detail : 38
Sharpen Edge Masking : 0
Sharpen Radius : +1.0
Split Toning Balance : 0
Split Toning Highlight Hue : 0
Split Toning Highlight Saturation : 0
Split Toning Shadow Hue : 0
Split Toning Shadow Saturation : 0
Color Temperature : 5350
Tint : +7
Tone Curve : 0, 0, 32, 22, 64, 56, 128, 128, 192, 196, 255, 255
Tone Curve Name : Medium Contrast
Version : 6.1
Vignette Amount : 0
Image Width : 300
Image Height : 208
Bits Per Sample : 8
Color Components : 1
Aperture : 1.4
Blue Balance : 0.802036
Image Size : 300x208
Lens ID : Noctilux-M 50mm f/0.95 ASPH.
Megapixels : 0.062
Red Balance : 0.435791
Scale Factor To 35 mm Equivalent : 1.0
Shutter Speed : 1/2000
Flash : No Flash
Circle Of Confusion : 0.030 mm
Field Of View : 39.6 deg
Focal Length : 50.0 mm (35 mm equivalent: 50.0 mm)
Hyperfocal Distance : 59.43 m
Light Value : 11.3