Uber Exif Photo
Keywords : kohl
Sub-location : La Palma
Copyright Notice : Dierk Topp
Copyright Flag : True
URL : www.lapalmagaleria.info
Make : Leica Camera AG
Camera Model Name : M9 Digital Camera
Software : 1.002
Modify Date : 2010:10:24 14:27:29
Copyright : Dierk Topp
Exposure Time : 8
F Number : 4.0
Exposure Program : Manual
ISO : 160
Date/Time Original : 2010:02:07 21:05:19
Create Date : 2010:02:07 21:05:19
Shutter Speed Value : 8
Aperture Value : 4.0
Exposure Compensation : +1
Max Aperture Value : 4.0
Metering Mode : Center-weighted average
Light Source : Unknown
Focal Length : 90.0 mm
Contrast : Normal
Sharpening : Normal
Saturation : Normal
JPEG Quality : Fine
White Balance : Auto
WB RGB Levels : 0.6030402297 1 0.5830190022
User Profile : CV35
Serial Number : *******
Firmware Version : 1.002
Base ISO : 160
Sensor Width : 5270
Sensor Height : 3516
Sensor Bit Depth : 14
Camera Temperature : 20 C
Lens Type : Macro-Elmar-M 90mm f/4
Approximate F Number : 4.0
Measured LV : -3.57
External Sensor Brightness Value : -2.43
Color Space : Uncalibrated
Scene Type : Directly photographed
Exposure Mode : Manual
Digital Zoom Ratio : 0
Focal Length In 35mm Format : 90 mm
Scene Capture Type : Standard
Maker Note Safety : Safe
Location : La Palma
Lens : Leica Macro-Elmar-M 90mm f/4
Rights : Dierk Topp
Subject : kohl
Date/Time Digitized : 2010:02:07 21:05:19Z
Flash Fired : False
Flash Function : False
Flash Mode : Unknown
Flash Red Eye Mode : False
Flash Return : No return detection
Exif Image Width : 1055
Exif Image Height : 800
Sharpness : Hard
Creator Tool : Adobe Photoshop Lightroom
Rating : 5
Marked : True
Web Statement : www.lapalmagaleria.info
Already Applied : True
Blue Hue : 0
Blue Saturation : 0
Brightness : +104
Camera Profile : Adobe Standard
Chromatic Aberration B : 0
Chromatic Aberration R : 0
Clarity : +67
Color Noise Reduction : 25
Convert To Grayscale : True
Crop Angle : 0
Crop Bottom : 1
Crop Height : 800
Crop Left : 0.057142
Crop Right : 0.934391
Crop Top : 0
Crop Unit : pixels
Crop Width : 1055
Defringe : 0
Exposure : 0.00
Fill Light : 10
Gray Mixer Aqua : -21
Gray Mixer Blue : -4
Gray Mixer Green : -19
Gray Mixer Magenta : +5
Gray Mixer Orange : -1
Gray Mixer Purple : +5
Gray Mixer Red : +3
Gray Mixer Yellow : 0
Green Hue : 0
Green Saturation : 0
Has Crop : True
Has Settings : True
Highlight Recovery : 23
Luminance Smoothing : 0
Parametric Darks : 0
Parametric Highlight Split : 75
Parametric Highlights : 0
Parametric Lights : 0
Parametric Midtone Split : 50
Parametric Shadow Split : 25
Parametric Shadows : 0
Post Crop Vignette Amount : -43
Post Crop Vignette Feather : 69
Post Crop Vignette Midpoint : 50
Post Crop Vignette Roundness : 0
Red Hue : 0
Red Saturation : 0
Shadow Tint : 0
Shadows : 10
Sharpen Detail : 50
Sharpen Edge Masking : 55
Sharpen Radius : +0.8
Split Toning Balance : 0
Split Toning Highlight Hue : 0
Split Toning Highlight Saturation : 0
Split Toning Shadow Hue : 0
Split Toning Shadow Saturation : 0
Color Temperature : 3100
Tint : -7
Tone Curve : 0, 0, 32, 22, 64, 56, 128, 128, 192, 196, 255, 255
Tone Curve Name : Medium Contrast
Version : 6.1
Vignette Amount : 0
Image Width : 300
Image Height : 232
Bits Per Sample : 8
Color Components : 1
Aperture : 4.0
Blue Balance : 0.583019
Image Size : 300x232
Lens ID : Macro-Elmar-M 90mm f/4
Megapixels : 0.070
Red Balance : 0.60304
Scale Factor To 35 mm Equivalent : 1.0
Shutter Speed : 8
Flash : No Flash
Circle Of Confusion : 0.030 mm
Field Of View : 22.6 deg
Focal Length : 90.0 mm (35 mm equivalent: 90.0 mm)
Hyperfocal Distance : 67.40 m
Light Value : 0.3