Uber Exif Photo
Copyright Notice : dierk topp
Copyright Flag : True
Software : Microsoft ICE v1.3.5.0
Modify Date : 2010:10:26 21:20:26
Copyright : dierk topp
Date/Time Original : 2010:10:05 11:06:10
Create Date : 2010:10:05 11:06:10
Color Space : Uncalibrated
Rights : dierk topp
Contrast : High
Date/Time Digitized : 2010:10:05 11:06:10+01:00
Exif Image Width : 983
Exif Image Height : 1000
Sharpness : Hard
Property Release Status : Unknown (nil)
PLUS Version : 1.2.0
Creator Tool : Adobe Photoshop Lightroom
Rating : 5
Marked : True
Already Applied : True
Blue Hue : 0
Blue Saturation : 0
Brightness : +114
Camera Profile : Embedded
Chromatic Aberration B : 0
Chromatic Aberration R : 0
Clarity : +29
Color Noise Reduction : 0
Convert To Grayscale : True
Crop Angle : 0
Crop Bottom : 0.961957
Crop Height : 1000
Crop Left : 0.025621
Crop Right : 0.974379
Crop Top : 0.013198
Crop Unit : pixels
Crop Width : 983
Defringe : 0
Exposure : 0.00
Fill Light : 13
Gray Mixer Aqua : +93
Gray Mixer Blue : -58
Gray Mixer Green : -28
Gray Mixer Magenta : +4
Gray Mixer Orange : -91
Gray Mixer Purple : +17
Gray Mixer Red : -54
Gray Mixer Yellow : -25
Green Hue : 0
Green Saturation : 0
Has Crop : True
Has Settings : True
Highlight Recovery : 0
Incremental Temperature : 0
Incremental Tint : 0
Luminance Smoothing : 0
Parametric Darks : 0
Parametric Highlight Split : 75
Parametric Highlights : 0
Parametric Lights : 0
Parametric Midtone Split : 50
Parametric Shadow Split : 25
Parametric Shadows : 0
Post Crop Vignette Amount : -14
Post Crop Vignette Feather : 50
Post Crop Vignette Midpoint : 50
Post Crop Vignette Roundness : 0
Red Hue : 0
Red Saturation : 0
Shadow Tint : 0
Shadows : 6
Sharpen Detail : 25
Sharpen Edge Masking : 0
Sharpen Radius : +1.0
Split Toning Balance : 0
Split Toning Highlight Hue : 0
Split Toning Highlight Saturation : 0
Split Toning Shadow Hue : 0
Split Toning Shadow Saturation : 0
Tone Curve : 0, 0, 255, 255
Tone Curve Name : Linear
Version : 6.1
Vignette Amount : 0
Image Width : 295
Image Height : 300
Bits Per Sample : 8
Color Components : 1
Image Size : 295x300
Megapixels : 0.088