Uber Exif Photo
Keywords : Sigma DP1
Photometric Interpretation : RGB
Make : Leica Camera AG
Camera Model Name : M8 Digital Camera
Orientation : Horizontal (normal)
Planar Configuration : Chunky
Software : Adobe Photoshop CS4 Macintosh
Modify Date : 2010:11:02 18:08:30
Exposure Time : 1/45
Exposure Program : Aperture-priority AE
ISO : 160
Date/Time Original : 2009:08:23 13:22:01
Create Date : 2009:08:23 13:22:01
Shutter Speed Value : 1/45
Exposure Compensation : -0.332
Max Aperture Value : 2.8
Metering Mode : Center-weighted average
Light Source : Flash
Focal Length : 28.0 mm
Color Space : Uncalibrated
Exif Image Width : 1600
Exif Image Height : 1207
Scene Type : Directly photographed
White Balance : Auto
Digital Zoom Ratio : 0
Focal Length In 35mm Format : 38 mm
Scene Capture Type : Standard
Profile Description : Adobe RGB (1998)
Samples Per Pixel : 3
Date/Time Digitized : 2009:08:23 13:22:01+01:00
Creator Tool : Adobe Photoshop Lightroom
Serial Number : 3560473
Format : image/jpeg
Version : 5.4
Color Temperature : 6500
Tint : +12
Exposure : -0.38
Shadows : 18
Brightness : +57
Contrast : +45
Sharpness : 120
Luminance Smoothing : 0
Color Noise Reduction : 25
Chromatic Aberration R : 0
Chromatic Aberration B : 0
Vignette Amount : 0
Shadow Tint : 0
Red Hue : 0
Red Saturation : 0
Green Hue : 0
Green Saturation : 0
Blue Hue : 0
Blue Saturation : 0
Fill Light : 0
Highlight Recovery : 19
Clarity : 0
Defringe : 0
Gray Mixer Red : -8
Gray Mixer Orange : -17
Gray Mixer Yellow : -21
Gray Mixer Green : -26
Gray Mixer Aqua : -18
Gray Mixer Blue : +9
Gray Mixer Purple : +15
Gray Mixer Magenta : +5
Split Toning Shadow Hue : 0
Split Toning Shadow Saturation : 14
Split Toning Highlight Hue : 0
Split Toning Highlight Saturation : 12
Split Toning Balance : 0
Parametric Shadows : 0
Parametric Darks : -5
Parametric Lights : +20
Parametric Highlights : 0
Parametric Shadow Split : 25
Parametric Midtone Split : 50
Parametric Highlight Split : 75
Sharpen Radius : +1.0
Sharpen Detail : 25
Sharpen Edge Masking : 0
Post Crop Vignette Amount : 0
Convert To Grayscale : True
Tone Curve Name : Medium Contrast
Camera Profile : Adobe Standard
Has Settings : True
Crop Top : 0.079922
Crop Left : 0.150459
Crop Bottom : 0.885197
Crop Right : 0.841628
Crop Angle : 1.35746
Crop Width : 2756
Crop Height : 2057
Crop Unit : pixels
Has Crop : True
Already Applied : True
Color Mode : RGB
ICC Profile Name : Adobe RGB (1998)
Flash Fired : True
Flash Return : Return detected
Flash Mode : Auto
Flash Function : True
Flash Red Eye Mode : False
Subject : Sigma DP1
Tone Curve : 0, 0, 32, 22, 64, 56, 128, 128, 192, 196, 255, 255
Image Width : 300
Image Height : 226
Bits Per Sample : 8
Color Components : 3
Image Size : 300x226
Megapixels : 0.068
Scale Factor To 35 mm Equivalent : 1.4
Shutter Speed : 1/45
Flash : Unknown (0x3f)
Circle Of Confusion : 0.022 mm
Field Of View : 50.7 deg
Focal Length : 28.0 mm (35 mm equivalent: 38.0 mm)